- Раздел: Животные
- Дата съёмки: 04.01.2012 23:25
- Дата загрузки фото: 05.01.2012 01:39
- Оригинальная фотография: 800 x 533 (413 Кб)
- Технические характеристики:
- Фотоаппарат: Canon EOS 5D Mark II
- Выдержка: 1/160
- Гиперфокальное расстояние: inf m
- Диафрагма: 4,0
- Светочувствительность: 4000
- Фокусное расстояние: 84,0 mm (35 mm equivalent: 504,0 mm)
- Полный EXIF
- Adobe
- ColorTransform: YCbCr
- Composite
- Aperture: 4,0
- CircleOfConfusion: 0,004 mm
- DOF: inf (0,00 m - inf)
- FOV: 4,0 deg
- FocalLength35efl: 84,0 mm (35 mm equivalent: 504,0 mm)
- HyperfocalDistance: inf m
- ScaleFactor35efl: 6,9
- ShutterSpeed: 1/160
- ExifIFD
- ApertureValue: 4,0
- ColorSpace: sRGB
- CreateDate: 2012:01:04 23:25:04
- CustomRendered: Normal
- DateTimeOriginal: 2012:01:04 23:25:04
- ExifImageHeight: 533
- ExifImageWidth: 800
- ExposureCompensation: 0
- ExposureMode: Manual
- ExposureProgram: Manual
- ExposureTime: 1/160
- FNumber: 4,0
- Flash: Off, Did not fire
- FocalLength: 84,0 mm
- ISO: 4000
- MaxApertureValue: 4,0
- MeteringMode: Multi-segment
- SceneCaptureType: Standard
- ShutterSpeedValue: 1/160
- SubjectDistance: 1,21 m
- WhiteBalance: Auto
- ICC-header
- ICC-meas
- ICC-view
- IFD0
- Make: Canon
- Model: Canon EOS 5D Mark II
- ModifyDate: 2012:01:05 00:50:24
- Orientation: Horizontal (normal)
- IFD1
- IPTC
- System
- XMP-aux
- Firmware: 2.0.7
- FlashCompensation: 0
- ImageNumber: 0
- Lens: EF70-200mm f/4L USM
- LensID: 186
- LensInfo: 70-200mm f/?
- SerialNumber: 2421404618
- XMP-crs
- AlreadyApplied: True
- BlueHue: 0
- BlueSaturation: 0
- Brightness: +50
- ChromaticAberrationB: 0
- ChromaticAberrationR: 0
- Clarity: +27
- ColorNoiseReduction: 0
- Contrast: +45
- ConvertToGrayscale: False
- CropAngle: 0
- CropBottom: 1
- CropLeft: 0
- CropRight: 0.793922
- CropTop: 0.206078
- Defringe: 0
- Exposure: +0.05
- FillLight: 0
- GrainAmount: 0
- GreenHue: 0
- GreenSaturation: 0
- HasCrop: True
- HasSettings: True
- HighlightRecovery: 5
- HueAdjustmentAqua: 0
- HueAdjustmentBlue: 0
- HueAdjustmentGreen: 0
- HueAdjustmentMagenta: 0
- HueAdjustmentOrange: 0
- HueAdjustmentPurple: 0
- HueAdjustmentRed: 0
- HueAdjustmentYellow: 0
- LuminanceAdjustmentAqua: +100
- LuminanceAdjustmentBlue: +100
- LuminanceAdjustmentGreen: +100
- LuminanceAdjustmentMagenta: 0
- LuminanceAdjustmentOrange: 0
- LuminanceAdjustmentPurple: 0
- LuminanceAdjustmentRed: 0
- LuminanceAdjustmentYellow: +29
- LuminanceSmoothing: 0
- ParametricDarks: 0
- ParametricHighlightSplit: 75
- ParametricHighlights: 0
- ParametricLights: 0
- ParametricMidtoneSplit: 50
- ParametricShadowSplit: 25
- ParametricShadows: 0
- PostCropVignetteAmount: 0
- ProcessVersion: 5.0
- RawFileName: IMG_5183.CR2
- RedHue: 0
- RedSaturation: 0
- Saturation: -7
- SaturationAdjustmentAqua: -23
- SaturationAdjustmentBlue: -16
- SaturationAdjustmentGreen: 0
- SaturationAdjustmentMagenta: 0
- SaturationAdjustmentOrange: +12
- SaturationAdjustmentPurple: 0
- SaturationAdjustmentRed: -61
- SaturationAdjustmentYellow: +45
- ShadowTint: 0
- Shadows: 7
- SharpenDetail: 0
- SharpenEdgeMasking: 0
- SharpenRadius: +0.5
- Sharpness: 0
- SplitToningBalance: 0
- SplitToningHighlightHue: 0
- SplitToningHighlightSaturation: 0
- SplitToningShadowHue: 0
- SplitToningShadowSaturation: 0
- Temperature: 6100
- Tint: -13
- ToneCurve: 0, 0, 32, 22, 64, 56, 128, 128, 192, 196, 255, 255
- ToneCurveName: Medium Contrast
- Version: 5.7
- Vibrance: +18
- VignetteAmount: 0
- WhiteBalance: As Shot
- XMP-dc
- XMP-exif
- DateTimeDigitized: 2012:01:04 23:25:04.28+03:00
- DateTimeOriginal: 2012:01:04 23:25:04.28+03:00
- FlashFired: False
- FlashFunction: False
- FlashMode: Off
- FlashRedEyeMode: False
- FlashReturn: No return detection
- XMP-tiff
- XMP-xmp
- CreateDate: 2012:01:04 23:25:04.28+03:00
- ModifyDate: 2012:01:05 00:50:24+03:00
- Rating: 0
- XMP-xmpMM