- Раздел: Город
- Дата съёмки: 16.02.2012 13:38
- Дата загрузки фото: 17.02.2012 15:50
- Оригинальная фотография: 1950 x 1295 (304 Кб)
- Технические характеристики:
- Фотоаппарат: Nikon D5000
- Выдержка: 1/400
- Гиперфокальное расстояние: inf m
- Диафрагма: 4,5
- Светочувствительность: 100
- Фокусное расстояние: 86,0 mm (35 mm equivalent: 86,0 mm)
- Полный EXIF
- Adobe
- ColorTransform: YCbCr
- Composite
- Aperture: 4,5
- CircleOfConfusion: 0,020 mm
- FOV: 23,0 deg
- FocalLength35efl: 86,0 mm (35 mm equivalent: 86,0 mm)
- HyperfocalDistance: inf m
- ScaleFactor35efl: 1,5
- ShutterSpeed: 1/400
- ExifIFD
- ApertureValue: 4,5
- CFAPattern: [Green,Blue][Red,Green]
- ColorSpace: sRGB
- Contrast: Normal
- CreateDate: 2012:02:16 13:38:12
- CustomRendered: Normal
- DateTimeOriginal: 2012:02:16 13:38:12
- DigitalZoomRatio: 1
- ExifImageHeight: 1295
- ExifImageWidth: 1950
- ExposureCompensation: 0
- ExposureMode: Auto
- ExposureProgram: Aperture-priority AE
- ExposureTime: 1/400
- FNumber: 4,5
- Flash: No Flash
- FocalLength: 86,0 mm
- FocalLengthIn35mmFormat: 129 mm
- GainControl: None
- ISO: 100
- LensInfo: 55-300mm f/4.5-5.6
- LensModel: 55.0-300.0 mm f/4.5-5.6
- LightSource: Unknown
- MaxApertureValue: 4,6
- MeteringMode: Multi-segment
- Saturation: Normal
- SceneCaptureType: Landscape
- SceneType: Directly photographed
- SensingMethod: One-chip color area
- SerialNumber: 9093834
- Sharpness: Normal
- ShutterSpeedValue: 1/400
- SubjectDistanceRange: Unknown
- WhiteBalance: Auto
- ICC-header
- ICC-meas
- ICC-view
- IFD0
- Make: NIKON CORPORATION
- Model: NIKON D5000
- ModifyDate: 2012:02:16 14:16:13
- Orientation: Horizontal (normal)
- IFD1
- IPTC
- DateCreated: 2012:02:16
- System
- XMP-aux
- ApproximateFocusDistance: 4,47
- ImageNumber: 9090
- Lens: 55.0-300.0 mm f/4.5-5.6
- LensID: 172
- XMP-crs
- AlreadyApplied: True
- Blacks2012: -27
- BlueHue: 0
- BlueSaturation: 0
- CameraProfile: Camera Neutral
- ChromaticAberrationB: 0
- ChromaticAberrationR: 0
- Clarity2012: -8
- ColorNoiseReduction: 25
- ColorNoiseReductionDetail: 50
- Contrast2012: +38
- ConvertToGrayscale: False
- Defringe: 0
- Exposure2012: +0.40
- GrainAmount: 0
- GreenHue: 0
- GreenSaturation: 0
- HasCrop: False
- HasSettings: True
- Highlights2012: -53
- HueAdjustmentAqua: 0
- HueAdjustmentBlue: 0
- HueAdjustmentGreen: 0
- HueAdjustmentMagenta: 0
- HueAdjustmentOrange: 0
- HueAdjustmentPurple: 0
- HueAdjustmentRed: 0
- HueAdjustmentYellow: 0
- LensManualDistortionAmount: 0
- LensProfileEnable: 0
- LensProfileSetup: LensDefaults
- LuminanceAdjustmentAqua: 0
- LuminanceAdjustmentBlue: 0
- LuminanceAdjustmentGreen: 0
- LuminanceAdjustmentMagenta: 0
- LuminanceAdjustmentOrange: 0
- LuminanceAdjustmentPurple: 0
- LuminanceAdjustmentRed: 0
- LuminanceAdjustmentYellow: 0
- LuminanceNoiseReductionContrast: 53
- LuminanceNoiseReductionDetail: 85
- LuminanceSmoothing: 30
- ParametricDarks: 0
- ParametricHighlightSplit: 75
- ParametricHighlights: 0
- ParametricLights: 0
- ParametricMidtoneSplit: 50
- ParametricShadowSplit: 25
- ParametricShadows: 0
- PerspectiveHorizontal: 0
- PerspectiveRotate: 0.0
- PerspectiveScale: 100
- PerspectiveVertical: 0
- PostCropVignetteAmount: 0
- ProcessVersion: 6.6
- RawFileName: _DSC7756.NEF
- RedHue: 0
- RedSaturation: 0
- Saturation: 0
- SaturationAdjustmentAqua: 0
- SaturationAdjustmentBlue: 0
- SaturationAdjustmentGreen: +31
- SaturationAdjustmentMagenta: 0
- SaturationAdjustmentOrange: 0
- SaturationAdjustmentPurple: 0
- SaturationAdjustmentRed: 0
- SaturationAdjustmentYellow: 0
- ShadowTint: 0
- Shadows2012: +18
- SharpenDetail: 25
- SharpenEdgeMasking: 21
- SharpenRadius: +1.0
- Sharpness: 47
- SplitToningBalance: 0
- SplitToningHighlightHue: 0
- SplitToningHighlightSaturation: 0
- SplitToningShadowHue: 0
- SplitToningShadowSaturation: 0
- Temperature: 4750
- Tint: +2
- ToneCurve: 0, 0, 32, 22, 64, 56, 128, 128, 192, 196, 255, 255
- ToneCurveBlue: 0, 0, 255, 255
- ToneCurveGreen: 0, 0, 255, 255
- ToneCurveName: Medium Contrast
- ToneCurveName2012: Linear
- ToneCurvePV2012: 0, 0, 255, 255
- ToneCurvePV2012Blue: 0, 0, 255, 255
- ToneCurvePV2012Green: 0, 0, 255, 255
- ToneCurvePV2012Red: 0, 0, 255, 255
- ToneCurveRed: 0, 0, 255, 255
- Version: 7.0
- Vibrance: 0
- VignetteAmount: 0
- WhiteBalance: As Shot
- Whites2012: +70
- XMP-dc
- XMP-xmp
- CreateDate: 2012:02:16 13:38:12.00
- CreatorTool: Ver.1.00
- ModifyDate: 2012:02:16 14:16:13+08:00
- Rating: 0
- XMP-xmpMM
- Просмотров: 1265
- Рейтинг: голосов еще нет
- Отзывов: 0