- Раздел: Активный отдых, туризм
- Дата съёмки: 22.02.2012 12:13
- Дата загрузки фото: 22.02.2012 20:15
- Оригинальная фотография: 1440 x 1080 (2,4 Мб)
- Технические характеристики:
- Фотоаппарат: Canon PowerShot S95
- Выдержка: 1/60
- Гиперфокальное расстояние: inf m
- Диафрагма: 2,2
- Светочувствительность: 80
- Фокусное расстояние: 6,0 mm (35 mm equivalent: 66,0 mm)
- Полный EXIF
- Adobe
- ColorTransform: YCbCr
- Composite
- Aperture: 2,2
- CircleOfConfusion: 0,003 mm
- DOF: inf (0,00 m - inf)
- FOV: 30,0 deg
- FocalLength35efl: 6,0 mm (35 mm equivalent: 66,0 mm)
- HyperfocalDistance: inf m
- ScaleFactor35efl: 11,8
- ShutterSpeed: 1/60
- ExifIFD
- ApertureValue: 2,2
- CreateDate: 2012:02:22 12:13:55
- CustomRendered: Normal
- DateTimeOriginal: 2012:02:22 12:13:55
- DigitalZoomRatio: 1
- ExposureCompensation: 0
- ExposureMode: Auto
- ExposureTime: 1/60
- FNumber: 2,2
- Flash: Off, Did not fire
- FocalLength: 6,0 mm
- ISO: 80
- LensInfo: 6-22.5mm f/?
- LensModel: 6.0-22.5 mm
- MaxApertureValue: 2,0
- MeteringMode: Center-weighted average
- SceneCaptureType: Standard
- SensingMethod: One-chip color area
- SensitivityType: Standard Output Sensitivity and Recommended Exposure Index
- ShutterSpeedValue: 1/60
- SubjectDistance: 6,49 m
- WhiteBalance: Auto
- ICC-header
- ICC-meas
- ICC-view
- IFD0
- Make: Canon
- Model: Canon PowerShot S95
- ModifyDate: 2012:02:22 17:04:12
- IFD1
- IPTC
- DateCreated: 2012:02:22
- System
- XMP-aux
- ApproximateFocusDistance: 6,49
- Firmware: 1.00
- FlashCompensation: 0
- Lens: 6.0-22.5 mm
- XMP-crs
- AlreadyApplied: True
- BlueHue: 0
- BlueSaturation: 0
- Brightness: +10
- ChromaticAberrationB: 0
- ChromaticAberrationR: 0
- Clarity: +10
- ColorNoiseReduction: 25
- ColorNoiseReductionDetail: 0
- Contrast: +49
- ConvertToGrayscale: False
- CropAngle: -0.5
- CropBottom: 0.988498
- CropConstrainToWarp: 0
- CropHeight: 1080
- CropLeft: 0.002516
- CropRight: 0.997484
- CropTop: 0.011502
- CropUnit: pixels
- CropWidth: 1440
- Defringe: 0
- Exposure: 0.00
- FillLight: 25
- GradientBasedCorrActive: true
- GradientBasedCorrAmount: 1.000000
- GradientBasedCorrBrightness: 0.000000
- GradientBasedCorrClarity: 0.000000
- GradientBasedCorrContrast: 0.000000
- GradientBasedCorrExposure: -0.082500
- GradientBasedCorrHue: 0.000000
- GradientBasedCorrMaskFullX: 0.517247
- GradientBasedCorrMaskFullY: 0.991285
- GradientBasedCorrMaskValue: 1.000000
- GradientBasedCorrMaskWhat: Mask/Gradient
- GradientBasedCorrMaskZeroX: 0.516601
- GradientBasedCorrMaskZeroY: 0.882661
- GradientBasedCorrSaturation: 0.000000
- GradientBasedCorrSharpness: 0.000000
- GradientBasedCorrWhat: Correction
- GrainAmount: 0
- GreenHue: 0
- GreenSaturation: 0
- HasCrop: True
- HasSettings: True
- HighlightRecovery: 40
- HueAdjustmentAqua: 0
- HueAdjustmentBlue: 0
- HueAdjustmentGreen: 0
- HueAdjustmentMagenta: 0
- HueAdjustmentOrange: 0
- HueAdjustmentPurple: 0
- HueAdjustmentRed: 0
- HueAdjustmentYellow: 0
- LensManualDistortionAmount: 0
- LensProfileChromaticAberrationScale: 200
- LensProfileDistortionScale: 100
- LensProfileEnable: 1
- LensProfileFilename: Canon PowerShot S95 - RAW.lcp
- LensProfileSetup: Custom
- LensProfileVignettingScale: 100
- LuminanceAdjustmentAqua: 0
- LuminanceAdjustmentBlue: 0
- LuminanceAdjustmentGreen: 0
- LuminanceAdjustmentMagenta: 0
- LuminanceAdjustmentOrange: 0
- LuminanceAdjustmentPurple: 0
- LuminanceAdjustmentRed: 0
- LuminanceAdjustmentYellow: 0
- LuminanceSmoothing: 0
- ParametricDarks: +10
- ParametricHighlightSplit: 75
- ParametricHighlights: -70
- ParametricLights: -10
- ParametricMidtoneSplit: 50
- ParametricShadowSplit: 25
- ParametricShadows: +5
- PerspectiveHorizontal: 0
- PerspectiveRotate: 0.0
- PerspectiveScale: 100
- PerspectiveVertical: 0
- PostCropVignetteAmount: 0
- ProcessVersion: 5.7
- RedHue: 0
- RedSaturation: 0
- Saturation: +5
- SaturationAdjustmentAqua: 0
- SaturationAdjustmentBlue: -10
- SaturationAdjustmentGreen: -5
- SaturationAdjustmentMagenta: 0
- SaturationAdjustmentOrange: 0
- SaturationAdjustmentPurple: -60
- SaturationAdjustmentRed: 0
- SaturationAdjustmentYellow: -10
- ShadowTint: 0
- Shadows: 8
- SharpenDetail: 35
- SharpenEdgeMasking: 0
- SharpenRadius: +2.3
- Sharpness: 70
- SplitToningBalance: 0
- SplitToningHighlightHue: 0
- SplitToningHighlightSaturation: 0
- SplitToningShadowHue: 0
- SplitToningShadowSaturation: 0
- Temperature: 5500
- Tint: +10
- ToneCurve: 0, 0, 32, 22, 64, 56, 128, 128, 192, 196, 255, 255
- ToneCurveName: Medium Contrast
- Version: 6.4.1
- Vibrance: 0
- VignetteAmount: 0
- WhiteBalance: Daylight
- XMP-xmp
- ModifyDate: 2012:02:22 17:04:12+02:00
- Просмотров: 278
- Рейтинг: голосов еще нет
- Отзывов: 0