- Раздел: Макро
- Дата съёмки: 29.04.2007 21:13
- Дата загрузки фото: 29.04.2007 22:36
- Оригинальная фотография: 1540 x 1024 (675 Кб)
- Технические характеристики:
- Фотоаппарат: Nikon D70
- Выдержка: 1/500
- Светочувствительность: 200
- Полный EXIF
- ColorTransform: YCbCr
- Composite
- ShutterSpeed: 1/500
- ExifIFD
- CFAPattern: [Blue,Green][Green,Red]
- ColorSpace: sRGB
- Contrast: Normal
- CreateDate: 2007:04:29 09:31:00
- CustomRendered: Custom
- DateTimeOriginal: 2007:04:29 09:31:00
- DigitalZoomRatio: 1
- ExifImageLength: 1024
- ExifImageWidth: 1540
- ExposureCompensation: 0
- ExposureMode: Manual
- ExposureProgram: Manual
- ExposureTime: 1/500
- Flash: No Flash
- GainControl: None
- ISO: 200
- LightSource: Unknown (0)
- MaxApertureValue: 1,0
- MeteringMode: Center-weighted average
- Saturation: Normal
- SceneCaptureType: Standard
- SceneType: Directly photographed
- SensingMethod: One-chip color area
- Sharpness: Normal
- ShutterSpeedValue: 1/500
- UserComment: (c) vavinovalex@yahoo.com (sReala2)
- WhiteBalance: Auto
- ICC-header
- ICC-meas
- ICC-view
- IFD0
- Make: NIKON CORPORATION
- Model: NIKON D70
- ModifyDate: 2007:04:29 21:13:38
- Orientation: Horizontal (normal)
- IFD1
- IPTC
- XMP-aux
- ImageNumber: 20261
- Lens: 0.0 mm f/0.0
- LensInfo: 0
- XMP-crs
- AlreadyApplied: True
- AutoGrayscaleWeights: True
- BlueHue: 0
- BlueSaturation: 0
- Brightness: +50
- CameraProfile: ACR 2.4
- ChromaticAberrationB: 0
- ChromaticAberrationR: 0
- ColorNoiseReduction: 20
- Contrast: +25
- ConvertToGrayscale: False
- Exposure: -0.15
- FillLight: 0
- GreenHue: 0
- GreenSaturation: 0
- HasCrop: False
- HasSettings: True
- HighlightRecovery: 100
- HueAdjustmentAqua: 0
- HueAdjustmentBlue: 0
- HueAdjustmentGreen: 0
- HueAdjustmentMagenta: 0
- HueAdjustmentOrange: 0
- HueAdjustmentPurple: 0
- HueAdjustmentRed: 0
- HueAdjustmentYellow: 0
- LuminanceAdjustmentAqua: 0
- LuminanceAdjustmentBlue: 0
- LuminanceAdjustmentGreen: 0
- LuminanceAdjustmentMagenta: 0
- LuminanceAdjustmentOrange: 0
- LuminanceAdjustmentPurple: 0
- LuminanceAdjustmentRed: 0
- LuminanceAdjustmentYellow: 0
- LuminanceSmoothing: 0
- ParametricDarks: 0
- ParametricHighlightSplit: 75
- ParametricHighlights: 0
- ParametricLights: 0
- ParametricMidtoneSplit: 50
- ParametricShadowSplit: 25
- ParametricShadows: 0
- RawFileName: DSC_0242.NEF
- RedHue: 0
- RedSaturation: 0
- Saturation: +8
- SaturationAdjustmentAqua: 0
- SaturationAdjustmentBlue: 0
- SaturationAdjustmentGreen: 0
- SaturationAdjustmentMagenta: 0
- SaturationAdjustmentOrange: 0
- SaturationAdjustmentPurple: 0
- SaturationAdjustmentRed: 0
- SaturationAdjustmentYellow: 0
- ShadowTint: 0
- Shadows: 3
- Sharpness: 25
- SplitToningBalance: 0
- SplitToningHighlightHue: 0
- SplitToningHighlightSaturation: 0
- SplitToningShadowHue: 0
- SplitToningShadowSaturation: 0
- Temperature: 5450
- Tint: -5
- ToneCurve: 0, 0, 32, 22, 64, 56, 128, 128, 192, 196, 255, 255
- ToneCurveName: Medium Contrast
- Version: 4.0x168
- Vibrance: +10
- VignetteAmount: 0
- WhiteBalance: Custom
- XMP-dc
- XMP-exif
- DateTimeDigitized: 2007:04:29 09:31:00.80+03:00
- DateTimeOriginal: 2007:04:29 09:31:00.80+03:00
- ExifImageHeight: 1024
- FlashFired: False
- FlashFunction: False
- FlashMode: Unknown
- FlashRedEyeMode: False
- FlashReturn: No return detection
- SubjectDistanceRange: Unknown
- XMP-tiff
- XMP-xmp
- CreateDate: 2007:04:29 21:13:38+03:00
- ModifyDate: 2007:04:29 21:13:38+03:00
- Rating: 0
- XMP-xmpMM
- DerivedFrom:
- Просмотров: 482
- Рейтинг: голосов еще нет
- Отзывов: 0