- Раздел: Тесты фототехники
- Дата съёмки: 09.03.2012 19:21
- Дата загрузки фото: 09.03.2012 22:28
- Оригинальная фотография: 6000 x 4000 (1,4 Мб)
- Технические характеристики:
- Фотоаппарат: Sony NEX-7
- Выдержка: 1/60
- Гиперфокальное расстояние: inf m
- Диафрагма: 3,5
- Светочувствительность: 100
- Фокусное расстояние: 30,0 mm (35 mm equivalent: 30,0 mm)
- Экспокоррекция: -0,3
- Полный EXIF
- Adobe
- ColorTransform: YCbCr
- Composite
- Aperture: 3,5
- CircleOfConfusion: 0,020 mm
- FOV: 61,0 deg
- FocalLength35efl: 30,0 mm (35 mm equivalent: 30,0 mm)
- HyperfocalDistance: inf m
- ScaleFactor35efl: 1,5
- ShutterSpeed: 1/60
- ExifIFD
- ApertureValue: 3,5
- BrightnessValue: 0,46640625
- ColorSpace: sRGB
- Contrast: Normal
- CreateDate: 2012:03:09 19:21:46
- CustomRendered: Normal
- DateTimeOriginal: 2012:03:09 19:21:46
- ExifImageHeight: 4000
- ExifImageWidth: 6000
- ExposureCompensation: -0,3
- ExposureMode: Auto
- ExposureProgram: Program AE
- ExposureTime: 1/60
- FNumber: 3,5
- Flash: On, Return detected
- FocalLength: 30,0 mm
- FocalLengthIn35mmFormat: 45 mm
- ISO: 100
- LensInfo: 30mm f/3.5
- LensModel: E 30mm F3.5 Macro
- LightSource: Unknown
- MaxApertureValue: 3,5
- MeteringMode: Center-weighted average
- RecommendedExposureIndex: 100
- Saturation: Normal
- SceneCaptureType: Standard
- SceneType: Directly photographed
- SensitivityType: Recommended Exposure Index
- Sharpness: Normal
- ShutterSpeedValue: 1/60
- WhiteBalance: Auto
- ICC-header
- ICC-meas
- ICC-view
- IFD0
- Make: SONY
- Model: NEX-7
- ModifyDate: 2012:03:09 20:38:55
- Orientation: Horizontal (normal)
- IFD1
- IPTC
- DateCreated: 2012:03:09
- System
- XMP-aux
- Lens: E 30mm F3.5 Macro
- XMP-crs
- AlreadyApplied: True
- BlueHue: 0
- BlueSaturation: 0
- Brightness: +50
- ChromaticAberrationB: 0
- ChromaticAberrationR: 0
- Clarity: 0
- ColorNoiseReduction: 25
- ColorNoiseReductionDetail: 50
- Contrast: +25
- ConvertToGrayscale: False
- Defringe: 0
- Exposure: 0.00
- FillLight: 0
- GrainAmount: 0
- GreenHue: 0
- GreenSaturation: 0
- HasCrop: False
- HasSettings: True
- HighlightRecovery: 0
- HueAdjustmentAqua: 0
- HueAdjustmentBlue: 0
- HueAdjustmentGreen: 0
- HueAdjustmentMagenta: 0
- HueAdjustmentOrange: 0
- HueAdjustmentPurple: 0
- HueAdjustmentRed: 0
- HueAdjustmentYellow: 0
- LensManualDistortionAmount: 0
- LensProfileEnable: 0
- LensProfileSetup: LensDefaults
- LuminanceAdjustmentAqua: 0
- LuminanceAdjustmentBlue: 0
- LuminanceAdjustmentGreen: 0
- LuminanceAdjustmentMagenta: 0
- LuminanceAdjustmentOrange: 0
- LuminanceAdjustmentPurple: 0
- LuminanceAdjustmentRed: 0
- LuminanceAdjustmentYellow: 0
- LuminanceSmoothing: 0
- ParametricDarks: -36
- ParametricHighlightSplit: 75
- ParametricHighlights: 0
- ParametricLights: 0
- ParametricMidtoneSplit: 50
- ParametricShadowSplit: 25
- ParametricShadows: 0
- PerspectiveHorizontal: 0
- PerspectiveRotate: 0.0
- PerspectiveScale: 100
- PerspectiveVertical: 0
- PostCropVignetteAmount: 0
- ProcessVersion: 5.7
- RawFileName: DSC00678.ARW
- RedHue: 0
- RedSaturation: 0
- Saturation: +18
- SaturationAdjustmentAqua: 0
- SaturationAdjustmentBlue: 0
- SaturationAdjustmentGreen: 0
- SaturationAdjustmentMagenta: 0
- SaturationAdjustmentOrange: 0
- SaturationAdjustmentPurple: 0
- SaturationAdjustmentRed: 0
- SaturationAdjustmentYellow: 0
- ShadowTint: 0
- Shadows: 0
- SharpenDetail: 25
- SharpenEdgeMasking: 0
- SharpenRadius: +1.0
- Sharpness: 25
- SplitToningBalance: 0
- SplitToningHighlightHue: 0
- SplitToningHighlightSaturation: 0
- SplitToningShadowHue: 0
- SplitToningShadowSaturation: 0
- Temperature: 5600
- Tint: -7
- ToneCurve: 0, 0, 32, 22, 64, 56, 128, 128, 192, 196, 255, 255
- ToneCurveName: Medium Contrast
- Version: 6.6
- Vibrance: 0
- VignetteAmount: 0
- WhiteBalance: As Shot
- XMP-dc
- XMP-xmp
- CreatorTool: NEX-7 v1.00
- ModifyDate: 2012:03:09 20:38:55+03:00
- Rating: 0
- XMP-xmpMM
- Просмотров: 328
- Рейтинг: голосов еще нет
- Отзывов: 0