- Раздел: Пейзаж
- Дата съёмки: 10.05.2012 17:28
- Дата загрузки фото: 23.05.2012 10:31
- Оригинальная фотография: 4320 x 3240 (4,3 Мб)
- Технические характеристики:
- Фотоаппарат: Canon PowerShot A2200
- Выдержка: 1/1250
- Гиперфокальное расстояние: inf m
- Диафрагма: 3,1
- Светочувствительность: 80
- Фокусное расстояние: 6,0 mm (35 mm equivalent: 30,0 mm)
- Экспокоррекция: -2/3
- Полный EXIF
- Adobe
- ColorTransform: YCbCr
- Composite
- Aperture: 3,1
- CircleOfConfusion: 0,005 mm
- FOV: 61,0 deg
- FocalLength35efl: 6,0 mm (35 mm equivalent: 30,0 mm)
- HyperfocalDistance: inf m
- ScaleFactor35efl: 5,8
- ShutterSpeed: 1/1250
- ExifIFD
- ApertureValue: 3,1
- ColorSpace: sRGB
- CreateDate: 2012:05:10 17:28:32
- DateTimeOriginal: 2012:05:10 17:28:32
- ExifImageHeight: 3240
- ExifImageWidth: 4320
- ExposureCompensation: -2/3
- ExposureProgram: Program AE
- ExposureTime: 1/1250
- FNumber: 3,1
- Flash: Off, Did not fire
- FocalLength: 6,4 mm
- FocalLengthIn35mmFormat: 35 mm
- ISO: 80
- MaxApertureValue: 3,2
- MeteringMode: Multi-segment
- ShutterSpeedValue: 1/1250
- ICC-header
- ICC-meas
- ICC-view
- IFD0
- Make: Canon
- Model: Canon PowerShot A2200
- ModifyDate: 2012:05:23 10:25:12
- Orientation: Horizontal (normal)
- IFD1
- IPTC
- DateCreated: 2012:05:10
- System
- XMP-aux
- Lens: 5.0-20.0 mm f/2.7-5.6
- LensInfo: 5-20mm f/2.7-5.6
- XMP-crs
- AlreadyApplied: True
- BlueHue: 0
- BlueSaturation: 0
- Brightness: +50
- CameraProfile: Embedded
- ChromaticAberrationB: 0
- ChromaticAberrationR: -43
- Clarity: +20
- ColorNoiseReduction: 48
- Contrast: +25
- ConvertToGrayscale: False
- Defringe: 2
- Exposure: -0.05
- FillLight: 0
- GrainAmount: 0
- GreenHue: 0
- GreenSaturation: 0
- HasCrop: False
- HasSettings: True
- HighlightRecovery: 0
- HueAdjustmentAqua: 0
- HueAdjustmentBlue: 0
- HueAdjustmentGreen: 0
- HueAdjustmentMagenta: 0
- HueAdjustmentOrange: 0
- HueAdjustmentPurple: 0
- HueAdjustmentRed: 0
- HueAdjustmentYellow: 0
- LuminanceAdjustmentAqua: 0
- LuminanceAdjustmentBlue: 0
- LuminanceAdjustmentGreen: 0
- LuminanceAdjustmentMagenta: 0
- LuminanceAdjustmentOrange: 0
- LuminanceAdjustmentPurple: 0
- LuminanceAdjustmentRed: 0
- LuminanceAdjustmentYellow: 0
- LuminanceSmoothing: 45
- ParametricDarks: 0
- ParametricHighlightSplit: 75
- ParametricHighlights: 0
- ParametricLights: 0
- ParametricMidtoneSplit: 50
- ParametricShadowSplit: 25
- ParametricShadows: 0
- PostCropVignetteAmount: 0
- ProcessVersion: 5.0
- RawFileName: CRW_1122_1.dng
- RedHue: 0
- RedSaturation: 0
- Saturation: 0
- SaturationAdjustmentAqua: 0
- SaturationAdjustmentBlue: 0
- SaturationAdjustmentGreen: 0
- SaturationAdjustmentMagenta: 0
- SaturationAdjustmentOrange: 0
- SaturationAdjustmentPurple: 0
- SaturationAdjustmentRed: 0
- SaturationAdjustmentYellow: 0
- ShadowTint: 0
- Shadows: 0
- SharpenDetail: 25
- SharpenEdgeMasking: 20
- SharpenRadius: +1.0
- Sharpness: 40
- SplitToningBalance: 0
- SplitToningHighlightHue: 0
- SplitToningHighlightSaturation: 0
- SplitToningShadowHue: 0
- SplitToningShadowSaturation: 0
- Temperature: 6500
- Tint: +47
- ToneCurve: 0, 0, 32, 22, 64, 56, 128, 128, 192, 196, 255, 255
- ToneCurveName: Medium Contrast
- Version: 6.0
- Vibrance: +5
- VignetteAmount: 0
- WhiteBalance: As Shot
- XMP-dc
- XMP-xmp
- CreateDate: 2012:05:10 17:28:32+04:00
- ModifyDate: 2012:05:23 10:25:12+04:00
- Rating: 0
- XMP-xmpMM
- Просмотров: 2017
- Рейтинг: голосов еще нет
- Отзывов: 0