- Раздел: Пейзаж
- Дата съёмки: 20.06.2012 17:34
- Дата загрузки фото: 10.07.2012 15:28
- Оригинальная фотография: 4000 x 3000 (4,3 Мб)
- Технические характеристики:
- Фотоаппарат: Canon PowerShot SX220 HS
- Выдержка: 1/1400
- Гиперфокальное расстояние: inf m
- Диафрагма: 3,5
- Светочувствительность: 100
- Фокусное расстояние: 7,0 mm (35 mm equivalent: 35,0 mm)
- Экспокоррекция: -1/3
- Полный EXIF
- Adobe
- ColorTransform: YCbCr
- Composite
- Aperture: 3,5
- CircleOfConfusion: 0,005 mm
- FOV: 54,0 deg
- FocalLength35efl: 7,0 mm (35 mm equivalent: 35,0 mm)
- HyperfocalDistance: inf m
- ScaleFactor35efl: 5,6
- ShutterSpeed: 1/1400
- ExifIFD
- ApertureValue: 3,5
- ColorSpace: sRGB
- DateTimeOriginal: 2012:06:20 17:34:03
- ExifImageHeight: 3000
- ExifImageWidth: 4000
- ExposureCompensation: -1/3
- ExposureProgram: Aperture-priority AE
- ExposureTime: 1/1400
- FNumber: 3,5
- Flash: Off, Did not fire
- FocalLength: 7,1 mm
- FocalLengthIn35mmFormat: 39 mm
- ISO: 100
- MaxApertureValue: 3,6
- MeteringMode: Center-weighted average
- ShutterSpeedValue: 1/1400
- ICC-header
- ICC-meas
- ICC-view
- IFD0
- Make: Canon
- Model: Canon PowerShot SX220 HS
- ModifyDate: 2012:06:22 20:17:02
- Orientation: Horizontal (normal)
- IFD1
- IPTC
- DateCreated: 2012:06:20
- System
- XMP-aux
- Lens: 5.0-70.0 mm f/3.1-5.9
- LensInfo: 5-70mm f/3.1-5.9
- XMP-crs
- AlreadyApplied: True
- BlueHue: 0
- BlueSaturation: 0
- Brightness: +50
- CameraProfile: Embedded
- ChromaticAberrationB: 0
- ChromaticAberrationR: 0
- Clarity: +13
- ColorNoiseReduction: 59
- ColorNoiseReductionDetail: 50
- Contrast: +25
- ConvertToGrayscale: False
- Defringe: 0
- Exposure: +0.15
- FillLight: 0
- GrainAmount: 0
- GreenHue: 0
- GreenSaturation: 0
- HasCrop: False
- HasSettings: True
- HighlightRecovery: 0
- HueAdjustmentAqua: 0
- HueAdjustmentBlue: 0
- HueAdjustmentGreen: 0
- HueAdjustmentMagenta: 0
- HueAdjustmentOrange: 0
- HueAdjustmentPurple: 0
- HueAdjustmentRed: 0
- HueAdjustmentYellow: 0
- LuminanceAdjustmentAqua: 0
- LuminanceAdjustmentBlue: 0
- LuminanceAdjustmentGreen: 0
- LuminanceAdjustmentMagenta: 0
- LuminanceAdjustmentOrange: 0
- LuminanceAdjustmentPurple: 0
- LuminanceAdjustmentRed: 0
- LuminanceAdjustmentYellow: 0
- LuminanceSmoothing: 0
- ParametricDarks: +15
- ParametricHighlightSplit: 75
- ParametricHighlights: 0
- ParametricLights: 0
- ParametricMidtoneSplit: 50
- ParametricShadowSplit: 25
- ParametricShadows: 0
- PostCropVignetteAmount: 0
- ProcessVersion: 5.7
- RawFileName: CRW_5231_1.dng
- RedHue: 0
- RedSaturation: 0
- Saturation: 0
- SaturationAdjustmentAqua: 0
- SaturationAdjustmentBlue: 0
- SaturationAdjustmentGreen: 0
- SaturationAdjustmentMagenta: 0
- SaturationAdjustmentOrange: 0
- SaturationAdjustmentPurple: 0
- SaturationAdjustmentRed: 0
- SaturationAdjustmentYellow: 0
- ShadowTint: 0
- Shadows: 5
- SharpenDetail: 25
- SharpenEdgeMasking: 23
- SharpenRadius: +1.0
- Sharpness: 43
- SplitToningBalance: 0
- SplitToningHighlightHue: 0
- SplitToningHighlightSaturation: 0
- SplitToningShadowHue: 0
- SplitToningShadowSaturation: 0
- Temperature: 8200
- Tint: +21
- ToneCurve: 0, 0, 32, 22, 64, 56, 128, 128, 192, 196, 255, 255
- ToneCurveName: Medium Contrast
- Version: 6.0
- Vibrance: 0
- VignetteAmount: 0
- WhiteBalance: As Shot
- XMP-dc
- XMP-xmp
- CreateDate: 2012:06:20 17:34:03+04:00
- ModifyDate: 2012:06:22 20:17:02+04:00
- Rating: 0
- XMP-xmpMM
- Просмотров: 1966
- Рейтинг: голосов еще нет
- Отзывов: 0