- Раздел: Активный отдых, туризм
- Дата съёмки: 18.03.2012 12:50
- Дата загрузки фото: 21.03.2012 18:13
- Оригинальная фотография: 2309 x 1732 (3,0 Мб)
- Технические характеристики:
- Фотоаппарат: Canon PowerShot S95
- Выдержка: 1/800
- Гиперфокальное расстояние: inf m
- Диафрагма: 4,0
- Светочувствительность: 80
- Фокусное расстояние: 6,0 mm (35 mm equivalent: 42,0 mm)
- Полный EXIF
- Adobe
- ColorTransform: YCbCr
- Composite
- Aperture: 4,0
- CircleOfConfusion: 0,004 mm
- DOF: inf (0,00 m - inf)
- FOV: 46,0 deg
- FocalLength35efl: 6,0 mm (35 mm equivalent: 42,0 mm)
- HyperfocalDistance: inf m
- ScaleFactor35efl: 7,4
- ShutterSpeed: 1/800
- ExifIFD
- ApertureValue: 4,0
- CreateDate: 2012:03:18 12:50:22
- CustomRendered: Normal
- DateTimeOriginal: 2012:03:18 12:50:22
- DigitalZoomRatio: 1
- ExposureCompensation: 0
- ExposureMode: Auto
- ExposureTime: 1/800
- FNumber: 4,0
- Flash: Off, Did not fire
- FocalLength: 6,0 mm
- ISO: 80
- LensInfo: 6-22.5mm f/?
- LensModel: 6.0-22.5 mm
- MaxApertureValue: 2,0
- MeteringMode: Center-weighted average
- SceneCaptureType: Standard
- SensingMethod: One-chip color area
- SensitivityType: Standard Output Sensitivity and Recommended Exposure Index
- ShutterSpeedValue: 1/800
- SubjectDistance: 5,28 m
- WhiteBalance: Auto
- ICC-header
- ICC-meas
- ICC-view
- IFD0
- Make: Canon
- Model: Canon PowerShot S95
- ModifyDate: 2012:03:21 15:57:53
- IFD1
- IPTC
- DateCreated: 2012:03:18
- System
- XMP-aux
- ApproximateFocusDistance: 5,28
- Firmware: 1.00
- FlashCompensation: 0
- Lens: 6.0-22.5 mm
- XMP-crs
- AlreadyApplied: True
- BlueHue: 0
- BlueSaturation: 0
- Brightness: +50
- ChromaticAberrationB: 0
- ChromaticAberrationR: 0
- Clarity: +10
- ColorNoiseReduction: 25
- ColorNoiseReductionDetail: 50
- Contrast: +30
- ConvertToGrayscale: False
- CropAngle: 1
- CropBottom: 0.849075
- CropConstrainToWarp: 0
- CropHeight: 1732
- CropLeft: 0.011249
- CropRight: 0.83015
- CropTop: 0
- CropUnit: pixels
- CropWidth: 2309
- Defringe: 0
- Exposure: -0.17
- FillLight: 15
- GrainAmount: 0
- GreenHue: 0
- GreenSaturation: 0
- HasCrop: True
- HasSettings: True
- HighlightRecovery: 30
- HueAdjustmentAqua: 0
- HueAdjustmentBlue: 0
- HueAdjustmentGreen: 0
- HueAdjustmentMagenta: 0
- HueAdjustmentOrange: 0
- HueAdjustmentPurple: 0
- HueAdjustmentRed: 0
- HueAdjustmentYellow: 0
- LensManualDistortionAmount: 0
- LensProfileChromaticAberrationScale: 100
- LensProfileDistortionScale: 100
- LensProfileEnable: 1
- LensProfileFilename: Canon PowerShot S95 - RAW.lcp
- LensProfileSetup: LensDefaults
- LensProfileVignettingScale: 100
- LuminanceAdjustmentAqua: 0
- LuminanceAdjustmentBlue: 0
- LuminanceAdjustmentGreen: 0
- LuminanceAdjustmentMagenta: 0
- LuminanceAdjustmentOrange: 0
- LuminanceAdjustmentPurple: 0
- LuminanceAdjustmentRed: 0
- LuminanceAdjustmentYellow: 0
- LuminanceNoiseReductionContrast: 0
- LuminanceNoiseReductionDetail: 50
- LuminanceSmoothing: 25
- ParametricDarks: +5
- ParametricHighlightSplit: 75
- ParametricHighlights: 0
- ParametricLights: -10
- ParametricMidtoneSplit: 50
- ParametricShadowSplit: 25
- ParametricShadows: +5
- PerspectiveHorizontal: 0
- PerspectiveRotate: 0.0
- PerspectiveScale: 100
- PerspectiveVertical: 0
- PostCropVignetteAmount: 0
- ProcessVersion: 5.7
- RedHue: 0
- RedSaturation: 0
- Saturation: +10
- SaturationAdjustmentAqua: +10
- SaturationAdjustmentBlue: +10
- SaturationAdjustmentGreen: 0
- SaturationAdjustmentMagenta: 0
- SaturationAdjustmentOrange: 0
- SaturationAdjustmentPurple: 0
- SaturationAdjustmentRed: 0
- SaturationAdjustmentYellow: 0
- ShadowTint: 0
- Shadows: 7
- SharpenDetail: 25
- SharpenEdgeMasking: 0
- SharpenRadius: +1.5
- Sharpness: 74
- SplitToningBalance: 0
- SplitToningHighlightHue: 0
- SplitToningHighlightSaturation: 0
- SplitToningShadowHue: 0
- SplitToningShadowSaturation: 0
- Temperature: 5300
- Tint: +9
- ToneCurve: 0, 0, 32, 22, 64, 56, 128, 128, 192, 196, 255, 255
- ToneCurveName: Medium Contrast
- Version: 6.4.1
- Vibrance: 0
- VignetteAmount: 0
- WhiteBalance: As Shot
- XMP-xmp
- ModifyDate: 2012:03:21 15:57:53+02:00
- Просмотров: 277
- Рейтинг: голосов еще нет
- Отзывов: 0