- Ðàçäåë: Òåñòû ôîòîòåõíèêè
- Äàòà ñú¸ìêè: 24.03.2012 14:13
- Äàòà çàãðóçêè ôîòî: 25.03.2012 00:08
- Îðèãèíàëüíàÿ ôîòîãðàôèÿ: 2592 x 3872 (2,0 Ìá)
- Òåõíè÷åñêèå õàðàêòåðèñòèêè:
- Ôîòîàïïàðàò: Nikon 1 J1
- Âûäåðæêà: 1/200
- Ãèïåðôîêàëüíîå ðàññòîÿíèå: inf m
- Äèàôðàãìà: 3,5
- Ñâåòî÷óâñòâèòåëüíîñòü: 100
- Ôîêóñíîå ðàññòîÿíèå: 10,0 mm (35 mm equivalent: 20,0 mm)
- Ýêñïîêîððåêöèÿ: -2/3
- Ïîëíûé EXIF
- Composite
- Aperture: 3,5
- AutoFocus: On
- BlueBalance: 1
- CircleOfConfusion: 0,011 mm
- FOV: 83,0 deg
- FocalLength35efl: 10,0 mm (35 mm equivalent: 20,0 mm)
- HyperfocalDistance: inf m
- LensSpec: 10mm f/2.8 [4]
- RedBalance: 1
- ScaleFactor35efl: 2,7
- ShutterSpeed: 1/200
- ExifIFD
- ApertureValue: 3,5
- CFAPattern: [Red,Green][Green,Blue]
- ColorSpace: sRGB
- Contrast: Normal
- CreateDate: 2012:03:24 14:13:59
- CustomRendered: Normal
- DateTimeOriginal: 2012:03:24 14:13:59
- DigitalZoomRatio: 1
- ExifImageHeight: 3872
- ExifImageWidth: 2592
- ExposureCompensation: -2/3
- ExposureMode: Auto
- ExposureProgram: Program AE
- ExposureTime: 1/200
- FNumber: 3,5
- Flash: No Flash
- FocalLength: 10,0 mm
- FocalLengthIn35mmFormat: 27 mm
- GainControl: None
- ISO: 100
- LensModel: 1 NIKKOR 10mm f/2.8
- LightSource: Unknown
- MaxApertureValue: 2,8
- MeteringMode: Multi-segment
- Saturation: Normal
- SceneCaptureType: Standard
- SceneType: Directly photographed
- SensingMethod: One-chip color area
- SensitivityType: Recommended Exposure Index
- Sharpness: Normal
- ShutterSpeedValue: 1/200
- SubjectDistanceRange: Unknown
- WhiteBalance: Auto
- IFD0
- Make: NIKON CORPORATION
- Model: NIKON 1 J1
- ModifyDate: 2012:03:24 14:13:59
- Orientation: Horizontal (normal)
- Software: DXO Optics Pro v7
- TIFF-EPStandardID: 1 0 0 0
- IFD1
- Nikon
- AFAreaMode: Unknown (128)
- AFFineTune: Off
- AFFineTuneAdj: 0
- AFFineTuneIndex: n/a
- AFInfo2Version: 0200
- AFPointsUsed: Unknown (01 00 00 00 00 00 00)
- ActiveD-Lighting: Auto
- Brightness: Normal
- ColorBalanceUnknown: 0400LúB¬¤¿µi7E2kûA0ÿêéçð.t£ìºMž)Ån¢à¯}Š˜™‡”½ó6…‘[...]
- ContrastDetectAF: Off
- ContrastDetectAFInFocus: No
- CropHiSpeed: Off (3904x2606 cropped to 3904x2606 at pixel 0,0)
- DateDisplayFormat: D/M/Y
- DaylightSavings: No
- ExposureDifference: 0
- FilterEffect: n/a
- FlashExposureComp: 0
- FlashInfoVersion: 0200
- FlashMode: Did Not Fire
- FlashSetting:
- FlashType:
- FocusMode: AF-C
- HighISONoiseReduction: Off
- HueAdjustment: None
- ISO2: 100
- ISOExpansion: Off
- ISOExpansion2: Off
- Lens: 10mm f/2.8
- LensDataVersion: 0401
- LensFStops: 8,00
- LensType: [4]
- MakerNoteVersion: 2.10
- NoiseReduction: Off
- PhaseDetectAF: Unknown (4)
- PictureControlAdjust: Default Settings
- PictureControlBase: Neutral
- PictureControlName: Neutral
- PictureControlQuickAdjust: n/a
- PictureControlVersion: 0100
- PrimaryAFPoint: Center
- ProgramShift: 0
- Quality: Fine
- SerialNumber: 61009439
- Sharpness: 2
- ShootingMode: Continuous
- ShotInfoVersion: 0400
- ShutterCount: 589
- Timezone: +03:00
- ToningEffect: n/a
- ToningSaturation: n/a
- VRInfoVersion: 0101
- VariProgram:
- VibrationReduction: Unknown (0)
- WB_RBLevels: 1,8984375 1,5078125 1 1
- WhiteBalanceFineTune: 0 0
- System
- XMP-aux
- ImageNumber: 589
- Lens: 1 NIKKOR 10mm f/2.8
- LensInfo: 10mm f/2.8
- XMP-crs
- AlreadyApplied: False
- AutoLateralCA: 0
- Blacks2012: 0
- BlueHue: 0
- BlueSaturation: 0
- Brightness: +50
- CameraProfile: Matrix
- Clarity: 0
- Clarity2012: 0
- ColorNoiseReduction: 25
- ColorNoiseReductionDetail: 50
- Contrast: +25
- Contrast2012: 0
- ConvertToGrayscale: False
- Defringe: 0
- Exposure: +0.25
- Exposure2012: 0.00
- FillLight: 38
- GrainAmount: 0
- GreenHue: 0
- GreenSaturation: 0
- HasCrop: False
- HasSettings: True
- HighlightRecovery: 0
- Highlights2012: 0
- HueAdjustmentAqua: 0
- HueAdjustmentBlue: 0
- HueAdjustmentGreen: 0
- HueAdjustmentMagenta: 0
- HueAdjustmentOrange: 0
- HueAdjustmentPurple: 0
- HueAdjustmentRed: 0
- HueAdjustmentYellow: 0
- LensManualDistortionAmount: 0
- LensProfileEnable: 0
- LensProfileSetup: LensDefaults
- LuminanceAdjustmentAqua: 0
- LuminanceAdjustmentBlue: 0
- LuminanceAdjustmentGreen: 0
- LuminanceAdjustmentMagenta: 0
- LuminanceAdjustmentOrange: 0
- LuminanceAdjustmentPurple: 0
- LuminanceAdjustmentRed: 0
- LuminanceAdjustmentYellow: 0
- LuminanceSmoothing: 0
- ParametricDarks: 0
- ParametricHighlightSplit: 75
- ParametricHighlights: 0
- ParametricLights: 0
- ParametricMidtoneSplit: 50
- ParametricShadowSplit: 25
- ParametricShadows: 0
- PerspectiveHorizontal: 0
- PerspectiveRotate: 0.0
- PerspectiveScale: 100
- PerspectiveVertical: 0
- PostCropVignetteAmount: 0
- ProcessVersion: 5.7
- RawFileName: DSC_0597.NEF
- RedHue: 0
- RedSaturation: 0
- Saturation: +3
- SaturationAdjustmentAqua: 0
- SaturationAdjustmentBlue: 0
- SaturationAdjustmentGreen: 0
- SaturationAdjustmentMagenta: 0
- SaturationAdjustmentOrange: 0
- SaturationAdjustmentPurple: 0
- SaturationAdjustmentRed: 0
- SaturationAdjustmentYellow: 0
- ShadowTint: 0
- Shadows: 5
- Shadows2012: 0
- SharpenDetail: 25
- SharpenEdgeMasking: 0
- SharpenRadius: +1.0
- Sharpness: 25
- SplitToningBalance: 0
- SplitToningHighlightHue: 0
- SplitToningHighlightSaturation: 0
- SplitToningShadowHue: 0
- SplitToningShadowSaturation: 0
- Temperature: 5250
- Tint: +5
- ToneCurve: 0, 0, 32, 22, 64, 56, 128, 128, 192, 196, 255, 255
- ToneCurveBlue: 0, 0, 255, 255
- ToneCurveGreen: 0, 0, 255, 255
- ToneCurveName: Medium Contrast
- ToneCurveName2012: Linear
- ToneCurvePV2012: 0, 0, 255, 255
- ToneCurvePV2012Blue: 0, 0, 255, 255
- ToneCurvePV2012Green: 0, 0, 255, 255
- ToneCurvePV2012Red: 0, 0, 255, 255
- ToneCurveRed: 0, 0, 255, 255
- Version: 6.7
- Vibrance: 0
- VignetteAmount: 0
- WhiteBalance: As Shot
- Whites2012: 0
- XMP-dc
- Format: image/x-nikon-nef
- XMP-exif
- DateTimeOriginal: 2012:03:24 14:13:59.00
- FlashFired: False
- FlashFunction: False
- FlashMode: Unknown
- FlashRedEyeMode: False
- FlashReturn: No return detection
- SensitivityType: 2
- XMP-tiff
- Orientation: Rotate 90 CW
- XMP-xmp
- CreateDate: 2012:03:24 14:13:59.00
- CreatorTool: Ver.1.11
- ModifyDate: 2012:03:24 14:13:59.00
- Rating: 0
- XMP-xmpMM
- Ïðîñìîòðîâ: 815
- Ðåéòèíã: ãîëîñîâ åùå íåò
- Îòçûâîâ: 0