- Раздел: Портрет
- Дата съёмки: 09.03.2012 17:18
- Дата загрузки фото: 26.03.2012 21:45
- Оригинальная фотография: 3456 x 2304 (4,3 Мб)
- Технические характеристики:
- Фотоаппарат: Canon EOS 350D DIGITAL
- Выдержка: 1/200
- Гиперфокальное расстояние: inf m
- Диафрагма: 1,8
- Светочувствительность: 100
- Фокусное расстояние: 50,0 mm (35 mm equivalent: 50,0 mm)
- Полный EXIF
- Adobe
- ColorTransform: YCbCr
- Composite
- Aperture: 1,8
- CircleOfConfusion: 0,019 mm
- FOV: 39,0 deg
- FocalLength35efl: 50,0 mm (35 mm equivalent: 50,0 mm)
- HyperfocalDistance: inf m
- ScaleFactor35efl: 1,6
- ShutterSpeed: 1/200
- ExifIFD
- ApertureValue: 1,8
- CreateDate: 2012:03:09 17:18:25
- CustomRendered: Normal
- DateTimeOriginal: 2012:03:09 17:18:25
- ExposureCompensation: 0
- ExposureMode: Auto
- ExposureProgram: Aperture-priority AE
- ExposureTime: 1/200
- FNumber: 1,8
- Flash: Off, Did not fire
- FocalLength: 50,0 mm
- ISO: 100
- LensInfo: 50mm f/?
- LensModel: 50.0 mm
- MaxApertureValue: 1,8
- MeteringMode: Multi-segment
- OwnerName: unknown
- SceneCaptureType: Standard
- SerialNumber: 630503456
- ShutterSpeedValue: 1/200
- WhiteBalance: Auto
- ICC-header
- ICC-meas
- ICC-view
- IFD0
- Artist: unknown
- Make: Canon
- Model: Canon EOS 350D DIGITAL
- ModifyDate: 2012:03:10 21:45:47
- IFD1
- IPTC
- By-line: unknown
- DateCreated: 2012:03:09
- System
- XMP-aux
- Firmware: 1.0.3
- FlashCompensation: 0
- ImageNumber: 194
- Lens: 50.0 mm
- XMP-crs
- AlreadyApplied: True
- BlueHue: 0
- BlueSaturation: 0
- Brightness: +42
- ChromaticAberrationB: 0
- ChromaticAberrationR: 0
- Clarity: +12
- ColorNoiseReduction: 25
- ColorNoiseReductionDetail: 50
- Contrast: +82
- ConvertToGrayscale: False
- Defringe: 0
- Exposure: +0.28
- FillLight: 90
- GradientBasedCorrActive: true
- GradientBasedCorrAmount: 1.000000
- GradientBasedCorrBrightness: 0.000000
- GradientBasedCorrClarity: 0.000000
- GradientBasedCorrContrast: 0.000000
- GradientBasedCorrExposure: -0.017000
- GradientBasedCorrHue: 193.000000
- GradientBasedCorrMaskFullX: 0.265893
- GradientBasedCorrMaskFullY: 0.785471
- GradientBasedCorrMaskValue: 1.000000
- GradientBasedCorrMaskWhat: Mask/Gradient
- GradientBasedCorrMaskZeroX: 0.357535
- GradientBasedCorrMaskZeroY: 0.724522
- GradientBasedCorrSaturation: 0.000000
- GradientBasedCorrSharpness: 0.000000
- GradientBasedCorrWhat: Correction
- GrainAmount: 0
- GreenHue: 0
- GreenSaturation: 0
- HasCrop: False
- HasSettings: True
- HighlightRecovery: 10
- HueAdjustmentAqua: 0
- HueAdjustmentBlue: 0
- HueAdjustmentGreen: 0
- HueAdjustmentMagenta: 0
- HueAdjustmentOrange: 0
- HueAdjustmentPurple: 0
- HueAdjustmentRed: 0
- HueAdjustmentYellow: 0
- LensManualDistortionAmount: 0
- LensProfileEnable: 0
- LensProfileSetup: LensDefaults
- LuminanceAdjustmentAqua: 0
- LuminanceAdjustmentBlue: 0
- LuminanceAdjustmentGreen: 0
- LuminanceAdjustmentMagenta: 0
- LuminanceAdjustmentOrange: 0
- LuminanceAdjustmentPurple: 0
- LuminanceAdjustmentRed: 0
- LuminanceAdjustmentYellow: 0
- LuminanceSmoothing: 0
- PaintCorrectionActive: true
- PaintCorrectionAmount: 1.000000
- PaintCorrectionBrightness: 0.024000
- PaintCorrectionClarity: 0.000000
- PaintCorrectionContrast: 0.000000
- PaintCorrectionExposure: 0.017000
- PaintCorrectionHue: 193.000000
- PaintCorrectionMaskCenterWeight: 0.248157
- PaintCorrectionMaskFlow: 1.000000
- PaintCorrectionMaskRadius: 0.001847
- PaintCorrectionMaskValue: 1.000000
- PaintCorrectionMaskWhat: Mask/Paint
- PaintCorrectionSaturation: 0.000000
- PaintCorrectionSharpness: 0.000000
- PaintCorrectionWhat: Correction
- ParametricDarks: -19
- ParametricHighlightSplit: 75
- ParametricHighlights: 0
- ParametricLights: 0
- ParametricMidtoneSplit: 50
- ParametricShadowSplit: 25
- ParametricShadows: +24
- PerspectiveHorizontal: 0
- PerspectiveRotate: 0.0
- PerspectiveScale: 100
- PerspectiveVertical: 0
- PostCropVignetteAmount: -31
- PostCropVignetteFeather: 87
- PostCropVignetteHighlightContrast: 0
- PostCropVignetteMidpoint: 9
- PostCropVignetteRoundness: +100
- PostCropVignetteStyle: 1
- ProcessVersion: 5.7
- RedHue: 0
- RedSaturation: 0
- Saturation: -32
- SaturationAdjustmentAqua: 0
- SaturationAdjustmentBlue: -51
- SaturationAdjustmentGreen: 0
- SaturationAdjustmentMagenta: -19
- SaturationAdjustmentOrange: -12
- SaturationAdjustmentPurple: 0
- SaturationAdjustmentRed: -19
- SaturationAdjustmentYellow: -9
- ShadowTint: 0
- Shadows: 48
- SharpenDetail: 25
- SharpenEdgeMasking: 0
- SharpenRadius: +1.0
- Sharpness: 52
- SplitToningBalance: 0
- SplitToningHighlightHue: 157
- SplitToningHighlightSaturation: 11
- SplitToningShadowHue: 191
- SplitToningShadowSaturation: 11
- Temperature: 3875
- Tint: -5
- ToneCurve: 0, 0, 32, 22, 64, 56, 128, 128, 192, 196, 255, 255
- ToneCurveName: Medium Contrast
- Version: 6.4.1
- Vibrance: -32
- VignetteAmount: 0
- WhiteBalance: Custom
- XMP-dc
- XMP-xmp
- ModifyDate: 2012:03:10 21:45:47+03:00
- XMP-xmpNote
- HasExtendedXMP: 5CFAD1B0CFCFF5660E0F05D8556946E4