- Раздел: Природа
- Дата съёмки: 20.01.2010 08:03
- Дата загрузки фото: 28.03.2012 18:50
- Оригинальная фотография: 1772 x 1206 (1,3 Мб)
- Технические характеристики:
- Фотоаппарат: Sony DSLR-A700
- Выдержка: 1/200
- Гиперфокальное расстояние: inf m
- Диафрагма: 9,5
- Светочувствительность: 400
- Фокусное расстояние: 50,0 mm (35 mm equivalent: 50,0 mm)
- Полный EXIF
- Adobe
- ColorTransform: YCbCr
- Composite
- Aperture: 9,5
- CircleOfConfusion: 0,020 mm
- FOV: 39,0 deg
- FocalLength35efl: 50,0 mm (35 mm equivalent: 50,0 mm)
- HyperfocalDistance: inf m
- ScaleFactor35efl: 1,5
- ShutterSpeed: 1/200
- ExifIFD
- ApertureValue: 9,5
- BrightnessValue: 3,87
- ColorSpace: Uncalibrated
- Contrast: Normal
- CreateDate: 2010:01:20 08:03:03
- CustomRendered: Normal
- DateTimeOriginal: 2010:01:20 08:03:03
- DigitalZoomRatio: 0
- ExifImageHeight: 1206
- ExifImageWidth: 1772
- ExposureCompensation: 0
- ExposureMode: Manual
- ExposureProgram: Manual
- ExposureTime: 1/200
- FNumber: 9,5
- Flash: On, Fired
- FocalLength: 50,0 mm
- FocalLengthIn35mmFormat: 75 mm
- ISO: 400
- LightSource: Unknown
- MaxApertureValue: 1,4
- MeteringMode: Center-weighted average
- Saturation: Normal
- SceneCaptureType: Standard
- SceneType: Directly photographed
- Sharpness: Normal
- ShutterSpeedValue: 1/200
- WhiteBalance: Auto
- ICC-header
- IFD0
- ImageDescription: SONY DSC
- Make: SONY
- Model: DSLR-A700
- ModifyDate: 2011:02:21 18:58:05
- Orientation: Horizontal (normal)
- IFD1
- IPTC
- Caption-Abstract: SONY DSC
- System
- XMP-crs
- AlreadyApplied: True
- BlueHue: 0
- BlueSaturation: 0
- Brightness: +50
- CameraProfile: ACR 4.4
- ChromaticAberrationB: 0
- ChromaticAberrationR: 0
- Clarity: 0
- ColorNoiseReduction: 25
- Contrast: +25
- ConvertToGrayscale: False
- Defringe: 0
- Exposure: 0.00
- FillLight: 8
- GreenHue: 0
- GreenSaturation: 0
- HasCrop: False
- HasSettings: True
- HighlightRecovery: 35
- HueAdjustmentAqua: 0
- HueAdjustmentBlue: 0
- HueAdjustmentGreen: 0
- HueAdjustmentMagenta: 0
- HueAdjustmentOrange: 0
- HueAdjustmentPurple: 0
- HueAdjustmentRed: 0
- HueAdjustmentYellow: 0
- LuminanceAdjustmentAqua: 0
- LuminanceAdjustmentBlue: 0
- LuminanceAdjustmentGreen: 0
- LuminanceAdjustmentMagenta: 0
- LuminanceAdjustmentOrange: 0
- LuminanceAdjustmentPurple: 0
- LuminanceAdjustmentRed: 0
- LuminanceAdjustmentYellow: 0
- LuminanceSmoothing: 0
- ParametricDarks: 0
- ParametricHighlightSplit: 75
- ParametricHighlights: 0
- ParametricLights: 0
- ParametricMidtoneSplit: 50
- ParametricShadowSplit: 25
- ParametricShadows: 0
- PostCropVignetteAmount: 0
- RawFileName: _DSC2583.ARW
- RedHue: 0
- RedSaturation: 0
- Saturation: 0
- SaturationAdjustmentAqua: 0
- SaturationAdjustmentBlue: 0
- SaturationAdjustmentGreen: 0
- SaturationAdjustmentMagenta: 0
- SaturationAdjustmentOrange: 0
- SaturationAdjustmentPurple: 0
- SaturationAdjustmentRed: 0
- SaturationAdjustmentYellow: 0
- ShadowTint: 0
- Shadows: 5
- SharpenDetail: 25
- SharpenEdgeMasking: 0
- SharpenRadius: +1.0
- Sharpness: 25
- SplitToningBalance: 0
- SplitToningHighlightHue: 0
- SplitToningHighlightSaturation: 0
- SplitToningShadowHue: 0
- SplitToningShadowSaturation: 0
- Temperature: 6700
- Tint: +2
- ToneCurve: 0, 0, 32, 22, 64, 56, 128, 128, 192, 196, 255, 255
- ToneCurveName: Medium Contrast
- Version: 4.6
- Vibrance: 0
- VignetteAmount: 0
- WhiteBalance: As Shot
- XMP-dc
- Description: SONY DSC
- Format: image/jpeg
- XMP-exif
- ColorSpace: Unknown (-1)
- DateTimeDigitized: 2010:01:20 08:03:03+03:00
- DateTimeOriginal: 2010:01:20 08:03:03+03:00
- FlashFired: True
- FlashFunction: False
- FlashMode: On
- FlashRedEyeMode: False
- FlashReturn: No return detection
- XMP-tiff
- XMP-xmp
- CreateDate: 2011:02:21 18:58:05+03:00
- ModifyDate: 2011:02:21 18:58:05+03:00
- Rating: 0
- XMP-xmpMM
- Просмотров: 196
- Рейтинг: голосов еще нет
- Отзывов: 0