- Раздел: Тесты фототехники
- Дата съёмки: 14.04.2012 19:00
- Дата загрузки фото: 14.04.2012 19:59
- Оригинальная фотография: 2259 x 1671 (656 Кб)
- Технические характеристики:
- Фотоаппарат: Nikon D200
- Выдержка: 0,7
- Гиперфокальное расстояние: inf m
- Диафрагма: 8,0
- Светочувствительность: 400
- Фокусное расстояние: 35,0 mm (35 mm equivalent: 35,0 mm)
- Экспокоррекция: -1
- Полный EXIF
- Adobe
- ColorTransform: YCbCr
- Composite
- Aperture: 8,0
- CircleOfConfusion: 0,020 mm
- FOV: 54,0 deg
- FocalLength35efl: 35,0 mm (35 mm equivalent: 35,0 mm)
- HyperfocalDistance: inf m
- ScaleFactor35efl: 1,5
- ShutterSpeed: 0,7
- ExifIFD
- ApertureValue: 8,0
- CFAPattern: [Green,Red][Blue,Green]
- Contrast: High
- CreateDate: 2012:04:14 19:00:59
- CustomRendered: Normal
- DateTimeOriginal: 2012:04:14 19:00:59
- DigitalZoomRatio: 1
- ExposureCompensation: -1
- ExposureMode: Manual
- ExposureProgram: Manual
- ExposureTime: 0,7
- FNumber: 8,0
- Flash: No Flash
- FocalLength: 35,0 mm
- FocalLengthIn35mmFormat: 52 mm
- GainControl: Low gain up
- ISO: 400
- LensInfo: 35mm f/1.8
- LensModel: 35.0 mm f/1.8
- LightSource: Unknown
- MaxApertureValue: 1,7
- MeteringMode: Spot
- Saturation: High
- SceneCaptureType: Standard
- SceneType: Directly photographed
- SensingMethod: One-chip color area
- Sharpness: Normal
- ShutterSpeedValue: 0,7
- SubjectDistanceRange: Unknown
- UserComment: ILYA$XDEVS.COM;+380502843246
- WhiteBalance: Auto
- ICC-header
- ICC-meas
- ICC-view
- IFD0
- Make: NIKON CORPORATION
- Model: NIKON D200
- ModifyDate: 2012:04:14 23:05:16
- IFD1
- IPTC
- DateCreated: 2012:04:14
- System
- XMP-aux
- ApproximateFocusDistance: 0,71
- ImageNumber: 54648
- Lens: 35.0 mm f/1.8
- LensID: 159
- XMP-crs
- AlreadyApplied: True
- AutoLateralCA: 1
- Blacks2012: +1
- BlueHue: 0
- BlueSaturation: 0
- Brightness: 0
- CameraProfile: Embedded
- Clarity: 0
- Clarity2012: 0
- ColorNoiseReduction: 0
- Contrast: 0
- Contrast2012: -25
- ConvertToGrayscale: False
- CropAngle: 0
- CropBottom: 0.866083
- CropConstrainToWarp: 0
- CropHeight: 1671
- CropLeft: 0.229673
- CropRight: 0.813076
- CropTop: 0.221527
- CropUnit: pixels
- CropWidth: 2259
- Defringe: 0
- Exposure: 0.00
- Exposure2012: -1.20
- FillLight: 0
- GrainAmount: 0
- GreenHue: 0
- GreenSaturation: 0
- HasCrop: True
- HasSettings: True
- HighlightRecovery: 0
- Highlights2012: 0
- HueAdjustmentAqua: 0
- HueAdjustmentBlue: 0
- HueAdjustmentGreen: 0
- HueAdjustmentMagenta: 0
- HueAdjustmentOrange: 0
- HueAdjustmentPurple: 0
- HueAdjustmentRed: 0
- HueAdjustmentYellow: 0
- IncrementalTemperature: 0
- IncrementalTint: 0
- LensManualDistortionAmount: 0
- LensProfileEnable: 0
- LensProfileSetup: LensDefaults
- LuminanceAdjustmentAqua: 0
- LuminanceAdjustmentBlue: 0
- LuminanceAdjustmentGreen: 0
- LuminanceAdjustmentMagenta: 0
- LuminanceAdjustmentOrange: 0
- LuminanceAdjustmentPurple: 0
- LuminanceAdjustmentRed: 0
- LuminanceAdjustmentYellow: 0
- LuminanceSmoothing: 0
- ParametricDarks: 0
- ParametricHighlightSplit: 75
- ParametricHighlights: 0
- ParametricLights: 0
- ParametricMidtoneSplit: 50
- ParametricShadowSplit: 25
- ParametricShadows: 0
- PerspectiveHorizontal: 0
- PerspectiveRotate: 0.0
- PerspectiveScale: 100
- PerspectiveVertical: 0
- PostCropVignetteAmount: 0
- ProcessVersion: 6.7
- RedHue: 0
- RedSaturation: 0
- Saturation: 0
- SaturationAdjustmentAqua: 0
- SaturationAdjustmentBlue: 0
- SaturationAdjustmentGreen: 0
- SaturationAdjustmentMagenta: 0
- SaturationAdjustmentOrange: 0
- SaturationAdjustmentPurple: 0
- SaturationAdjustmentRed: 0
- SaturationAdjustmentYellow: 0
- ShadowTint: 0
- Shadows: 0
- Shadows2012: 0
- SharpenDetail: 25
- SharpenEdgeMasking: 0
- SharpenRadius: +1.0
- Sharpness: 0
- SplitToningBalance: 0
- SplitToningHighlightHue: 0
- SplitToningHighlightSaturation: 0
- SplitToningShadowHue: 0
- SplitToningShadowSaturation: 0
- ToneCurve: 0, 0, 255, 255
- ToneCurveBlue: 0, 0, 255, 255
- ToneCurveGreen: 0, 0, 255, 255
- ToneCurveName: Linear
- ToneCurveName2012: Linear
- ToneCurvePV2012: 0, 0, 255, 255
- ToneCurvePV2012Blue: 0, 0, 255, 255
- ToneCurvePV2012Green: 0, 0, 255, 255
- ToneCurvePV2012Red: 0, 0, 255, 255
- ToneCurveRed: 0, 0, 255, 255
- Version: 7.0
- Vibrance: 0
- VignetteAmount: 0
- WhiteBalance: As Shot
- Whites2012: +22
- XMP-dc
- XMP-xmp
- CreateDate: 2012:04:14 19:00:59.65
- ModifyDate: 2012:04:14 23:05:16+08:00
- XMP-xmpMM
- Просмотров: 266
- Рейтинг: голосов еще нет
- Отзывов: 0