Уважаемые друзья и участники проекта iXBT.photo! К сожалению, 1 марта 2026 года проект iXBT.photo прекратит свою работу и будет закрыт. Мы высоко ценим ваше участие и тот вклад, который вы внесли в развитие нашего сообщества. Пожалуйста, не забудьте сохранить ваши фотографии до этой даты.
С уважением, команда iXBT.com
| 2012.03.23.12.50.46.jpg |
2012.03.23.12.50.46.jpg
- Раздел: Путешествия
- Дата съёмки: 23.03.2012 12:50
- Дата загрузки фото: 28.04.2012 16:20
- Оригинальная фотография: 800 x 533 (198 Кб)
- Технические характеристики:
- Фотоаппарат: Canon EOS REBEL T2i
- Выдержка: 1/1250
- Гиперфокальное расстояние: inf m
- Диафрагма: 8,0
- Светочувствительность: 200
- Фокусное расстояние: 400,0 mm (35 mm equivalent: 4000,0 mm)
- Экспокоррекция: -2/3
- Полный EXIF
- Adobe
- ColorTransform: YCbCr
- Composite
- Aperture: 8,0
- CircleOfConfusion: 0,003 mm
- DOF: inf (0,00 m - inf)
- FOV: 0,0 deg
- FocalLength35efl: 400,0 mm (35 mm equivalent: 4000,0 mm)
- HyperfocalDistance: inf m
- ScaleFactor35efl: 10,2
- ShutterSpeed: 1/1250
- ExifIFD
- ApertureValue: 8,0
- ColorSpace: Uncalibrated
- CreateDate: 2012:03:23 12:50:46
- CustomRendered: Normal
- DateTimeOriginal: 2012:03:23 12:50:46
- ExifImageHeight: 533
- ExifImageWidth: 800
- ExposureCompensation: -2/3
- ExposureMode: Auto
- ExposureProgram: Aperture-priority AE
- ExposureTime: 1/1250
- FNumber: 8,0
- Flash: Off, Did not fire
- FocalLength: 400,0 mm
- ISO: 200
- LensInfo: 100-400mm f/?
- LensModel: EF100-400mm f/4.5-5.6L IS USM
- MaxApertureValue: 5,7
- MeteringMode: Multi-segment
- SceneCaptureType: Standard
- SensitivityType: Unknown
- SerialNumber: 1222502897
- ShutterSpeedValue: 1/1250
- SubjectDistance: 4294967295 m
- WhiteBalance: Auto
- ICC-header
- IFD0
- BitsPerSample: 8 8 8
- ImageHeight: 3456
- ImageWidth: 5184
- Make: Canon
- Model: Canon EOS REBEL T2i
- ModifyDate: 2012:04:28 02:27:35
- Orientation: Horizontal (normal)
- PhotometricInterpretation: RGB
- SamplesPerPixel: 3
- IFD1
- IPTC
- DateCreated: 2012:03:23
- System
- XMP-aux
- ApproximateFocusDistance: 4294967295
- Firmware: 1.0.9
- FlashCompensation: 0
- ImageNumber: 0
- Lens: EF100-400mm f/4.5-5.6L IS USM
- LensID: 183
- XMP-crs
- AlreadyApplied: True
- BlueHue: 0
- BlueSaturation: 0
- Brightness: +125
- ChromaticAberrationB: 0
- ChromaticAberrationR: 0
- Clarity: +94
- ColorNoiseReduction: 25
- ColorNoiseReductionDetail: 50
- Contrast: +50
- ConvertToGrayscale: False
- Defringe: 0
- Exposure: -1.25
- FillLight: 19
- GrainAmount: 0
- GreenHue: 0
- GreenSaturation: 0
- HasCrop: False
- HasSettings: True
- HighlightRecovery: 0
- HueAdjustmentAqua: 0
- HueAdjustmentBlue: 0
- HueAdjustmentGreen: 0
- HueAdjustmentMagenta: 0
- HueAdjustmentOrange: 0
- HueAdjustmentPurple: 0
- HueAdjustmentRed: 0
- HueAdjustmentYellow: 0
- LensManualDistortionAmount: 0
- LensProfileEnable: 0
- LensProfileSetup: LensDefaults
- LuminanceAdjustmentAqua: 0
- LuminanceAdjustmentBlue: 0
- LuminanceAdjustmentGreen: 0
- LuminanceAdjustmentMagenta: 0
- LuminanceAdjustmentOrange: 0
- LuminanceAdjustmentPurple: 0
- LuminanceAdjustmentRed: 0
- LuminanceAdjustmentYellow: 0
- LuminanceSmoothing: 0
- ParametricDarks: 0
- ParametricHighlightSplit: 75
- ParametricHighlights: 0
- ParametricLights: 0
- ParametricMidtoneSplit: 50
- ParametricShadowSplit: 25
- ParametricShadows: 0
- PerspectiveHorizontal: 0
- PerspectiveRotate: 0.0
- PerspectiveScale: 100
- PerspectiveVertical: 0
- PostCropVignetteAmount: +8
- PostCropVignetteFeather: 50
- PostCropVignetteMidpoint: 50
- PostCropVignetteRoundness: 0
- PostCropVignetteStyle: 1
- ProcessVersion: 5.7
- RawFileName: 2012.03.23.12.50.46.CR2
- RedHue: 0
- RedSaturation: 0
- Saturation: 0
- SaturationAdjustmentAqua: 0
- SaturationAdjustmentBlue: 0
- SaturationAdjustmentGreen: 0
- SaturationAdjustmentMagenta: 0
- SaturationAdjustmentOrange: 0
- SaturationAdjustmentPurple: 0
- SaturationAdjustmentRed: 0
- SaturationAdjustmentYellow: 0
- ShadowTint: 0
- Shadows: 29
- SharpenDetail: 25
- SharpenEdgeMasking: 0
- SharpenRadius: +1.0
- Sharpness: 25
- SplitToningBalance: 0
- SplitToningHighlightHue: 0
- SplitToningHighlightSaturation: 0
- SplitToningShadowHue: 0
- SplitToningShadowSaturation: 0
- Temperature: 5800
- Tint: +14
- ToneCurve: 0, 0, 32, 22, 64, 56, 128, 128, 192, 196, 255, 255
- ToneCurveName: Medium Contrast
- Version: 6.3
- Vibrance: 0
- VignetteAmount: 0
- WhiteBalance: As Shot
- XMP-dc
- XMP-xmp
- CreateDate: 2012:03:23 12:50:46.00+03:00
- ModifyDate: 2012:04:28 02:27:35+03:00
- Rating: 0
- XMP-xmpMM
- Просмотров: 82
- Рейтинг: голосов еще нет
- Отзывов: 0
Получить код для блога
| Вставка фотографии в текущем разрешении |
Вставка миниатюры |
HTML (для вставки в блог):
BBCode (для вставки в форум):
Ссылка на фото:
Ссылка на миниатюру:
- Послать ссылку другу
| Комментарии к фотографии |