- Раздел: Город
- Дата съёмки: 28.04.2012 21:44
- Дата загрузки фото: 29.04.2012 09:59
- Оригинальная фотография: 3000 x 2002 (504 Кб)
- Технические характеристики:
- Фотоаппарат: Nikon D800
- Выдержка: 4,0
- Гиперфокальное расстояние: inf m
- Диафрагма: 3,2
- Светочувствительность: 50
- Фокусное расстояние: 150,0 mm (35 mm equivalent: 150,0 mm)
- Экспокоррекция: +1/3
- Полный EXIF
- Adobe
- ColorTransform: YCbCr
- Composite
- Aperture: 3,2
- CircleOfConfusion: 0,030 mm
- FOV: 13,0 deg
- FocalLength35efl: 150,0 mm (35 mm equivalent: 150,0 mm)
- HyperfocalDistance: inf m
- LightValue: 2,2
- ScaleFactor35efl: 1,0
- ShutterSpeed: 4,0
- ExifIFD
- ApertureValue: 3,2
- CFAPattern: [Red,Green][Green,Blue]
- Contrast: Normal
- CreateDate: 2012:04:28 21:44:19
- CustomRendered: Normal
- DateTimeOriginal: 2012:04:28 21:44:19
- DigitalZoomRatio: 1
- ExposureCompensation: +1/3
- ExposureMode: Manual
- ExposureProgram: Manual
- ExposureTime: 4,0
- FNumber: 3,2
- Flash: Off, Did not fire
- FocalLength: 150,0 mm
- FocalLengthIn35mmFormat: 150 mm
- GainControl: None
- ISO: 50
- LensInfo: 150mm f/2.8
- LensModel: 150.0 mm f/2.8
- LightSource: Unknown
- MaxApertureValue: 2,8
- MeteringMode: Multi-segment
- Saturation: Normal
- SceneCaptureType: Standard
- SceneType: Directly photographed
- SensingMethod: One-chip color area
- SensitivityType: Recommended Exposure Index
- SerialNumber: 8002139
- Sharpness: Normal
- ShutterSpeedValue: 4,0
- SubjectDistanceRange: Unknown
- UserComment: illya@xdevs.com (C) TSEMENKO ILYA
- WhiteBalance: Auto
- ICC-header
- IFD0
- Artist: Tsemenko Illya xDevs.com
- Copyright: (C)TIN
- Make: NIKON CORPORATION
- Model: NIKON D800
- ModifyDate: 2012:04:29 13:58:09
- IFD1
- IPTC
- By-line: Tsemenko Illya xDevs.com
- CopyrightNotice: (C)TIN
- DateCreated: 2012:04:28
- System
- XMP-aux
- ApproximateFocusDistance: 4294967295
- ImageNumber: 1071
- Lens: 150.0 mm f/2.8
- LensID: 72
- XMP-crs
- AlreadyApplied: True
- AutoLateralCA: 0
- Blacks2012: +26
- BlueHue: 0
- BlueSaturation: 0
- Brightness: +50
- Clarity: 0
- Clarity2012: +100
- ColorNoiseReduction: 25
- ColorNoiseReductionDetail: 50
- Contrast: +25
- Contrast2012: +19
- ConvertToGrayscale: False
- CropAngle: 3.72563
- CropBottom: 1
- CropConstrainToWarp: 0
- CropHeight: 2002
- CropLeft: 0.064245
- CropRight: 0.935755
- CropTop: 0
- CropUnit: pixels
- CropWidth: 3000
- Defringe: 0
- Exposure: 0.00
- Exposure2012: +0.81
- FillLight: 0
- GrainAmount: 0
- GreenHue: 0
- GreenSaturation: 0
- HasCrop: True
- HasSettings: True
- HighlightRecovery: 0
- Highlights2012: 0
- HueAdjustmentAqua: 0
- HueAdjustmentBlue: 0
- HueAdjustmentGreen: 0
- HueAdjustmentMagenta: 0
- HueAdjustmentOrange: 0
- HueAdjustmentPurple: 0
- HueAdjustmentRed: 0
- HueAdjustmentYellow: 0
- LensManualDistortionAmount: 0
- LensProfileEnable: 0
- LensProfileSetup: LensDefaults
- LuminanceAdjustmentAqua: 0
- LuminanceAdjustmentBlue: 0
- LuminanceAdjustmentGreen: 0
- LuminanceAdjustmentMagenta: 0
- LuminanceAdjustmentOrange: 0
- LuminanceAdjustmentPurple: 0
- LuminanceAdjustmentRed: 0
- LuminanceAdjustmentYellow: 0
- LuminanceSmoothing: 0
- ParametricDarks: 0
- ParametricHighlightSplit: 75
- ParametricHighlights: 0
- ParametricLights: 0
- ParametricMidtoneSplit: 50
- ParametricShadowSplit: 25
- ParametricShadows: 0
- PerspectiveHorizontal: 0
- PerspectiveRotate: 0.0
- PerspectiveScale: 100
- PerspectiveVertical: 0
- PostCropVignetteAmount: 0
- ProcessVersion: 6.7
- RedHue: 0
- RedSaturation: 0
- Saturation: 0
- SaturationAdjustmentAqua: 0
- SaturationAdjustmentBlue: 0
- SaturationAdjustmentGreen: 0
- SaturationAdjustmentMagenta: 0
- SaturationAdjustmentOrange: 0
- SaturationAdjustmentPurple: 0
- SaturationAdjustmentRed: 0
- SaturationAdjustmentYellow: 0
- ShadowTint: 0
- Shadows: 5
- Shadows2012: 0
- SharpenDetail: 25
- SharpenEdgeMasking: 0
- SharpenRadius: +1.0
- Sharpness: 25
- SplitToningBalance: 0
- SplitToningHighlightHue: 0
- SplitToningHighlightSaturation: 0
- SplitToningShadowHue: 0
- SplitToningShadowSaturation: 0
- Temperature: 2700
- Tint: +3
- ToneCurve: 0, 0, 255, 255
- ToneCurveBlue: 0, 0, 255, 255
- ToneCurveGreen: 0, 0, 255, 255
- ToneCurveName: Linear
- ToneCurveName2012: Linear
- ToneCurvePV2012: 0, 0, 255, 255
- ToneCurvePV2012Blue: 0, 0, 255, 255
- ToneCurvePV2012Green: 0, 0, 255, 255
- ToneCurvePV2012Red: 0, 0, 255, 255
- ToneCurveRed: 0, 0, 255, 255
- Version: 7.0
- Vibrance: 0
- VignetteAmount: 0
- WhiteBalance: Custom
- Whites2012: +15
- XMP-dc
- Creator: Tsemenko Illya xDevs.com
- Format: image/jpeg
- Rights: (C)TIN
- XMP-xmp
- CreateDate: 2012:04:28 21:44:19.10
- ModifyDate: 2012:04:29 13:58:09+08:00
- XMP-xmpMM
- Просмотров: 306
- Рейтинг: голосов еще нет
- Отзывов: 0