» Участники » vilad » ТЕСТЫ КАМЕР » Sony α NEX-5N SEL1855, дневное освещение » Sony NEX-5N кит 18-55, RAW-тест детализации-резкости |
Sony NEX-5N кит 18-55, RAW-тест детализации-резкости |
![](img/title-line.gif) |
![](img/title-shadow.gif) | |
Sony NEX-5N кит 18-55, RAW-тест детализации-резкости
- Раздел: Тесты фототехники
- Дата съёмки: 01.05.2012 13:06
- Дата загрузки фото: 01.05.2012 20:22
- Оригинальная фотография: 4912 x 3264 (13,6 Мб)
- Технические характеристики:
- Фотоаппарат: Sony NEX-5N
- Выдержка: 1/200
- Гиперфокальное расстояние: inf m
- Диафрагма: 7,1
- Светочувствительность: 100
- Фокусное расстояние: 24,0 mm (35 mm equivalent: 24,0 mm)
- Полный EXIF
- Adobe
- ColorTransform: YCbCr
- Composite
- Aperture: 7,1
- CircleOfConfusion: 0,020 mm
- FOV: 73,0 deg
- FocalLength35efl: 24,0 mm (35 mm equivalent: 24,0 mm)
- HyperfocalDistance: inf m
- ScaleFactor35efl: 1,5
- ShutterSpeed: 1/200
- ExifIFD
- ApertureValue: 7,1
- BrightnessValue: 8,13828125
- Contrast: Normal
- CreateDate: 2012:05:01 13:06:05
- CustomRendered: Normal
- DateTimeOriginal: 2012:05:01 13:06:05
- ExposureCompensation: 0
- ExposureMode: Auto
- ExposureProgram: Aperture-priority AE
- ExposureTime: 1/200
- FNumber: 7,1
- Flash: Off, Did not fire
- FocalLength: 24,0 mm
- FocalLengthIn35mmFormat: 36 mm
- ISO: 100
- LensInfo: 18-55mm f/3.5-5.6
- LensModel: E 18-55mm F3.5-5.6 OSS
- LightSource: Unknown
- MaxApertureValue: 4,0
- MeteringMode: Multi-segment
- RecommendedExposureIndex: 100
- Saturation: High
- SceneCaptureType: Standard
- SceneType: Directly photographed
- SensitivityType: Recommended Exposure Index
- Sharpness: Normal
- ShutterSpeedValue: 1/200
- WhiteBalance: Auto
- ICC-header
- ICC-meas
- ICC-view
- IFD0
- Make: SONY
- Model: NEX-5N
- ModifyDate: 2012:05:01 15:40:11
- IFD1
- IPTC
- DateCreated: 2012:05:01
- System
- XMP-aux
- Lens: E 18-55mm F3.5-5.6 OSS
- XMP-crs
- AlreadyApplied: True
- AutoLateralCA: 0
- Blacks2012: +24
- BlueHue: 0
- BlueSaturation: 0
- Brightness: +50
- Clarity: 0
- Clarity2012: 0
- ColorNoiseReduction: 25
- ColorNoiseReductionDetail: 50
- Contrast: +25
- Contrast2012: +35
- ConvertToGrayscale: False
- Defringe: 0
- Exposure: 0.00
- Exposure2012: 0.00
- FillLight: 0
- GrainAmount: 0
- GreenHue: 0
- GreenSaturation: 0
- HasCrop: False
- HasSettings: True
- HighlightRecovery: 0
- Highlights2012: -100
- HueAdjustmentAqua: 0
- HueAdjustmentBlue: 0
- HueAdjustmentGreen: 0
- HueAdjustmentMagenta: 0
- HueAdjustmentOrange: 0
- HueAdjustmentPurple: 0
- HueAdjustmentRed: 0
- HueAdjustmentYellow: 0
- LensManualDistortionAmount: 0
- LensProfileEnable: 0
- LensProfileSetup: LensDefaults
- LuminanceAdjustmentAqua: 0
- LuminanceAdjustmentBlue: 0
- LuminanceAdjustmentGreen: 0
- LuminanceAdjustmentMagenta: 0
- LuminanceAdjustmentOrange: 0
- LuminanceAdjustmentPurple: 0
- LuminanceAdjustmentRed: 0
- LuminanceAdjustmentYellow: 0
- LuminanceSmoothing: 0
- ParametricDarks: 0
- ParametricHighlightSplit: 75
- ParametricHighlights: 0
- ParametricLights: 0
- ParametricMidtoneSplit: 50
- ParametricShadowSplit: 25
- ParametricShadows: 0
- PerspectiveHorizontal: 0
- PerspectiveRotate: 0.0
- PerspectiveScale: 100
- PerspectiveVertical: 0
- PostCropVignetteAmount: 0
- ProcessVersion: 6.7
- RedHue: 0
- RedSaturation: 0
- Saturation: 0
- SaturationAdjustmentAqua: 0
- SaturationAdjustmentBlue: 0
- SaturationAdjustmentGreen: 0
- SaturationAdjustmentMagenta: 0
- SaturationAdjustmentOrange: 0
- SaturationAdjustmentPurple: 0
- SaturationAdjustmentRed: 0
- SaturationAdjustmentYellow: 0
- ShadowTint: 0
- Shadows: 5
- Shadows2012: +56
- SharpenDetail: 30
- SharpenEdgeMasking: 0
- SharpenRadius: +0.8
- Sharpness: 76
- SplitToningBalance: 0
- SplitToningHighlightHue: 0
- SplitToningHighlightSaturation: 0
- SplitToningShadowHue: 0
- SplitToningShadowSaturation: 0
- Temperature: 5000
- Tint: +10
- ToneCurve: 0, 0, 255, 255
- ToneCurveBlue: 0, 0, 255, 255
- ToneCurveGreen: 0, 0, 255, 255
- ToneCurveName: Linear
- ToneCurveName2012: Linear
- ToneCurvePV2012: 0, 0, 255, 255
- ToneCurvePV2012Blue: 0, 0, 255, 255
- ToneCurvePV2012Green: 0, 0, 255, 255
- ToneCurvePV2012Red: 0, 0, 255, 255
- ToneCurveRed: 0, 0, 255, 255
- Version: 7.0
- Vibrance: 0
- VignetteAmount: 0
- WhiteBalance: As Shot
- Whites2012: -8
- XMP-dc
- XMP-xmp
- ModifyDate: 2012:05:01 15:40:11+04:00
- XMP-xmpMM
- Просмотров: 1477
- Рейтинг: голосов еще нет
- Отзывов: 0
Получить код для блога
Вставка фотографии в текущем разрешении |
Вставка миниатюры |
HTML (для вставки в блог):
BBCode (для вставки в форум):
Ссылка на фото:
Ссылка на миниатюру:
- Послать ссылку другу
Комментарии к фотографии |