Уважаемые друзья и участники проекта iXBT.photo! К сожалению, 1 марта 2026 года проект iXBT.photo прекратит свою работу и будет закрыт. Мы высоко ценим ваше участие и тот вклад, который вы внесли в развитие нашего сообщества. Пожалуйста, не забудьте сохранить ваши фотографии до этой даты.
С уважением, команда iXBT.com
| * |
*
- Раздел: Цветы
- Дата съёмки: 30.04.2012 17:22
- Дата загрузки фото: 06.05.2012 20:43
- Оригинальная фотография: 2700 x 2131 (1,6 Мб)
- Технические характеристики:
- Фотоаппарат: Canon PowerShot SX20 IS
- Выдержка: 1/320
- Гиперфокальное расстояние: inf m
- Диафрагма: 5,7
- Светочувствительность: 100
- Фокусное расстояние: 100,0 mm (35 mm equivalent: 800,0 mm)
- Экспокоррекция: -1/3
- Полный EXIF
- Composite
- Aperture: 5,7
- CircleOfConfusion: 0,004 mm
- DOF: inf (0,00 m - inf)
- FOV: 2,0 deg
- FocalLength35efl: 100,0 mm (35 mm equivalent: 800,0 mm)
- HyperfocalDistance: inf m
- ScaleFactor35efl: 8,1
- ShutterSpeed: 1/320
- ExifIFD
- ApertureValue: 5,7
- CreateDate: 2012:04:30 17:22:35
- CustomRendered: Normal
- DateTimeOriginal: 2012:04:30 17:22:35
- DigitalZoomRatio: 1
- ExifImageHeight: 2131
- ExifImageWidth: 2700
- ExposureCompensation: -1/3
- ExposureMode: Manual
- ExposureTime: 1/320
- FNumber: 5,7
- Flash: Off, Did not fire
- FocalLength: 100,0 mm
- ISO: 100
- LensInfo: 5-100mm f/?
- LensModel: 5.0-100.0 mm
- MaxApertureValue: 5,7
- MeteringMode: Center-weighted average
- SceneCaptureType: Standard
- SensingMethod: One-chip color area
- ShutterSpeedValue: 1/320
- SubjectDistance: 3,05 m
- WhiteBalance: Auto
- ICC-header
- ICC-meas
- ICC-view
- IFD0
- Make: Canon
- Model: Canon PowerShot SX20 IS
- ModifyDate: 2012:05:06 18:40:45
- Orientation: Horizontal (normal)
- Software: ACDSee Pro 5
- IFD1
- IPTC
- DateCreated: 2012:04:30
- System
- XMP-aux
- ApproximateFocusDistance: 3,05
- Firmware: 1.02
- FlashCompensation: 0
- Lens: 5.0-100.0 mm
- XMP-crs
- AlreadyApplied: True
- BlueHue: 0
- BlueSaturation: 0
- Brightness: 0
- CameraProfile: Embedded
- ChromaticAberrationB: 0
- ChromaticAberrationR: 0
- Clarity: +40
- ColorNoiseReduction: 0
- Contrast: 0
- ConvertToGrayscale: False
- Defringe: 2
- Exposure: 0.00
- FillLight: 0
- GrainAmount: 0
- GreenHue: 0
- GreenSaturation: 0
- HasCrop: False
- HasSettings: True
- HighlightRecovery: 96
- HueAdjustmentAqua: 0
- HueAdjustmentBlue: 0
- HueAdjustmentGreen: 0
- HueAdjustmentMagenta: 0
- HueAdjustmentOrange: 0
- HueAdjustmentPurple: 0
- HueAdjustmentRed: 0
- HueAdjustmentYellow: 0
- IncrementalTemperature: 0
- IncrementalTint: 0
- LensManualDistortionAmount: 0
- LensProfileEnable: 0
- LensProfileSetup: LensDefaults
- LuminanceAdjustmentAqua: 0
- LuminanceAdjustmentBlue: 0
- LuminanceAdjustmentGreen: 0
- LuminanceAdjustmentMagenta: 0
- LuminanceAdjustmentOrange: 0
- LuminanceAdjustmentPurple: 0
- LuminanceAdjustmentRed: 0
- LuminanceAdjustmentYellow: 0
- LuminanceSmoothing: 0
- ParametricDarks: 0
- ParametricHighlightSplit: 75
- ParametricHighlights: -20
- ParametricLights: 0
- ParametricMidtoneSplit: 50
- ParametricShadowSplit: 25
- ParametricShadows: 0
- PerspectiveHorizontal: 0
- PerspectiveRotate: 0.0
- PerspectiveScale: 100
- PerspectiveVertical: 0
- PostCropVignetteAmount: 0
- ProcessVersion: 5.7
- RedHue: 0
- RedSaturation: 0
- Saturation: +14
- SaturationAdjustmentAqua: 0
- SaturationAdjustmentBlue: 0
- SaturationAdjustmentGreen: 0
- SaturationAdjustmentMagenta: 0
- SaturationAdjustmentOrange: 0
- SaturationAdjustmentPurple: 0
- SaturationAdjustmentRed: 0
- SaturationAdjustmentYellow: 0
- ShadowTint: 0
- Shadows: 0
- SharpenDetail: 40
- SharpenEdgeMasking: 0
- SharpenRadius: +1.0
- Sharpness: 10
- SplitToningBalance: 0
- SplitToningHighlightHue: 0
- SplitToningHighlightSaturation: 0
- SplitToningShadowHue: 0
- SplitToningShadowSaturation: 0
- ToneCurve: 0, 0, 255, 255
- ToneCurveName: Linear
- Version: 6.4
- Vibrance: +8
- VignetteAmount: 0
- WhiteBalance: As Shot
- XMP-x
- XMP-xmp
- ModifyDate: 2012:05:06 18:37:35+02:00
- Просмотров: 307
- Рейтинг: голосов еще нет
- Отзывов: 0
Получить код для блога
| Вставка фотографии в текущем разрешении |
Вставка миниатюры |
HTML (для вставки в блог):
BBCode (для вставки в форум):
Ссылка на фото:
Ссылка на миниатюру:
- Послать ссылку другу
| Комментарии к фотографии |