- Раздел: Другое, разное
- Дата съёмки: 15.04.2012 15:59
- Дата загрузки фото: 08.05.2012 07:53
- Оригинальная фотография: 1329 x 900 (911 Кб)
- Технические характеристики:
- Фотоаппарат: Canon EOS 40D
- Выдержка: 1/25
- Гиперфокальное расстояние: inf m
- Диафрагма: 4,5
- Светочувствительность: 200
- Фокусное расстояние: 24,0 mm (35 mm equivalent: 96,0 mm)
- Полный EXIF
- Adobe
- ColorTransform: YCbCr
- Composite
- Aperture: 4,5
- CircleOfConfusion: 0,006 mm
- DOF: inf (0,00 m - inf)
- FOV: 21,0 deg
- FocalLength35efl: 24,0 mm (35 mm equivalent: 96,0 mm)
- HyperfocalDistance: inf m
- ScaleFactor35efl: 4,7
- ShutterSpeed: 1/25
- ExifIFD
- ApertureValue: 4,5
- ColorSpace: sRGB
- CreateDate: 2012:04:15 15:59:05
- CustomRendered: Normal
- DateTimeOriginal: 2012:04:15 15:59:05
- ExifImageHeight: 900
- ExifImageWidth: 1329
- ExposureCompensation: 0
- ExposureMode: Manual
- ExposureProgram: Manual
- ExposureTime: 1/25
- FNumber: 4,5
- Flash: Off, Did not fire
- FocalLength: 24,0 mm
- ISO: 200
- LensInfo: 24-105mm f/?
- LensModel: EF24-105mm f/4L IS USM
- MaxApertureValue: 4,0
- MeteringMode: Spot
- SceneCaptureType: Standard
- SerialNumber: 2231214667
- ShutterSpeedValue: 1/25
- SubjectDistance: 2,72 m
- WhiteBalance: Auto
- ICC-header
- ICC-meas
- ICC-view
- IFD0
- BitsPerSample: 8 8 8
- ImageHeight: 2543
- ImageWidth: 3756
- Make: Canon
- Model: Canon EOS 40D
- ModifyDate: 2012:05:01 00:09:01
- Orientation: Horizontal (normal)
- PhotometricInterpretation: RGB
- SamplesPerPixel: 3
- IFD1
- IPTC
- DateCreated: 2012:04:15
- System
- XMP-aux
- ApproximateFocusDistance: 2,72
- Firmware: 1.1.1
- FlashCompensation: 0
- ImageNumber: 0
- Lens: EF24-105mm f/4L IS USM
- LensID: 237
- XMP-crs
- AlreadyApplied: True
- BlueHue: 0
- BlueSaturation: -3
- Brightness: +50
- ChromaticAberrationB: 0
- ChromaticAberrationR: 0
- Clarity: +91
- ColorNoiseReduction: 83
- ColorNoiseReductionDetail: 50
- Contrast: +54
- ConvertToGrayscale: False
- CropAngle: -0.02669
- CropBottom: 0.999325
- CropConstrainToWarp: 0
- CropHeight: 2543
- CropLeft: 0.021034
- CropRight: 0.98744
- CropTop: 0.019078
- CropUnit: pixels
- CropWidth: 3756
- Defringe: 0
- Exposure: +0.36
- FillLight: 27
- GrainAmount: 0
- GreenHue: 0
- GreenSaturation: 0
- HasCrop: True
- HasSettings: True
- HighlightRecovery: 97
- HueAdjustmentAqua: -54
- HueAdjustmentBlue: +15
- HueAdjustmentGreen: -70
- HueAdjustmentMagenta: 0
- HueAdjustmentOrange: 0
- HueAdjustmentPurple: 0
- HueAdjustmentRed: 0
- HueAdjustmentYellow: -29
- LensManualDistortionAmount: 0
- LensProfileEnable: 0
- LensProfileSetup: LensDefaults
- LuminanceAdjustmentAqua: 0
- LuminanceAdjustmentBlue: 0
- LuminanceAdjustmentGreen: 0
- LuminanceAdjustmentMagenta: 0
- LuminanceAdjustmentOrange: 0
- LuminanceAdjustmentPurple: 0
- LuminanceAdjustmentRed: 0
- LuminanceAdjustmentYellow: 0
- LuminanceNoiseReductionContrast: 0
- LuminanceNoiseReductionDetail: 50
- LuminanceSmoothing: 45
- ParametricDarks: +78
- ParametricHighlightSplit: 75
- ParametricHighlights: -19
- ParametricLights: +28
- ParametricMidtoneSplit: 50
- ParametricShadowSplit: 25
- ParametricShadows: +1
- PerspectiveHorizontal: 0
- PerspectiveRotate: 0.0
- PerspectiveScale: 100
- PerspectiveVertical: +11
- PostCropVignetteAmount: 0
- ProcessVersion: 5.7
- RedHue: 0
- RedSaturation: -100
- Saturation: +12
- SaturationAdjustmentAqua: 0
- SaturationAdjustmentBlue: 0
- SaturationAdjustmentGreen: 0
- SaturationAdjustmentMagenta: 0
- SaturationAdjustmentOrange: 0
- SaturationAdjustmentPurple: 0
- SaturationAdjustmentRed: 0
- SaturationAdjustmentYellow: 0
- ShadowTint: 0
- Shadows: 4
- SharpenDetail: 25
- SharpenEdgeMasking: 0
- SharpenRadius: +2.5
- Sharpness: 117
- SplitToningBalance: 0
- SplitToningHighlightHue: 0
- SplitToningHighlightSaturation: 0
- SplitToningShadowHue: 0
- SplitToningShadowSaturation: 0
- Temperature: 6598
- Tint: +8
- ToneCurve: 0, 0, 32, 22, 64, 56, 128, 128, 192, 196, 255, 255
- ToneCurveName: Medium Contrast
- Version: 6.4.1
- Vibrance: +17
- VignetteAmount: 0
- WhiteBalance: Custom
- XMP-dc
- XMP-xmp
- CreateDate: 2012:04:15 15:59:05.00
- ModifyDate: 2012:05:01 00:09:01+04:00
- XMP-xmpMM
- Просмотров: 174
- Рейтинг: голосов еще нет
- Отзывов: 0