Уважаемые друзья и участники проекта iXBT.photo! К сожалению, 1 марта 2026 года проект iXBT.photo прекратит свою работу и будет закрыт. Мы высоко ценим ваше участие и тот вклад, который вы внесли в развитие нашего сообщества. Пожалуйста, не забудьте сохранить ваши фотографии до этой даты.
С уважением, команда iXBT.com
| DSC09253.jpg |
DSC09253.jpg
- Раздел: Другое, разное
- Дата съёмки: 29.04.2012 19:13
- Дата загрузки фото: 09.05.2012 16:23
- Оригинальная фотография: 3732 x 5934 (12,1 Мб)
- Технические характеристики:
- Фотоаппарат: Sony SLT-A77V
- Выдержка: 1/125
- Гиперфокальное расстояние: inf m
- Диафрагма: 4,5
- Светочувствительность: 100
- Фокусное расстояние: 35,0 mm (35 mm equivalent: 35,0 mm)
- Полный EXIF
- Adobe
- ColorTransform: YCbCr
- Composite
- Aperture: 4,5
- CircleOfConfusion: 0,020 mm
- FOV: 54,0 deg
- FocalLength35efl: 35,0 mm (35 mm equivalent: 35,0 mm)
- GPSAltitude: 181,3 m Above Sea Level
- GPSDateTime: 2012:04:29 15:13:37Z
- GPSLatitude: 55 deg 39' 19,00" N
- GPSLongitude: 37 deg 39' 28,00" E
- GPSPosition: 55 deg 39' 19,00" N, 37 deg 39' 28,00" E
- HyperfocalDistance: inf m
- ScaleFactor35efl: 1,5
- ShutterSpeed: 1/125
- ExifIFD
- ApertureValue: 4,5
- BrightnessValue: 5,71640625
- Contrast: Normal
- CreateDate: 2012:04:29 19:13:36
- CustomRendered: Normal
- DateTimeOriginal: 2012:04:29 19:13:36
- ExposureCompensation: 0
- ExposureMode: Auto
- ExposureProgram: Aperture-priority AE
- ExposureTime: 1/125
- FNumber: 4,5
- Flash: Off, Did not fire
- FocalLength: 35,0 mm
- FocalLengthIn35mmFormat: 52 mm
- ISO: 100
- LensInfo: 35mm f/1.8
- LensModel: DT 35mm F1.8 SAM
- LightSource: Cloudy
- MaxApertureValue: 1,8
- MeteringMode: Multi-segment
- RecommendedExposureIndex: 100
- Saturation: Normal
- SceneCaptureType: Standard
- SceneType: Directly photographed
- SensitivityType: Recommended Exposure Index
- Sharpness: Hard
- ShutterSpeedValue: 1/125
- WhiteBalance: Manual
- GPS
- GPSAltitude: 181,37 m
- GPSAltitudeRef: Above Sea Level
- GPSDOP: 1,1487
- GPSDateStamp: 2012:04:29
- GPSDifferential: No Correction
- GPSLatitude: 55 deg 39' 19,00"
- GPSLatitudeRef: North
- GPSLongitude: 37 deg 39' 28,00"
- GPSLongitudeRef: East
- GPSMapDatum: WGS-84
- GPSMeasureMode: 3-Dimensional Measurement
- GPSSpeed: 0,863
- GPSSpeedRef: km/h
- GPSStatus: Measurement Active
- GPSTimeStamp: 15:13:37
- GPSTrack: 347,76
- GPSTrackRef: True North
- GPSVersionID: 2.3.0.0
- ICC-header
- ICC-meas
- ICC-view
- IFD0
- Make: SONY
- Model: SLT-A77V
- ModifyDate: 2012:05:05 12:12:54
- IFD1
- IPTC
- DateCreated: 2012:04:29
- System
- XMP-aux
- Lens: DT 35mm F1.8 SAM
- LensID: 62
- XMP-crs
- AlreadyApplied: True
- BlueHue: 0
- BlueSaturation: 0
- Brightness: +50
- ChromaticAberrationB: 0
- ChromaticAberrationR: 0
- Clarity: +10
- ColorNoiseReduction: 25
- ColorNoiseReductionDetail: 50
- Contrast: +25
- ConvertToGrayscale: False
- CropAngle: 1.0292
- CropBottom: 0.959472
- CropConstrainToWarp: 0
- CropHeight: 3732
- CropLeft: 0.011172
- CropRight: 0.988828
- CropTop: 0.000006
- CropUnit: pixels
- CropWidth: 5934
- Defringe: 0
- Exposure: +0.41
- FillLight: 0
- GrainAmount: 0
- GreenHue: 0
- GreenSaturation: 0
- HasCrop: True
- HasSettings: True
- HighlightRecovery: 45
- HueAdjustmentAqua: 0
- HueAdjustmentBlue: 0
- HueAdjustmentGreen: 0
- HueAdjustmentMagenta: 0
- HueAdjustmentOrange: 0
- HueAdjustmentPurple: 0
- HueAdjustmentRed: 0
- HueAdjustmentYellow: 0
- LensManualDistortionAmount: 0
- LensProfileEnable: 0
- LensProfileSetup: LensDefaults
- LuminanceAdjustmentAqua: 0
- LuminanceAdjustmentBlue: 0
- LuminanceAdjustmentGreen: 0
- LuminanceAdjustmentMagenta: 0
- LuminanceAdjustmentOrange: 0
- LuminanceAdjustmentPurple: 0
- LuminanceAdjustmentRed: 0
- LuminanceAdjustmentYellow: 0
- LuminanceNoiseReductionContrast: 0
- LuminanceNoiseReductionDetail: 82
- LuminanceSmoothing: 31
- PaintCorrectionActive: true
- PaintCorrectionAmount: 1.000000
- PaintCorrectionBrightness: 0.439025
- PaintCorrectionClarity: 0.317070
- PaintCorrectionContrast: 0.365850
- PaintCorrectionExposure: 0.658500
- PaintCorrectionHue: 250.000000
- PaintCorrectionMaskCenterWeight: 0.225442
- PaintCorrectionMaskFlow: 0.500000
- PaintCorrectionMaskRadius: 0.002002
- PaintCorrectionMaskValue: 0.131000
- PaintCorrectionMaskWhat: Mask/Paint
- PaintCorrectionSaturation: 0.000000
- PaintCorrectionSharpness: 0.024390
- PaintCorrectionWhat: Correction
- ParametricDarks: 0
- ParametricHighlightSplit: 75
- ParametricHighlights: 0
- ParametricLights: 0
- ParametricMidtoneSplit: 50
- ParametricShadowSplit: 25
- ParametricShadows: 0
- PerspectiveHorizontal: 0
- PerspectiveRotate: 0.0
- PerspectiveScale: 100
- PerspectiveVertical: 0
- PostCropVignetteAmount: 0
- ProcessVersion: 5.7
- RedHue: 0
- RedSaturation: 0
- Saturation: +20
- SaturationAdjustmentAqua: 0
- SaturationAdjustmentBlue: 0
- SaturationAdjustmentGreen: 0
- SaturationAdjustmentMagenta: 0
- SaturationAdjustmentOrange: 0
- SaturationAdjustmentPurple: 0
- SaturationAdjustmentRed: 0
- SaturationAdjustmentYellow: 0
- ShadowTint: 0
- Shadows: 5
- SharpenDetail: 16
- SharpenEdgeMasking: 25
- SharpenRadius: +1.9
- Sharpness: 97
- SplitToningBalance: 0
- SplitToningHighlightHue: 0
- SplitToningHighlightSaturation: 0
- SplitToningShadowHue: 0
- SplitToningShadowSaturation: 0
- Temperature: 5103
- Tint: +4
- ToneCurve: 0, 0, 32, 22, 64, 56, 128, 128, 192, 196, 255, 255
- ToneCurveName: Medium Contrast
- Version: 6.5
- Vibrance: +13
- VignetteAmount: 0
- WhiteBalance: Custom
- XMP-xmp
- ModifyDate: 2012:05:05 12:12:54+04:00
- Просмотров: 584
- Рейтинг: голосов еще нет
- Отзывов: отключены
Получить код для блога
| Вставка фотографии в текущем разрешении |
Вставка миниатюры |
HTML (для вставки в блог):
BBCode (для вставки в форум):
Ссылка на фото:
Ссылка на миниатюру:
- Послать ссылку другу
| Комментарии к фотографии |