- Раздел: Репортаж
- Дата съёмки: 11.05.2012 12:34
- Дата загрузки фото: 12.05.2012 21:02
- Оригинальная фотография: 1920 x 1280 (1,5 Мб)
- Технические характеристики:
- Фотоаппарат: Canon EOS 7D
- Выдержка: 1/640
- Гиперфокальное расстояние: inf m
- Диафрагма: 7,1
- Светочувствительность: 100
- Фокусное расстояние: 140,0 mm (35 mm equivalent: 560,0 mm)
- Экспокоррекция: +1/3
- Полный EXIF
- Adobe
- ColorTransform: YCbCr
- Composite
- Aperture: 7,1
- CircleOfConfusion: 0,007 mm
- FOV: 3,0 deg
- FocalLength35efl: 140,0 mm (35 mm equivalent: 560,0 mm)
- HyperfocalDistance: inf m
- ScaleFactor35efl: 4,2
- ShutterSpeed: 1/640
- ExifIFD
- ApertureValue: 7,1
- ColorSpace: Uncalibrated
- CreateDate: 2012:05:11 12:34:17
- CustomRendered: Normal
- DateTimeOriginal: 2012:05:11 12:34:17
- ExifImageHeight: 1280
- ExifImageWidth: 1920
- ExposureCompensation: +1/3
- ExposureMode: Auto
- ExposureProgram: Aperture-priority AE
- ExposureTime: 1/640
- FNumber: 7,1
- Flash: Off, Did not fire
- FocalLength: 140,0 mm
- ISO: 100
- LensInfo: 140-400mm f/?
- LensModel: EF70-200mm f/2.8L IS II USM +2.0x
- MaxApertureValue: 5,7
- MeteringMode: Multi-segment
- SceneCaptureType: Standard
- SerialNumber: 1580807926
- ShutterSpeedValue: 1/640
- WhiteBalance: Auto
- ICC-header
- IFD0
- Artist: Pavel "Myth" YB
- Make: Canon
- Model: Canon EOS 7D
- ModifyDate: 2012:05:12 09:30:50
- Orientation: Horizontal (normal)
- IFD1
- IPTC
- By-line: Pavel "Myth" YB
- DateCreated: 2012:05:11
- System
- XMP-aux
- ApproximateFocusDistance: 4294967295
- Firmware: 1.2.5
- FlashCompensation: 0
- ImageNumber: 0
- Lens: EF70-200mm f/2.8L IS II USM +2.0x
- LensID: 253
- XMP-crs
- AlreadyApplied: True
- AutoLateralCA: 0
- Blacks2012: +21
- BlueHue: 0
- BlueSaturation: 0
- Brightness: 0
- CameraProfile: Embedded
- Clarity: 0
- Clarity2012: +10
- ColorNoiseReduction: 0
- Contrast: 0
- Contrast2012: -25
- ConvertToGrayscale: False
- Defringe: 0
- Exposure: 0.00
- Exposure2012: +0.20
- FillLight: 0
- GrainAmount: 0
- GreenHue: 0
- GreenSaturation: 0
- HasCrop: False
- HasSettings: True
- HighlightRecovery: 0
- Highlights2012: 0
- HueAdjustmentAqua: 0
- HueAdjustmentBlue: 0
- HueAdjustmentGreen: 0
- HueAdjustmentMagenta: 0
- HueAdjustmentOrange: 0
- HueAdjustmentPurple: 0
- HueAdjustmentRed: 0
- HueAdjustmentYellow: 0
- IncrementalTemperature: 0
- IncrementalTint: 0
- LensManualDistortionAmount: 0
- LensProfileEnable: 0
- LensProfileSetup: LensDefaults
- LuminanceAdjustmentAqua: 0
- LuminanceAdjustmentBlue: 0
- LuminanceAdjustmentGreen: 0
- LuminanceAdjustmentMagenta: 0
- LuminanceAdjustmentOrange: 0
- LuminanceAdjustmentPurple: 0
- LuminanceAdjustmentRed: 0
- LuminanceAdjustmentYellow: 0
- LuminanceSmoothing: 0
- ParametricDarks: 0
- ParametricHighlightSplit: 75
- ParametricHighlights: 0
- ParametricLights: 0
- ParametricMidtoneSplit: 50
- ParametricShadowSplit: 25
- ParametricShadows: 0
- PerspectiveHorizontal: 0
- PerspectiveRotate: 0.0
- PerspectiveScale: 100
- PerspectiveVertical: 0
- PostCropVignetteAmount: 0
- ProcessVersion: 6.7
- RawFileName: BUK_IMG_6250.JPG
- RedHue: 0
- RedSaturation: 0
- Saturation: 0
- SaturationAdjustmentAqua: 0
- SaturationAdjustmentBlue: 0
- SaturationAdjustmentGreen: 0
- SaturationAdjustmentMagenta: 0
- SaturationAdjustmentOrange: 0
- SaturationAdjustmentPurple: 0
- SaturationAdjustmentRed: 0
- SaturationAdjustmentYellow: 0
- ShadowTint: 0
- Shadows: 0
- Shadows2012: 0
- SharpenDetail: 25
- SharpenEdgeMasking: 0
- SharpenRadius: +1.0
- Sharpness: 0
- SplitToningBalance: 0
- SplitToningHighlightHue: 0
- SplitToningHighlightSaturation: 0
- SplitToningShadowHue: 0
- SplitToningShadowSaturation: 0
- ToneCurve: 0, 0, 255, 255
- ToneCurveBlue: 0, 0, 255, 255
- ToneCurveGreen: 0, 0, 255, 255
- ToneCurveName: Linear
- ToneCurveName2012: Linear
- ToneCurvePV2012: 0, 0, 255, 255
- ToneCurvePV2012Blue: 0, 0, 255, 255
- ToneCurvePV2012Green: 0, 0, 255, 255
- ToneCurvePV2012Red: 0, 0, 255, 255
- ToneCurveRed: 0, 0, 255, 255
- Version: 7.0
- Vibrance: 0
- VignetteAmount: 0
- WhiteBalance: As Shot
- Whites2012: +52
- XMP-dc
- Creator: Pavel "Myth" YB
- Format: image/jpeg
- XMP-xmp
- ModifyDate: 2012:05:12 09:30:50+04:00
- Rating: 0
- XMP-xmpMM
- Просмотров: 193
- Рейтинг: голосов еще нет
- Отзывов: 0