- Раздел: Город
- Дата съёмки: 09.05.2012 22:22
- Дата загрузки фото: 16.05.2012 08:20
- Оригинальная фотография: 4112 x 2736 (2,8 Мб)
- Технические характеристики:
- Фотоаппарат: Samsung NX10
- Выдержка: 13,0
- Гиперфокальное расстояние: inf m
- Диафрагма: 7,1
- Светочувствительность: 100
- Фокусное расстояние: 100,0 mm
- Полный EXIF
- Adobe
- ColorTransform: YCbCr
- Composite
- Aperture: 7,1
- CircleOfConfusion: 0,039 mm
- FocalLength35efl: 100,0 mm
- HyperfocalDistance: inf m
- LightValue: 1,9
- ScaleFactor35efl: 0,8
- ShutterSpeed: 13,0
- ExifIFD
- ApertureValue: 7,1
- CFAPattern: [Blue,Green][Green,Red]
- DateTimeOriginal: 2012:05:09 22:22:45
- ExposureCompensation: 0
- ExposureProgram: Aperture-priority AE
- ExposureTime: 13,0
- FNumber: 7,1
- Flash: No Flash
- FocalLength: 100,0 mm
- FocalLengthIn35mmFormat: 77 mm
- ISO: 100
- LensInfo: 50-200mm f/4-5.6
- LensModel: Samsung 50-200mm f/4-5.6 ED OIS
- LensSerialNumber: 233100048583
- LightSource: Other
- MeteringMode: Multi-segment
- SceneCaptureType: Standard
- SerialNumber: 0
- ShutterSpeedValue: 13,0
- WhiteBalance: Auto
- ICC-header
- ICC-meas
- ICC-view
- IFD0
- Make: SAMSUNG
- Model: NX10
- ModifyDate: 2012:05:10 00:21:37
- IFD1
- IPTC
- DateCreated: 2012:05:09
- System
- XMP-aux
- Firmware: NX10_FW_X_F1110111
- Lens: Samsung 50-200mm f/4-5.6 ED OIS
- LensID: 3
- XMP-crs
- AlreadyApplied: True
- AutoLateralCA: 0
- Blacks2012: -18
- BlueHue: 0
- BlueSaturation: 0
- Clarity2012: +15
- ColorNoiseReduction: 25
- ColorNoiseReductionDetail: 50
- Contrast2012: 0
- ConvertToGrayscale: False
- CropAngle: 1.748
- CropBottom: 1
- CropConstrainToWarp: 0
- CropHeight: 2736
- CropLeft: 0.091475
- CropRight: 0.968367
- CropTop: 0.063884
- CropUnit: pixels
- CropWidth: 4112
- DefringeGreenAmount: 0
- DefringeGreenHueHi: 60
- DefringeGreenHueLo: 40
- DefringePurpleAmount: 0
- DefringePurpleHueHi: 70
- DefringePurpleHueLo: 30
- Exposure2012: 0.00
- GrainAmount: 0
- GreenHue: 0
- GreenSaturation: 0
- HasCrop: True
- HasSettings: True
- Highlights2012: -30
- HueAdjustmentAqua: 0
- HueAdjustmentBlue: +13
- HueAdjustmentGreen: +29
- HueAdjustmentMagenta: 0
- HueAdjustmentOrange: 0
- HueAdjustmentPurple: 0
- HueAdjustmentRed: 0
- HueAdjustmentYellow: -44
- LensManualDistortionAmount: 0
- LensProfileEnable: 0
- LensProfileSetup: LensDefaults
- LuminanceAdjustmentAqua: 0
- LuminanceAdjustmentBlue: 0
- LuminanceAdjustmentGreen: -10
- LuminanceAdjustmentMagenta: 0
- LuminanceAdjustmentOrange: +17
- LuminanceAdjustmentPurple: 0
- LuminanceAdjustmentRed: 0
- LuminanceAdjustmentYellow: -48
- LuminanceSmoothing: 0
- ParametricDarks: +25
- ParametricHighlightSplit: 75
- ParametricHighlights: +50
- ParametricLights: +30
- ParametricMidtoneSplit: 50
- ParametricShadowSplit: 25
- ParametricShadows: 0
- PerspectiveHorizontal: 0
- PerspectiveRotate: 0.0
- PerspectiveScale: 100
- PerspectiveVertical: 0
- PostCropVignetteAmount: 0
- ProcessVersion: 6.7
- RedHue: 0
- RedSaturation: 0
- Saturation: 0
- SaturationAdjustmentAqua: 0
- SaturationAdjustmentBlue: +31
- SaturationAdjustmentGreen: +38
- SaturationAdjustmentMagenta: 0
- SaturationAdjustmentOrange: +46
- SaturationAdjustmentPurple: 0
- SaturationAdjustmentRed: 0
- SaturationAdjustmentYellow: +2
- ShadowTint: 0
- Shadows2012: 0
- SharpenDetail: 25
- SharpenEdgeMasking: 0
- SharpenRadius: +1.0
- Sharpness: 25
- SplitToningBalance: 0
- SplitToningHighlightHue: 38
- SplitToningHighlightSaturation: 27
- SplitToningShadowHue: 219
- SplitToningShadowSaturation: 19
- Temperature: 4850
- Tint: 0
- ToneCurveName2012: Medium Contrast
- ToneCurvePV2012: 0, 0, 32, 22, 64, 56, 128, 128, 192, 196, 255, 255
- ToneCurvePV2012Blue: 0, 0, 255, 255
- ToneCurvePV2012Green: 0, 0, 255, 255
- ToneCurvePV2012Red: 0, 0, 255, 255
- Version: 7.1
- Vibrance: -10
- VignetteAmount: 0
- WhiteBalance: As Shot
- Whites2012: 0
- XMP-dc
- XMP-xmp
- ModifyDate: 2012:05:10 00:21:37+04:00
- XMP-xmpMM
- Просмотров: 682
- Рейтинг: голосов еще нет
- Отзывов: 0