- Раздел: Активный отдых, туризм
- Дата съёмки: 23.01.2012 15:54
- Дата загрузки фото: 22.05.2012 19:00
- Оригинальная фотография: 2982 x 1676 (4,6 Мб)
- Технические характеристики:
- Фотоаппарат: Canon PowerShot SX220 HS
- Выдержка: 1/80
- Гиперфокальное расстояние: inf m
- Диафрагма: 4,0
- Светочувствительность: 100
- Фокусное расстояние: 5,0 mm (35 mm equivalent: 40,0 mm)
- Экспокоррекция: -1/3
- Полный EXIF
- Adobe
- ColorTransform: YCbCr
- Composite
- Aperture: 4,0
- CircleOfConfusion: 0,004 mm
- DOF: inf (0,00 m - inf)
- FOV: 48,0 deg
- FocalLength35efl: 5,0 mm (35 mm equivalent: 40,0 mm)
- HyperfocalDistance: inf m
- ScaleFactor35efl: 8,2
- ShutterSpeed: 1/80
- ExifIFD
- ApertureValue: 4,0
- CreateDate: 2012:01:23 15:54:28
- CustomRendered: Normal
- DateTimeOriginal: 2012:01:23 15:54:28
- DigitalZoomRatio: 1
- ExposureCompensation: -1/3
- ExposureMode: Manual
- ExposureTime: 1/80
- FNumber: 4,0
- Flash: On, Red-eye reduction
- FocalLength: 5,0 mm
- ISO: 100
- LensInfo: 5-70mm f/?
- LensModel: 5.0-70.0 mm
- MaxApertureValue: 3,1
- MeteringMode: Center-weighted average
- SceneCaptureType: Standard
- SensingMethod: One-chip color area
- SensitivityType: Standard Output Sensitivity and Recommended Exposure Index
- ShutterSpeedValue: 1/80
- SubjectDistance: 1,23 m
- WhiteBalance: Auto
- ICC-header
- ICC-meas
- ICC-view
- IFD0
- Make: Canon
- Model: Canon PowerShot SX220 HS
- ModifyDate: 2012:05:12 16:44:37
- IFD1
- IPTC
- DateCreated: 2012:01:23
- System
- XMP-aux
- ApproximateFocusDistance: 1,23
- Firmware: 1.01
- FlashCompensation: 0,333333333333333
- Lens: 5.0-70.0 mm
- XMP-crs
- AlreadyApplied: True
- BlueHue: 0
- BlueSaturation: 0
- Brightness: 0
- CameraProfile: Embedded
- ChromaticAberrationB: 0
- ChromaticAberrationR: 0
- Clarity: 0
- ColorNoiseReduction: 0
- Contrast: 0
- ConvertToGrayscale: False
- Defringe: 0
- Exposure: 0.00
- FillLight: 0
- GrainAmount: 0
- GreenHue: 0
- GreenSaturation: 0
- HasCrop: False
- HasSettings: True
- HighlightRecovery: 0
- HueAdjustmentAqua: 0
- HueAdjustmentBlue: 0
- HueAdjustmentGreen: 0
- HueAdjustmentMagenta: 0
- HueAdjustmentOrange: 0
- HueAdjustmentPurple: 0
- HueAdjustmentRed: 0
- HueAdjustmentYellow: 0
- IncrementalTemperature: 0
- IncrementalTint: 0
- LensManualDistortionAmount: 0
- LensProfileEnable: 0
- LensProfileSetup: LensDefaults
- LuminanceAdjustmentAqua: 0
- LuminanceAdjustmentBlue: -100
- LuminanceAdjustmentGreen: +4
- LuminanceAdjustmentMagenta: 0
- LuminanceAdjustmentOrange: +100
- LuminanceAdjustmentPurple: 0
- LuminanceAdjustmentRed: +72
- LuminanceAdjustmentYellow: +87
- LuminanceNoiseReductionContrast: 37
- LuminanceNoiseReductionDetail: 50
- LuminanceSmoothing: 44
- ParametricDarks: 0
- ParametricHighlightSplit: 75
- ParametricHighlights: 0
- ParametricLights: 0
- ParametricMidtoneSplit: 50
- ParametricShadowSplit: 25
- ParametricShadows: 0
- PerspectiveHorizontal: 0
- PerspectiveRotate: 0.0
- PerspectiveScale: 100
- PerspectiveVertical: 0
- PostCropVignetteAmount: 0
- ProcessVersion: 5.7
- RedHue: 0
- RedSaturation: 0
- Saturation: 0
- SaturationAdjustmentAqua: 0
- SaturationAdjustmentBlue: +100
- SaturationAdjustmentGreen: +51
- SaturationAdjustmentMagenta: 0
- SaturationAdjustmentOrange: +70
- SaturationAdjustmentPurple: 0
- SaturationAdjustmentRed: +58
- SaturationAdjustmentYellow: +81
- ShadowTint: 0
- Shadows: 0
- SharpenDetail: 25
- SharpenEdgeMasking: 0
- SharpenRadius: +1.7
- Sharpness: 105
- SplitToningBalance: 0
- SplitToningHighlightHue: 0
- SplitToningHighlightSaturation: 0
- SplitToningShadowHue: 0
- SplitToningShadowSaturation: 0
- ToneCurve: 0, 0, 255, 255
- ToneCurveName: Linear
- Version: 6.6
- Vibrance: 0
- VignetteAmount: 0
- WhiteBalance: As Shot
- XMP-dc
- XMP-xmp
- ModifyDate: 2012:05:12 16:44:37+04:00
- XMP-xmpMM
- Просмотров: 358
- Рейтинг: голосов еще нет
- Отзывов: 0