- Раздел: Тесты фототехники
- Дата съёмки: 24.05.2012 20:47
- Дата загрузки фото: 25.05.2012 16:16
- Оригинальная фотография: 3264 x 2176 (3,4 Мб)
- Технические характеристики:
- Фотоаппарат: FujiFilm FinePix F770EXR
- Выдержка: 1/90
- Гиперфокальное расстояние: inf m
- Диафрагма: 4,1
- Светочувствительность: 200
- Фокусное расстояние: 9,0 mm (35 mm equivalent: 27,0 mm)
- Полный EXIF
- Adobe
- ColorTransform: YCbCr
- Composite
- Aperture: 4,1
- CircleOfConfusion: 0,009 mm
- FOV: 67,0 deg
- FocalLength35efl: 9,0 mm (35 mm equivalent: 27,0 mm)
- HyperfocalDistance: inf m
- ScaleFactor35efl: 3,5
- ShutterSpeed: 1/90
- ExifIFD
- ApertureValue: 4,1
- BrightnessValue: 5,18
- ColorSpace: sRGB
- CreateDate: 2012:05:24 20:47:15
- CustomRendered: Normal
- DateTimeOriginal: 2012:05:24 20:47:15
- ExifImageHeight: 2176
- ExifImageWidth: 3264
- ExposureCompensation: 0
- ExposureMode: Auto
- ExposureProgram: Program AE
- ExposureTime: 1/90
- FNumber: 4,1
- Flash: Off, Did not fire
- FocalLength: 9,2 mm
- ISO: 200
- LightSource: Unknown
- MaxApertureValue: 3,5
- MeteringMode: Multi-segment
- SceneCaptureType: Standard
- SceneType: Directly photographed
- SensingMethod: One-chip color area
- SensitivityType: Standard Output Sensitivity
- Sharpness: Normal
- ShutterSpeedValue: 1/90
- SubjectDistanceRange: Unknown
- WhiteBalance: Auto
- ICC-header
- ICC-meas
- ICC-view
- IFD0
- Make: FUJIFILM
- Model: FinePix F770EXR
- ModifyDate: 2012:05:25 09:33:34
- Orientation: Horizontal (normal)
- IFD1
- IPTC
- DateCreated: 2012:05:24
- System
- XMP-crs
- AlreadyApplied: True
- AutoLateralCA: 0
- Blacks2012: 0
- BlueHue: 0
- BlueSaturation: 0
- Brightness: 0
- Clarity: 0
- Clarity2012: 0
- ColorNoiseReduction: 5
- ColorNoiseReductionDetail: 50
- Contrast: 0
- Contrast2012: 0
- ConvertToGrayscale: False
- Defringe: 2
- Exposure: +0.30
- Exposure2012: 0.00
- FillLight: 0
- GrainAmount: 0
- GreenHue: 0
- GreenSaturation: 0
- HasCrop: False
- HasSettings: True
- HighlightRecovery: 50
- Highlights2012: 0
- HueAdjustmentAqua: 0
- HueAdjustmentBlue: 0
- HueAdjustmentGreen: 0
- HueAdjustmentMagenta: 0
- HueAdjustmentOrange: 0
- HueAdjustmentPurple: 0
- HueAdjustmentRed: 0
- HueAdjustmentYellow: 0
- LensManualDistortionAmount: 0
- LensProfileEnable: 0
- LensProfileSetup: LensDefaults
- LuminanceAdjustmentAqua: 0
- LuminanceAdjustmentBlue: 0
- LuminanceAdjustmentGreen: 0
- LuminanceAdjustmentMagenta: 0
- LuminanceAdjustmentOrange: 0
- LuminanceAdjustmentPurple: 0
- LuminanceAdjustmentRed: 0
- LuminanceAdjustmentYellow: 0
- LuminanceSmoothing: 0
- ParametricDarks: 0
- ParametricHighlightSplit: 75
- ParametricHighlights: 0
- ParametricLights: 0
- ParametricMidtoneSplit: 50
- ParametricShadowSplit: 25
- ParametricShadows: 0
- PerspectiveHorizontal: 0
- PerspectiveRotate: 0.0
- PerspectiveScale: 100
- PerspectiveVertical: 0
- PostCropVignetteAmount: 0
- ProcessVersion: 5.7
- RawFileName: DSCF5713.RAF
- RedHue: 0
- RedSaturation: 0
- Saturation: 0
- SaturationAdjustmentAqua: 0
- SaturationAdjustmentBlue: 0
- SaturationAdjustmentGreen: 0
- SaturationAdjustmentMagenta: 0
- SaturationAdjustmentOrange: 0
- SaturationAdjustmentPurple: 0
- SaturationAdjustmentRed: 0
- SaturationAdjustmentYellow: 0
- ShadowTint: 0
- Shadows: 0
- Shadows2012: 0
- SharpenDetail: 25
- SharpenEdgeMasking: 0
- SharpenRadius: +1.0
- Sharpness: 0
- SplitToningBalance: 0
- SplitToningHighlightHue: 0
- SplitToningHighlightSaturation: 0
- SplitToningShadowHue: 0
- SplitToningShadowSaturation: 0
- Temperature: 4950
- Tint: +18
- ToneCurve: 0, 0, 255, 255
- ToneCurveBlue: 0, 0, 255, 255
- ToneCurveGreen: 0, 0, 255, 255
- ToneCurveName: Linear
- ToneCurveName2012: Linear
- ToneCurvePV2012: 0, 0, 255, 255
- ToneCurvePV2012Blue: 0, 0, 255, 255
- ToneCurvePV2012Green: 0, 0, 255, 255
- ToneCurvePV2012Red: 0, 0, 255, 255
- ToneCurveRed: 0, 0, 255, 255
- Version: 6.7
- Vibrance: 0
- VignetteAmount: 0
- WhiteBalance: As Shot
- Whites2012: 0
- XMP-dc
- XMP-xmp
- CreatorTool: Digital Camera FinePix F770EXR Ver1.00
- ModifyDate: 2012:05:25 09:33:34Z
- Rating: 0
- XMP-xmpMM
- Просмотров: 591
- Рейтинг: голосов еще нет
- Отзывов: 0