- Раздел: Тесты фототехники
- Дата съёмки: 26.05.2012 14:49
- Дата загрузки фото: 04.06.2012 15:10
- Оригинальная фотография: 7225 x 1080 (5,7 Мб)
- Технические характеристики:
- Фотоаппарат: Sony NEX-5N
- Выдержка: 1/500
- Гиперфокальное расстояние: inf m
- Диафрагма: 16,0
- Светочувствительность: 100
- Фокусное расстояние: 18,0 mm (35 mm equivalent: 18,0 mm)
- Экспокоррекция: -0,3
- Полный EXIF
- Adobe
- ColorTransform: YCbCr
- Composite
- Aperture: 16,0
- CircleOfConfusion: 0,020 mm
- FOV: 90,0 deg
- FocalLength35efl: 18,0 mm (35 mm equivalent: 18,0 mm)
- HyperfocalDistance: inf m
- ScaleFactor35efl: 1,5
- ShutterSpeed: 1/500
- ExifIFD
- ApertureValue: 16,0
- BrightnessValue: 10,75546875
- Contrast: Low
- CreateDate: 2012:05:26 14:49:05
- CustomRendered: Normal
- DateTimeOriginal: 2012:05:26 14:49:05
- ExposureCompensation: -0,3
- ExposureMode: Auto
- ExposureProgram: Program AE
- ExposureTime: 1/500
- FNumber: 16,0
- Flash: Off, Did not fire
- FocalLength: 18,0 mm
- FocalLengthIn35mmFormat: 27 mm
- ISO: 100
- LensInfo: 18-55mm f/3.5-5.6
- LensModel: E 18-55mm F3.5-5.6 OSS
- LightSource: Unknown
- MaxApertureValue: 3,5
- MeteringMode: Spot
- RecommendedExposureIndex: 100
- Saturation: High
- SceneCaptureType: Standard
- SceneType: Directly photographed
- SensitivityType: Recommended Exposure Index
- Sharpness: Normal
- ShutterSpeedValue: 1/500
- WhiteBalance: Auto
- ICC-header
- ICC-meas
- ICC-view
- IFD0
- Make: SONY
- Model: NEX-5N
- ModifyDate: 2012:06:04 15:09:11
- IFD1
- IPTC
- DateCreated: 2012:05:26
- System
- XMP-aux
- Lens: E 18-55mm F3.5-5.6 OSS
- XMP-crs
- AlreadyApplied: True
- AutoLateralCA: 0
- Blacks2012: 0
- BlueHue: 0
- BlueSaturation: 0
- CameraProfile: Embedded
- Clarity2012: 0
- ColorNoiseReduction: 0
- Contrast2012: +22
- ConvertToGrayscale: False
- DefringeGreenAmount: 0
- DefringeGreenHueHi: 60
- DefringeGreenHueLo: 40
- DefringePurpleAmount: 0
- DefringePurpleHueHi: 70
- DefringePurpleHueLo: 30
- Exposure2012: +0.50
- GradientBasedCorrActive: true
- GradientBasedCorrAmount: 1.000000
- GradientBasedCorrBrightness: 0.000000
- GradientBasedCorrHue: 1.000000
- GradientBasedCorrMaskFullX: 0.904882
- GradientBasedCorrMaskFullY: 0.503558
- GradientBasedCorrMaskValue: 1.000000
- GradientBasedCorrMaskWhat: Mask/Gradient
- GradientBasedCorrMaskZeroX: 0.745120
- GradientBasedCorrMaskZeroY: 0.591096
- GradientBasedCorrSaturation: 0.020000
- GradientBasedCorrSharpness: 0.000000
- GradientBasedCorrWhat: Correction
- GradientBasedCorrectionsLocalClarity2012: 0.000000
- GradientBasedCorrectionsLocalContrast2012: 0.150000
- GradientBasedCorrectionsLocalExposure2012: -0.050000
- GradientBasedCorrectionsLocalHighlights2012: 0.000000
- GradientBasedCorrectionsLocalLuminanceNoise: 0.000000
- GradientBasedCorrectionsLocalMoire: 0.000000
- GradientBasedCorrectionsLocalShadows2012: 0.000000
- GradientBasedCorrectionsLocalTemperature: 0.000000
- GradientBasedCorrectionsLocalTint: 0.000000
- GrainAmount: 0
- GreenHue: 0
- GreenSaturation: 0
- HasCrop: False
- HasSettings: True
- Highlights2012: -75
- HueAdjustmentAqua: 0
- HueAdjustmentBlue: 0
- HueAdjustmentGreen: 0
- HueAdjustmentMagenta: 0
- HueAdjustmentOrange: 0
- HueAdjustmentPurple: 0
- HueAdjustmentRed: 0
- HueAdjustmentYellow: 0
- IncrementalTemperature: +3
- IncrementalTint: -8
- LensManualDistortionAmount: 0
- LensProfileEnable: 0
- LensProfileSetup: LensDefaults
- LuminanceAdjustmentAqua: 0
- LuminanceAdjustmentBlue: 0
- LuminanceAdjustmentGreen: 0
- LuminanceAdjustmentMagenta: 0
- LuminanceAdjustmentOrange: 0
- LuminanceAdjustmentPurple: 0
- LuminanceAdjustmentRed: 0
- LuminanceAdjustmentYellow: 0
- LuminanceSmoothing: 0
- ParametricDarks: 0
- ParametricHighlightSplit: 75
- ParametricHighlights: 0
- ParametricLights: 0
- ParametricMidtoneSplit: 50
- ParametricShadowSplit: 25
- ParametricShadows: 0
- PerspectiveHorizontal: 0
- PerspectiveRotate: 0.0
- PerspectiveScale: 100
- PerspectiveVertical: 0
- PostCropVignetteAmount: 0
- ProcessVersion: 6.7
- RedHue: 0
- RedSaturation: 0
- Saturation: 0
- SaturationAdjustmentAqua: 0
- SaturationAdjustmentBlue: 0
- SaturationAdjustmentGreen: 0
- SaturationAdjustmentMagenta: 0
- SaturationAdjustmentOrange: 0
- SaturationAdjustmentPurple: 0
- SaturationAdjustmentRed: 0
- SaturationAdjustmentYellow: 0
- ShadowTint: 0
- Shadows2012: +100
- SharpenDetail: 25
- SharpenEdgeMasking: 0
- SharpenRadius: +1.0
- Sharpness: 0
- SplitToningBalance: 0
- SplitToningHighlightHue: 0
- SplitToningHighlightSaturation: 0
- SplitToningShadowHue: 0
- SplitToningShadowSaturation: 0
- ToneCurveName2012: Linear
- ToneCurvePV2012: 0, 0, 255, 255
- ToneCurvePV2012Blue: 0, 0, 255, 255
- ToneCurvePV2012Green: 0, 0, 255, 255
- ToneCurvePV2012Red: 0, 0, 255, 255
- Version: 7.1
- Vibrance: +15
- VignetteAmount: 0
- WhiteBalance: Custom
- Whites2012: +65
- XMP-dc
- XMP-xmp
- Label: РЎРёРЅСЏСЏ
- ModifyDate: 2012:06:04 15:09:11+04:00
- XMP-xmpMM
- Просмотров: 350
- Рейтинг: голосов еще нет
- Отзывов: 0