- Раздел: Портрет
- Дата съёмки: 25.03.2012 18:55
- Дата загрузки фото: 28.05.2012 00:38
- Оригинальная фотография: 2218 x 2709 (2,3 Мб)
- Технические характеристики:
- Фотоаппарат: Canon EOS 350D DIGITAL
- Выдержка: 1/100
- Гиперфокальное расстояние: inf m
- Диафрагма: 1,8
- Светочувствительность: 200
- Фокусное расстояние: 50,0 mm (35 mm equivalent: 50,0 mm)
- Экспокоррекция: -1/3
- Полный EXIF
- Adobe
- ColorTransform: YCbCr
- Composite
- Aperture: 1,8
- CircleOfConfusion: 0,016 mm
- FOV: 39,0 deg
- FocalLength35efl: 50,0 mm (35 mm equivalent: 50,0 mm)
- HyperfocalDistance: inf m
- ScaleFactor35efl: 1,9
- ShutterSpeed: 1/100
- ExifIFD
- ApertureValue: 1,8
- CreateDate: 2012:03:25 18:55:44
- CustomRendered: Normal
- DateTimeOriginal: 2012:03:25 18:55:44
- ExposureCompensation: -1/3
- ExposureMode: Auto
- ExposureProgram: Aperture-priority AE
- ExposureTime: 1/100
- FNumber: 1,8
- Flash: Off, Did not fire
- FocalLength: 50,0 mm
- ISO: 200
- LensInfo: 50mm f/?
- LensModel: 50.0 mm
- MaxApertureValue: 1,8
- MeteringMode: Multi-segment
- OwnerName: unknown
- SceneCaptureType: Standard
- SerialNumber: 630503456
- ShutterSpeedValue: 1/100
- WhiteBalance: Auto
- ICC-header
- ICC-meas
- ICC-view
- IFD0
- Artist: unknown
- Make: Canon
- Model: Canon EOS 350D DIGITAL
- ModifyDate: 2012:03:26 18:21:58
- IFD1
- IPTC
- By-line: unknown
- DateCreated: 2012:03:25
- System
- XMP-aux
- Firmware: 1.0.3
- FlashCompensation: -0,666666666666667
- ImageNumber: 129
- Lens: 50.0 mm
- XMP-crs
- AlreadyApplied: True
- BlueHue: 0
- BlueSaturation: 0
- Brightness: +42
- ChromaticAberrationB: 0
- ChromaticAberrationR: 0
- Clarity: +12
- ColorNoiseReduction: 25
- ColorNoiseReductionDetail: 50
- Contrast: +82
- ConvertToGrayscale: False
- CropAngle: 0
- CropBottom: 0.962616
- CropConstrainToWarp: 0
- CropHeight: 2218
- CropLeft: 0
- CropRight: 0.783784
- CropTop: 0
- CropUnit: pixels
- CropWidth: 2709
- Defringe: 0
- Exposure: +0.28
- FillLight: 90
- GradientBasedCorrActive: true
- GradientBasedCorrAmount: 1.000000
- GradientBasedCorrBrightness: 0.000000
- GradientBasedCorrClarity: 0.000000
- GradientBasedCorrContrast: 0.000000
- GradientBasedCorrExposure: -0.017000
- GradientBasedCorrHue: 193.000000
- GradientBasedCorrMaskFullX: 0.080319
- GradientBasedCorrMaskFullY: 0.199297
- GradientBasedCorrMaskValue: 1.000000
- GradientBasedCorrMaskWhat: Mask/Gradient
- GradientBasedCorrMaskZeroX: 0.071226
- GradientBasedCorrMaskZeroY: 0.502569
- GradientBasedCorrSaturation: 0.000000
- GradientBasedCorrSharpness: 0.000000
- GradientBasedCorrWhat: Correction
- GrainAmount: 0
- GreenHue: 0
- GreenSaturation: 0
- HasCrop: True
- HasSettings: True
- HighlightRecovery: 15
- HueAdjustmentAqua: 0
- HueAdjustmentBlue: 0
- HueAdjustmentGreen: 0
- HueAdjustmentMagenta: 0
- HueAdjustmentOrange: 0
- HueAdjustmentPurple: 0
- HueAdjustmentRed: 0
- HueAdjustmentYellow: 0
- LensManualDistortionAmount: 0
- LensProfileEnable: 0
- LensProfileSetup: LensDefaults
- LuminanceAdjustmentAqua: 0
- LuminanceAdjustmentBlue: 0
- LuminanceAdjustmentGreen: 0
- LuminanceAdjustmentMagenta: 0
- LuminanceAdjustmentOrange: 0
- LuminanceAdjustmentPurple: 0
- LuminanceAdjustmentRed: 0
- LuminanceAdjustmentYellow: 0
- LuminanceNoiseReductionContrast: 0
- LuminanceNoiseReductionDetail: 50
- LuminanceSmoothing: 21
- PaintCorrectionActive: true
- PaintCorrectionAmount: 1.000000
- PaintCorrectionBrightness: 0.000000
- PaintCorrectionClarity: 0.000000
- PaintCorrectionContrast: 0.000000
- PaintCorrectionExposure: -0.025000
- PaintCorrectionHue: 193.000000
- PaintCorrectionMaskCenterWeight: 0.250056
- PaintCorrectionMaskFlow: 1.000000
- PaintCorrectionMaskRadius: 0.091762
- PaintCorrectionMaskValue: 1.000000
- PaintCorrectionMaskWhat: Mask/Paint
- PaintCorrectionSaturation: 0.000000
- PaintCorrectionSharpness: 0.000000
- PaintCorrectionWhat: Correction
- ParametricDarks: -36
- ParametricHighlightSplit: 75
- ParametricHighlights: 0
- ParametricLights: 0
- ParametricMidtoneSplit: 50
- ParametricShadowSplit: 25
- ParametricShadows: +24
- PerspectiveHorizontal: 0
- PerspectiveRotate: 0.0
- PerspectiveScale: 100
- PerspectiveVertical: 0
- PostCropVignetteAmount: -31
- PostCropVignetteFeather: 100
- PostCropVignetteHighlightContrast: 0
- PostCropVignetteMidpoint: 0
- PostCropVignetteRoundness: -19
- PostCropVignetteStyle: 1
- ProcessVersion: 5.7
- RedHue: 0
- RedSaturation: 0
- Saturation: -100
- SaturationAdjustmentAqua: 0
- SaturationAdjustmentBlue: -6
- SaturationAdjustmentGreen: 0
- SaturationAdjustmentMagenta: -19
- SaturationAdjustmentOrange: -12
- SaturationAdjustmentPurple: 0
- SaturationAdjustmentRed: -19
- SaturationAdjustmentYellow: -9
- ShadowTint: 0
- Shadows: 48
- SharpenDetail: 25
- SharpenEdgeMasking: 0
- SharpenRadius: +1.0
- Sharpness: 0
- SplitToningBalance: 0
- SplitToningHighlightHue: 157
- SplitToningHighlightSaturation: 3
- SplitToningShadowHue: 191
- SplitToningShadowSaturation: 3
- Temperature: 6444
- Tint: +41
- ToneCurve: 0, 0, 32, 22, 64, 56, 128, 128, 192, 196, 255, 255
- ToneCurveName: Medium Contrast
- Version: 6.4.1
- Vibrance: -100
- VignetteAmount: 0
- WhiteBalance: Custom
- XMP-dc
- XMP-xmp
- ModifyDate: 2012:03:26 18:21:58+03:00
- Просмотров: 804
- Рейтинг: голосов еще нет
- Отзывов: 0