- Раздел: Животные
- Дата съёмки: 26.05.2012 15:21
- Дата загрузки фото: 01.06.2012 21:46
- Оригинальная фотография: 1920 x 1288 (479 Кб)
- Технические характеристики:
- Фотоаппарат: Canon EOS 5D Mark II
- Выдержка: 1/400
- Гиперфокальное расстояние: inf m
- Диафрагма: 2,0
- Светочувствительность: 800
- Фокусное расстояние: 35,0 mm (35 mm equivalent: 70,0 mm)
- Экспокоррекция: +1/3
- Полный EXIF
- Adobe
- ColorTransform: YCbCr
- Composite
- Aperture: 2,0
- CircleOfConfusion: 0,011 mm
- FOV: 28,0 deg
- FocalLength35efl: 35,0 mm (35 mm equivalent: 70,0 mm)
- HyperfocalDistance: inf m
- ScaleFactor35efl: 2,8
- ShutterSpeed: 1/400
- ExifIFD
- ApertureValue: 2,0
- ColorSpace: sRGB
- CreateDate: 2012:05:26 15:21:03
- CustomRendered: Normal
- DateTimeOriginal: 2012:05:26 15:21:03
- ExifImageHeight: 1288
- ExifImageWidth: 1920
- ExposureCompensation: +1/3
- ExposureMode: Auto
- ExposureProgram: Aperture-priority AE
- ExposureTime: 1/400
- FNumber: 2,0
- Flash: Off, Did not fire
- FocalLength: 35,0 mm
- ISO: 800
- LensInfo: 35mm f/?
- LensModel: EF35mm f/2
- MaxApertureValue: 2,0
- MeteringMode: Partial
- SceneCaptureType: Standard
- SensitivityType: Unknown
- SerialNumber: 2151307365
- ShutterSpeedValue: 1/400
- WhiteBalance: Auto
- ICC-header
- ICC-meas
- ICC-view
- IFD0
- BitsPerSample: 8 8 8
- ImageHeight: 3727
- ImageWidth: 5557
- Make: Canon
- Model: Canon EOS 5D Mark II
- ModifyDate: 2012:05:31 18:56:19
- Orientation: Horizontal (normal)
- PhotometricInterpretation: RGB
- SamplesPerPixel: 3
- IFD1
- IPTC
- DateCreated: 2012:05:26
- System
- XMP-aux
- Firmware: 2.0.7
- FlashCompensation: 0
- ImageNumber: 0
- Lens: EF35mm f/2
- LensID: 11
- XMP-crs
- AlreadyApplied: True
- BlueHue: 0
- BlueSaturation: 0
- Brightness: +55
- ChromaticAberrationB: 0
- ChromaticAberrationR: 0
- Clarity: +20
- ColorNoiseReduction: 25
- ColorNoiseReductionDetail: 50
- Contrast: +50
- ConvertToGrayscale: True
- CropAngle: -0.125948
- CropBottom: 0.996062
- CropConstrainToWarp: 0
- CropHeight: 3727
- CropLeft: 0.007411
- CropRight: 0.998437
- CropTop: 0.003911
- CropUnit: pixels
- CropWidth: 5557
- Defringe: 0
- Exposure: +0.55
- FillLight: 8
- GrainAmount: 0
- GrayMixerAqua: -15
- GrayMixerBlue: +15
- GrayMixerGreen: -15
- GrayMixerMagenta: +5
- GrayMixerOrange: -20
- GrayMixerPurple: +20
- GrayMixerRed: -15
- GrayMixerYellow: -20
- GreenHue: 0
- GreenSaturation: 0
- HasCrop: True
- HasSettings: True
- HighlightRecovery: 25
- LensManualDistortionAmount: 0
- LensProfileEnable: 0
- LensProfileSetup: LensDefaults
- LuminanceSmoothing: 0
- PaintCorrectionActive: true
- PaintCorrectionAmount: 1.000000
- PaintCorrectionBrightness: 0.073000
- PaintCorrectionClarity: 0.150000
- PaintCorrectionContrast: 0.204000
- PaintCorrectionExposure: 0.244000
- PaintCorrectionHue: 20.000000
- PaintCorrectionMaskCenterWeight: 0.003129
- PaintCorrectionMaskFlow: 1.000000
- PaintCorrectionMaskRadius: 0.003703
- PaintCorrectionMaskValue: 1.000000
- PaintCorrectionMaskWhat: Mask/Paint
- PaintCorrectionSaturation: 0.000000
- PaintCorrectionSharpness: 0.110000
- PaintCorrectionWhat: Correction
- ParametricDarks: 0
- ParametricHighlightSplit: 75
- ParametricHighlights: 0
- ParametricLights: 0
- ParametricMidtoneSplit: 50
- ParametricShadowSplit: 25
- ParametricShadows: 0
- PerspectiveHorizontal: 0
- PerspectiveRotate: 0.0
- PerspectiveScale: 100
- PerspectiveVertical: 0
- PostCropVignetteAmount: 0
- ProcessVersion: 5.7
- RedHue: 0
- RedSaturation: 0
- ShadowTint: 0
- Shadows: 10
- SharpenDetail: 25
- SharpenEdgeMasking: 0
- SharpenRadius: +1.0
- Sharpness: 25
- SplitToningBalance: 0
- SplitToningHighlightHue: 50
- SplitToningHighlightSaturation: 20
- SplitToningShadowHue: 250
- SplitToningShadowSaturation: 20
- Temperature: 5200
- Tint: 0
- ToneCurve: 0, 0, 32, 16, 64, 50, 128, 128, 192, 202, 255, 255
- ToneCurveName: Strong Contrast
- Version: 6.3
- VignetteAmount: -15
- VignetteMidpoint: 50
- WhiteBalance: Custom
- XMP-dc
- XMP-xmp
- CreateDate: 2012:05:26 15:21:03.57+04:00
- ModifyDate: 2012:05:31 18:56:19+04:00
- Rating: 3
- XMP-xmpMM
- XMP-xmpNote
- HasExtendedXMP: 44CA47CFCDC23B38E7BCD82F2FB9E2B0