- Раздел: Другое, разное
- Дата съёмки: 02.06.2012 15:21
- Дата загрузки фото: 04.06.2012 21:29
- Оригинальная фотография: 1200 x 2060 (633 Кб)
- Технические характеристики:
- Фотоаппарат: Canon EOS 450D
- Выдержка: 1/500
- Гиперфокальное расстояние: inf m
- Диафрагма: 2,0
- Светочувствительность: 100
- Фокусное расстояние: 85,0 mm (35 mm equivalent: 255,0 mm)
- Полный EXIF
- Adobe
- ColorTransform: YCbCr
- Composite
- Aperture: 2,0
- CircleOfConfusion: 0,009 mm
- DOF: inf (0,00 m - inf)
- FOV: 8,0 deg
- FocalLength35efl: 85,0 mm (35 mm equivalent: 255,0 mm)
- HyperfocalDistance: inf m
- ScaleFactor35efl: 3,5
- ShutterSpeed: 1/500
- ExifIFD
- ApertureValue: 2,0
- ColorSpace: sRGB
- CreateDate: 2012:06:02 15:21:59
- CustomRendered: Normal
- DateTimeOriginal: 2012:06:02 15:21:59
- ExifImageHeight: 2060
- ExifImageWidth: 1200
- ExposureCompensation: 0
- ExposureMode: Auto
- ExposureProgram: Aperture-priority AE
- ExposureTime: 1/500
- FNumber: 2,0
- Flash: Off, Did not fire
- FocalLength: 85,0 mm
- ISO: 100
- LensInfo: 85mm f/?
- LensModel: EF85mm f/1.8 USM
- MaxApertureValue: 1,8
- MeteringMode: Multi-segment
- OwnerName: ???????_?
- SceneCaptureType: Standard
- SensitivityType: Unknown
- SerialNumber: 530198574
- ShutterSpeedValue: 1/500
- SubjectDistance: 7,27 m
- WhiteBalance: Auto
- ICC-header
- ICC-meas
- ICC-view
- IFD0
- Artist: Дмитрий_З
- BitsPerSample: 8 8 8
- ImageHeight: 4051
- ImageWidth: 2360
- Make: Canon
- Model: Canon EOS 450D
- ModifyDate: 2012:06:03 23:24:17
- Orientation: Horizontal (normal)
- PhotometricInterpretation: RGB
- SamplesPerPixel: 3
- IFD1
- IPTC
- By-line: Дмитрий_З
- DateCreated: 2012:06:02
- System
- XMP-aux
- ApproximateFocusDistance: 7,27
- Firmware: 1.0.4
- FlashCompensation: 0
- ImageNumber: 0
- Lens: EF85mm f/1.8 USM
- LensID: 155
- OwnerName: Дмитрий_З
- XMP-crs
- AlreadyApplied: True
- BlueHue: 0
- BlueSaturation: 0
- Brightness: +55
- ChromaticAberrationB: 0
- ChromaticAberrationR: 0
- Clarity: +20
- ColorNoiseReduction: 25
- ColorNoiseReductionDetail: 50
- Contrast: +50
- ConvertToGrayscale: True
- CropAngle: -1.48069
- CropBottom: 0.831608
- CropConstrainToWarp: 0
- CropHeight: 2360
- CropLeft: 0.015062
- CropRight: 0.977381
- CropTop: 0.040159
- CropUnit: pixels
- CropWidth: 4051
- Defringe: 0
- Exposure: +0.55
- FillLight: 8
- GrainAmount: 0
- GrayMixerAqua: -15
- GrayMixerBlue: +15
- GrayMixerGreen: -15
- GrayMixerMagenta: +5
- GrayMixerOrange: -20
- GrayMixerPurple: +20
- GrayMixerRed: -15
- GrayMixerYellow: -20
- GreenHue: 0
- GreenSaturation: 0
- HasCrop: True
- HasSettings: True
- HighlightRecovery: 25
- LensManualDistortionAmount: 0
- LensProfileEnable: 0
- LensProfileSetup: LensDefaults
- LuminanceSmoothing: 0
- PaintCorrectionActive: true
- PaintCorrectionAmount: 1.000000
- PaintCorrectionBrightness: 0.073000
- PaintCorrectionClarity: 0.150000
- PaintCorrectionContrast: 0.204000
- PaintCorrectionExposure: 0.024000
- PaintCorrectionHue: 20.000000
- PaintCorrectionMaskCenterWeight: 0.000000
- PaintCorrectionMaskFlow: 1.000000
- PaintCorrectionMaskRadius: 0.001726
- PaintCorrectionMaskValue: 1.000000
- PaintCorrectionMaskWhat: Mask/Paint
- PaintCorrectionSaturation: 0.000000
- PaintCorrectionSharpness: 0.110000
- PaintCorrectionWhat: Correction
- ParametricDarks: 0
- ParametricHighlightSplit: 75
- ParametricHighlights: 0
- ParametricLights: 0
- ParametricMidtoneSplit: 50
- ParametricShadowSplit: 25
- ParametricShadows: 0
- PerspectiveHorizontal: 0
- PerspectiveRotate: 0.0
- PerspectiveScale: 100
- PerspectiveVertical: 0
- PostCropVignetteAmount: -22
- PostCropVignetteFeather: 50
- PostCropVignetteHighlightContrast: 0
- PostCropVignetteMidpoint: 50
- PostCropVignetteRoundness: 0
- PostCropVignetteStyle: 1
- ProcessVersion: 5.7
- RedHue: 0
- RedSaturation: 0
- ShadowTint: 0
- Shadows: 10
- SharpenDetail: 25
- SharpenEdgeMasking: 0
- SharpenRadius: +1.0
- Sharpness: 25
- SplitToningBalance: 0
- SplitToningHighlightHue: 50
- SplitToningHighlightSaturation: 20
- SplitToningShadowHue: 250
- SplitToningShadowSaturation: 20
- Temperature: 5200
- Tint: 0
- ToneCurve: 0, 0, 32, 16, 64, 50, 128, 128, 192, 202, 255, 255
- ToneCurveName: Strong Contrast
- Version: 6.3
- VignetteAmount: -15
- VignetteMidpoint: 50
- WhiteBalance: Custom
- XMP-dc
- Creator: Дмитрий_З
- Format: image/jpeg
- XMP-xmp
- CreateDate: 2012:06:02 15:21:59.50+04:00
- ModifyDate: 2012:06:03 23:24:17+04:00
- Rating: 3
- XMP-xmpMM
- Просмотров: 414
- Рейтинг: голосов еще нет
- Отзывов: 0