- Раздел: Другое, разное
- Дата съёмки: 25.05.2012 21:35
- Дата загрузки фото: 08.06.2012 05:18
- Оригинальная фотография: 1800 x 1440 (1,1 Мб)
- Технические характеристики:
- Фотоаппарат: Pentax 645D
- Выдержка: 1/200
- Гиперфокальное расстояние: inf m
- Диафрагма: 4,0
- Светочувствительность: 1000
- Фокусное расстояние: 120,0 mm
- Полный EXIF
- Adobe
- ColorTransform: YCbCr
- Composite
- Aperture: 4,0
- CircleOfConfusion: 0,038 mm
- FocalLength35efl: 120,0 mm
- HyperfocalDistance: inf m
- ScaleFactor35efl: 0,8
- ShutterSpeed: 1/200
- ExifIFD
- ApertureValue: 4,0
- ColorSpace: sRGB
- Contrast: Normal
- CreateDate: 2012:05:25 21:35:19
- CustomRendered: Normal
- DateTimeOriginal: 2012:05:25 21:35:19
- ExifImageHeight: 1440
- ExifImageWidth: 1800
- ExposureCompensation: 0
- ExposureMode: Auto
- ExposureProgram: Aperture-priority AE
- ExposureTime: 1/200
- FNumber: 4,0
- Flash: Off, Did not fire
- FocalLength: 120,0 mm
- FocalLengthIn35mmFormat: 94 mm
- ISO: 1000
- LensInfo: 120mm f/4
- LensModel: smc PENTAX-FA645 MACRO 120mm F4
- MeteringMode: Center-weighted average
- Saturation: Normal
- SceneCaptureType: Standard
- SensingMethod: One-chip color area
- Sharpness: Normal
- ShutterSpeedValue: 1/200
- SubjectDistanceRange: Distant
- WhiteBalance: Auto
- ICC-header
- ICC-meas
- ICC-view
- IFD0
- Artist: Dmitry Borodin
- Copyright: (c) managger
- Make: PENTAX
- Model: PENTAX 645D
- ModifyDate: 2012:06:08 03:59:08
- Orientation: Horizontal (normal)
- IFD1
- IPTC
- By-line: Dmitry Borodin
- CopyrightNotice: (c) managger
- DateCreated: 2012:05:25
- System
- XMP-aux
- ApproximateFocusDistance: 5,66
- Lens: smc PENTAX-FA645 MACRO 120mm F4
- LensID: 11 7
- XMP-crs
- AlreadyApplied: True
- AutoLateralCA: 1
- Blacks2012: +25
- BlueHue: 0
- BlueSaturation: 0
- Brightness: +45
- Clarity: 0
- Clarity2012: 0
- ColorNoiseReduction: 25
- ColorNoiseReductionDetail: 50
- Contrast: +30
- Contrast2012: +7
- ConvertToGrayscale: False
- Defringe: 0
- Exposure: 0.00
- Exposure2012: +0.45
- FillLight: 30
- GrainAmount: 0
- GreenHue: 0
- GreenSaturation: 0
- HasCrop: False
- HasSettings: True
- HighlightRecovery: 30
- Highlights2012: -15
- HueAdjustmentAqua: 0
- HueAdjustmentBlue: 0
- HueAdjustmentGreen: 0
- HueAdjustmentMagenta: 0
- HueAdjustmentOrange: 0
- HueAdjustmentPurple: 0
- HueAdjustmentRed: 0
- HueAdjustmentYellow: 0
- LensManualDistortionAmount: 0
- LensProfileChromaticAberrationScale: 100
- LensProfileDistortionScale: 100
- LensProfileEnable: 1
- LensProfileFilename: PENTAX (smc PENTAX-FA645 MACRO 120mmF4) - RAW.lcp
- LensProfileSetup: Auto
- LensProfileVignettingScale: 100
- LuminanceAdjustmentAqua: 0
- LuminanceAdjustmentBlue: 0
- LuminanceAdjustmentGreen: 0
- LuminanceAdjustmentMagenta: 0
- LuminanceAdjustmentOrange: 0
- LuminanceAdjustmentPurple: 0
- LuminanceAdjustmentRed: 0
- LuminanceAdjustmentYellow: 0
- LuminanceNoiseReductionContrast: 0
- LuminanceNoiseReductionDetail: 50
- LuminanceSmoothing: 25
- ParametricDarks: 0
- ParametricHighlightSplit: 75
- ParametricHighlights: 0
- ParametricLights: 0
- ParametricMidtoneSplit: 50
- ParametricShadowSplit: 25
- ParametricShadows: 0
- PerspectiveHorizontal: 0
- PerspectiveRotate: 0.0
- PerspectiveScale: 100
- PerspectiveVertical: 0
- PostCropVignetteAmount: 0
- ProcessVersion: 5.7
- RawFileName: 645D2209.DNG
- RedHue: 0
- RedSaturation: 0
- Saturation: +25
- SaturationAdjustmentAqua: 0
- SaturationAdjustmentBlue: 0
- SaturationAdjustmentGreen: 0
- SaturationAdjustmentMagenta: 0
- SaturationAdjustmentOrange: 0
- SaturationAdjustmentPurple: 0
- SaturationAdjustmentRed: 0
- SaturationAdjustmentYellow: 0
- ShadowTint: 0
- Shadows: 0
- Shadows2012: +15
- SharpenDetail: 0
- SharpenEdgeMasking: 0
- SharpenRadius: +0.5
- Sharpness: 0
- SplitToningBalance: 0
- SplitToningHighlightHue: 0
- SplitToningHighlightSaturation: 0
- SplitToningShadowHue: 0
- SplitToningShadowSaturation: 0
- Temperature: 5400
- Tint: +17
- ToneCurve: 0, 0, 32, 22, 64, 56, 128, 128, 192, 196, 255, 255
- ToneCurveBlue: 0, 0, 255, 255
- ToneCurveGreen: 0, 0, 255, 255
- ToneCurveName: Medium Contrast
- ToneCurveName2012: Linear
- ToneCurvePV2012: 0, 0, 255, 255
- ToneCurvePV2012Blue: 0, 0, 255, 255
- ToneCurvePV2012Green: 0, 0, 255, 255
- ToneCurvePV2012Red: 0, 0, 255, 255
- ToneCurveRed: 0, 0, 255, 255
- Version: 6.7
- Vibrance: +25
- VignetteAmount: 0
- WhiteBalance: Custom
- Whites2012: -15
- XMP-dc
- Creator: Dmitry Borodin
- Format: image/jpeg
- Rights: (c) managger
- XMP-xmp
- CreatorTool: 645D Ver 1.11
- ModifyDate: 2012:06:08 03:59:08+04:00
- Rating: 0
- XMP-xmpMM
- Просмотров: 242
- Рейтинг: голосов еще нет
- Отзывов: отключены