- Раздел: Другое, разное
- Дата съёмки: 08.06.2012 20:51
- Дата загрузки фото: 11.06.2012 02:19
- Оригинальная фотография: 1000 x 750 (656 Кб)
- Технические характеристики:
- Фотоаппарат: Canon PowerShot S100
- Выдержка: 1/40
- Гиперфокальное расстояние: inf m
- Диафрагма: 5,9
- Светочувствительность: 80
- Фокусное расстояние: 26,0 mm (35 mm equivalent: 468,0 mm)
- Полный EXIF
- Canon
- AEBBracketValue: 0
- AutoExposureBracketing: Off
- AutoISO: 100
- BaseISO: 79
- BulbDuration: 0
- CameraType: Unknown (0)
- CanonExposureMode: Unknown (-1)
- CanonFirmwareVersion: Firmware Version 00.00
- CanonFlashMode: Unknown (-1)
- CanonImageType:
- ColorSpace: sRGB
- ContinuousDrive: Unknown (-1)
- ControlMode: n/a
- DigitalZoom: None
- EasyMode: Unknown (-1)
- ExposureCompensation: 0
- FileNumber: 0
- FlashBits: (none)
- FlashExposureComp: 0
- FlashGuideNumber: 0
- FocalUnits: 32/mm
- FocusMode: Single
- FocusRange: Not Known
- LensType: Unknown (-1)
- LongFocal: 0 mm
- MacroMode: Unknown (0)
- ManualFlashOutput: n/a
- MeasuredEV: 5,00
- MeteringMode: Unknown (-1)
- NDFilter: Unknown (-1)
- OpticalZoomCode: n/a
- Quality: Fine
- SelfTimer: Off
- SequenceNumber: 0
- ShortFocal: 0 mm
- SlowShutter: None
- TargetAperture: 5,9
- TargetExposureTime: 1/40
- WhiteBalance: Unknown (-1)
- ZoomSourceWidth: 0
- ZoomTargetWidth: 0
- Composite
- Aperture: 5,9
- CircleOfConfusion: 0,002 mm
- DriveMode: Continuous Shooting
- FOV: 4,0 deg
- FocalLength35efl: 26,0 mm (35 mm equivalent: 468,0 mm)
- HyperfocalDistance: inf m
- ISO: 79
- Lens: 0,0 mm
- Lens35efl: 0,0 mm (35 mm equivalent: 0,0 mm)
- LensID: Unknown (-1)
- ScaleFactor35efl: 18,6
- ShootingMode: Unknown (-1)
- ShutterSpeed: 1/40
- ExifIFD
- ApertureValue: 5,9
- CreateDate: 2012:06:08 20:51:22
- CustomRendered: Normal
- DateTimeOriginal: 2012:06:08 20:51:22
- DigitalZoomRatio: 1
- ExifImageHeight: 750
- ExifImageWidth: 1000
- ExposureMode: Auto
- ExposureTime: 1/40
- FNumber: 5,9
- Flash: Off, Did not fire
- FocalLength: 26,0 mm
- ISO: 80
- LensInfo: 5.2-26mm f/?
- SceneCaptureType: Standard
- SensitivityType: Standard Output Sensitivity and Recommended Exposure Index
- ShutterSpeedValue: 1/40
- UserComment:
- WhiteBalance: Auto
- ICC-header
- IFD0
- Make: Canon
- Model: Canon PowerShot S100
- ModifyDate: 2012:06:08 20:51:22
- Orientation: Horizontal (normal)
- Software: Digital Photo Professional
- IFD1
- RelatedImageHeight: 750
- RelatedImageWidth: 1000
- System
- XMP-aux
- ApproximateFocusDistance: 64,4
- Firmware: 1.01
- FlashCompensation: 0
- Lens: 5.2-26.0 mm
- XMP-crs
- AlreadyApplied: True
- AutoLateralCA: 0
- Blacks2012: 0
- BlueHue: 0
- BlueSaturation: 0
- Clarity2012: +40
- ColorNoiseReduction: 25
- ColorNoiseReductionDetail: 50
- Contrast2012: 0
- ConvertToGrayscale: False
- DefringeGreenAmount: 0
- DefringeGreenHueHi: 60
- DefringeGreenHueLo: 40
- DefringePurpleAmount: 0
- DefringePurpleHueHi: 70
- DefringePurpleHueLo: 30
- Exposure2012: 0.00
- GrainAmount: 0
- GreenHue: 0
- GreenSaturation: 0
- HasCrop: False
- HasSettings: True
- Highlights2012: 0
- HueAdjustmentAqua: 0
- HueAdjustmentBlue: 0
- HueAdjustmentGreen: 0
- HueAdjustmentMagenta: 0
- HueAdjustmentOrange: 0
- HueAdjustmentPurple: 0
- HueAdjustmentRed: 0
- HueAdjustmentYellow: 0
- LensManualDistortionAmount: 0
- LensProfileEnable: 0
- LensProfileSetup: LensDefaults
- LuminanceAdjustmentAqua: 0
- LuminanceAdjustmentBlue: 0
- LuminanceAdjustmentGreen: 0
- LuminanceAdjustmentMagenta: 0
- LuminanceAdjustmentOrange: 0
- LuminanceAdjustmentPurple: 0
- LuminanceAdjustmentRed: 0
- LuminanceAdjustmentYellow: 0
- LuminanceNoiseReductionContrast: 0
- LuminanceNoiseReductionDetail: 50
- LuminanceSmoothing: 50
- ParametricDarks: 0
- ParametricHighlightSplit: 75
- ParametricHighlights: 0
- ParametricLights: 0
- ParametricMidtoneSplit: 50
- ParametricShadowSplit: 25
- ParametricShadows: 0
- PerspectiveHorizontal: 0
- PerspectiveRotate: 0.0
- PerspectiveScale: 100
- PerspectiveVertical: 0
- PostCropVignetteAmount: 0
- ProcessVersion: 6.7
- RedHue: 0
- RedSaturation: 0
- Saturation: +15
- SaturationAdjustmentAqua: 0
- SaturationAdjustmentBlue: 0
- SaturationAdjustmentGreen: 0
- SaturationAdjustmentMagenta: 0
- SaturationAdjustmentOrange: 0
- SaturationAdjustmentPurple: 0
- SaturationAdjustmentRed: 0
- SaturationAdjustmentYellow: 0
- ShadowTint: 0
- Shadows2012: 0
- SharpenDetail: 50
- SharpenEdgeMasking: 0
- SharpenRadius: +0.8
- Sharpness: 40
- SplitToningBalance: 0
- SplitToningHighlightHue: 0
- SplitToningHighlightSaturation: 0
- SplitToningShadowHue: 0
- SplitToningShadowSaturation: 0
- Temperature: 4100
- Tint: +10
- ToneCurveName2012: Linear
- ToneCurvePV2012: 0, 0, 255, 255
- ToneCurvePV2012Blue: 0, 0, 255, 255
- ToneCurvePV2012Green: 0, 0, 255, 255
- ToneCurvePV2012Red: 0, 0, 255, 255
- Version: 7.1
- Vibrance: +30
- VignetteAmount: 0
- WhiteBalance: As Shot
- Whites2012: 0
- XMP-dc
- XMP-xmp
- ModifyDate: 2012:06:11 00:35:44+03:00
- XMP-xmpMM
- Просмотров: 238
- Рейтинг: голосов еще нет
- Отзывов: отключены