- Раздел: Путешествия
- Дата съёмки: 31.05.2012 15:28
- Дата загрузки фото: 19.06.2012 09:25
- Оригинальная фотография: 1567 x 2400 (2,0 Мб)
- Технические характеристики:
- Фотоаппарат: Canon EOS 60D
- Выдержка: 1/60
- Гиперфокальное расстояние: inf m
- Диафрагма: 5,0
- Светочувствительность: 100
- Фокусное расстояние: 200,0 mm (35 mm equivalent: 600,0 mm)
- Полный EXIF
- Adobe
- ColorTransform: YCbCr
- Composite
- Aperture: 5,0
- CircleOfConfusion: 0,009 mm
- FOV: 3,0 deg
- FocalLength35efl: 200,0 mm (35 mm equivalent: 600,0 mm)
- HyperfocalDistance: inf m
- ScaleFactor35efl: 3,4
- ShutterSpeed: 1/60
- ExifIFD
- ApertureValue: 5,0
- ColorSpace: sRGB
- CreateDate: 2012:05:31 15:28:39
- CustomRendered: Normal
- DateTimeOriginal: 2012:05:31 15:28:39
- ExifImageHeight: 2400
- ExifImageWidth: 1567
- ExposureCompensation: 0
- ExposureMode: Auto
- ExposureProgram: Aperture-priority AE
- ExposureTime: 1/60
- FNumber: 5,0
- Flash: Off, Did not fire
- FocalLength: 200,0 mm
- ISO: 100
- LensInfo: 70-200mm f/?
- LensModel: EF70-200mm f/4L IS USM
- LensSerialNumber: 00008422e9
- MaxApertureValue: 4,0
- MeteringMode: Multi-segment
- RecommendedExposureIndex: 100
- SceneCaptureType: Standard
- SensitivityType: Recommended Exposure Index
- SerialNumber: 0780425294
- ShutterSpeedValue: 1/60
- WhiteBalance: Auto
- ICC-header
- ICC-meas
- ICC-view
- IFD0
- Artist: Aliko
- Make: Canon
- Model: Canon EOS 60D
- ModifyDate: 2012:06:06 13:57:54
- Orientation: Horizontal (normal)
- IFD1
- IPTC
- By-line: Aliko
- DateCreated: 2012:05:31
- System
- XMP-aux
- ApproximateFocusDistance: 25,3
- Firmware: 1.1.0
- FlashCompensation: 0
- ImageNumber: 0
- Lens: EF70-200mm f/4L IS USM
- LensID: 242
- XMP-crs
- AlreadyApplied: True
- AutoLateralCA: 1
- Blacks2012: 0
- BlueHue: 0
- BlueSaturation: 0
- Clarity2012: +24
- ColorNoiseReduction: 25
- ColorNoiseReductionDetail: 50
- Contrast2012: +7
- ConvertToGrayscale: False
- CropAngle: 0
- CropBottom: 0.959288
- CropConstrainToWarp: 1
- CropLeft: 0
- CropRight: 0.974533
- CropTop: 0.005089
- DefringeGreenAmount: 0
- DefringeGreenHueHi: 60
- DefringeGreenHueLo: 40
- DefringePurpleAmount: 0
- DefringePurpleHueHi: 70
- DefringePurpleHueLo: 30
- Exposure2012: +0.25
- GrainAmount: 0
- GreenHue: 0
- GreenSaturation: 0
- HasCrop: True
- HasSettings: True
- Highlights2012: +15
- HueAdjustmentAqua: 0
- HueAdjustmentBlue: 0
- HueAdjustmentGreen: 0
- HueAdjustmentMagenta: 0
- HueAdjustmentOrange: 0
- HueAdjustmentPurple: 0
- HueAdjustmentRed: 0
- HueAdjustmentYellow: 0
- LensManualDistortionAmount: 0
- LensProfileChromaticAberrationScale: 100
- LensProfileDistortionScale: 100
- LensProfileEnable: 1
- LensProfileFilename: Canon EOS 5D Mark II (Canon EF 70-200mm f4L IS USM) - RAW.lcp
- LensProfileSetup: Custom
- LensProfileVignettingScale: 118
- LuminanceAdjustmentAqua: 0
- LuminanceAdjustmentBlue: 0
- LuminanceAdjustmentGreen: 0
- LuminanceAdjustmentMagenta: 0
- LuminanceAdjustmentOrange: 0
- LuminanceAdjustmentPurple: 0
- LuminanceAdjustmentRed: 0
- LuminanceAdjustmentYellow: 0
- LuminanceSmoothing: 0
- ParametricDarks: 0
- ParametricHighlightSplit: 75
- ParametricHighlights: 0
- ParametricLights: 0
- ParametricMidtoneSplit: 50
- ParametricShadowSplit: 25
- ParametricShadows: 0
- PerspectiveHorizontal: 0
- PerspectiveRotate: 0.0
- PerspectiveScale: 100
- PerspectiveVertical: 0
- PostCropVignetteAmount: 0
- ProcessVersion: 6.7
- RawFileName: IMG_9644.CR2
- RedHue: 0
- RedSaturation: 0
- Saturation: 0
- SaturationAdjustmentAqua: 0
- SaturationAdjustmentBlue: 0
- SaturationAdjustmentGreen: 0
- SaturationAdjustmentMagenta: 0
- SaturationAdjustmentOrange: 0
- SaturationAdjustmentPurple: 0
- SaturationAdjustmentRed: 0
- SaturationAdjustmentYellow: 0
- ShadowTint: 0
- Shadows2012: 0
- SharpenDetail: 25
- SharpenEdgeMasking: 0
- SharpenRadius: +1.0
- Sharpness: 25
- SplitToningBalance: 0
- SplitToningHighlightHue: 0
- SplitToningHighlightSaturation: 0
- SplitToningShadowHue: 0
- SplitToningShadowSaturation: 0
- Temperature: 4400
- Tint: +20
- ToneCurveName2012: Linear
- ToneCurvePV2012: 0, 0, 255, 255
- ToneCurvePV2012Blue: 0, 0, 255, 255
- ToneCurvePV2012Green: 0, 0, 255, 255
- ToneCurvePV2012Red: 0, 0, 255, 255
- Version: 7.1
- Vibrance: +12
- VignetteAmount: 0
- WhiteBalance: As Shot
- Whites2012: 0
- XMP-dc
- Creator: Aliko
- Format: image/jpeg
- XMP-xmp
- ModifyDate: 2012:06:06 13:57:54Z
- Rating: 0
- XMP-xmpMM
- Просмотров: 436
- Рейтинг: голосов еще нет
- Отзывов: 0