- Раздел: Пейзаж
- Дата съёмки: 03.07.2012 07:30
- Дата загрузки фото: 12.07.2012 02:02
- Оригинальная фотография: 1626 x 1080 (1,0 Мб)
- Технические характеристики:
- Фотоаппарат: Ricoh GXR A12
- Выдержка: 1/90
- Диафрагма: 7,1
- Светочувствительность: 200
- Фокусное расстояние: 18,0 mm
- Полный EXIF
- Adobe
- ColorTransform: YCbCr
- Composite
- Aperture: 7,1
- FocalLength35efl: 18,0 mm
- ShutterSpeed: 1/90
- ExifIFD
- ApertureValue: 7,1
- BrightnessValue: 6,1
- ColorSpace: sRGB
- CreateDate: 2012:07:03 07:30:25
- DateTimeOriginal: 2012:07:03 07:30:25
- ExifImageHeight: 1080
- ExifImageWidth: 1626
- ExposureCompensation: 0
- ExposureMode: Auto
- ExposureProgram: Aperture-priority AE
- ExposureTime: 1/90
- FNumber: 7,1
- Flash: Off, Did not fire
- FocalLength: 18,3 mm
- ISO: 200
- LensInfo: 18.3mm f/2.37841423
- LensModel: 18.3 mm f/2.4
- LightSource: Unknown
- MaxApertureValue: 2,4
- MeteringMode: Multi-segment
- SceneType: Directly photographed
- Sharpness: Hard
- ShutterSpeedValue: 1/90
- WhiteBalance: Auto
- ICC-header
- ICC-meas
- ICC-view
- IFD0
- Copyright: (C)ANDREY I.KHODAK
- ImageDescription:
- Make: RICOH
- Model: GXR A12
- ModifyDate: 2012:07:12 01:33:26
- Orientation: Horizontal (normal)
- IFD1
- IPTC
- Caption-Abstract:
- CopyrightNotice: (C)ANDREY I.KHODAK
- DateCreated: 2012:07:03
- Urgency: 0 (reserved)
- System
- XMP-aux
- Lens: 18.3 mm f/2.4
- LensInfo: 18.3mm f/2.37841422972566
- XMP-crs
- AlreadyApplied: True
- BlueHue: 0
- BlueSaturation: 0
- Brightness: 0
- CameraProfile: Embedded
- ChromaticAberrationB: -9
- ChromaticAberrationR: -12
- Clarity: 0
- ColorNoiseReduction: 0
- Contrast: +12
- ConvertToGrayscale: False
- Defringe: 1
- Exposure: 0.00
- FillLight: 8
- GrainAmount: 0
- GreenHue: 0
- GreenSaturation: 0
- HasCrop: False
- HasSettings: True
- HighlightRecovery: 0
- HueAdjustmentAqua: 0
- HueAdjustmentBlue: -9
- HueAdjustmentGreen: +3
- HueAdjustmentMagenta: 0
- HueAdjustmentOrange: -5
- HueAdjustmentPurple: 0
- HueAdjustmentRed: 0
- HueAdjustmentYellow: -3
- IncrementalTemperature: 0
- IncrementalTint: 0
- LensManualDistortionAmount: 0
- LensProfileEnable: 0
- LensProfileSetup: LensDefaults
- LuminanceAdjustmentAqua: 0
- LuminanceAdjustmentBlue: -20
- LuminanceAdjustmentGreen: 0
- LuminanceAdjustmentMagenta: 0
- LuminanceAdjustmentOrange: +4
- LuminanceAdjustmentPurple: -1
- LuminanceAdjustmentRed: 0
- LuminanceAdjustmentYellow: +11
- LuminanceSmoothing: 0
- ParametricDarks: 0
- ParametricHighlightSplit: 75
- ParametricHighlights: 0
- ParametricLights: 0
- ParametricMidtoneSplit: 50
- ParametricShadowSplit: 25
- ParametricShadows: 0
- PerspectiveHorizontal: 0
- PerspectiveRotate: 0.0
- PerspectiveScale: 100
- PerspectiveVertical: 0
- PostCropVignetteAmount: 0
- ProcessVersion: 5.7
- RawFileName: R0011223.tif
- RedHue: 0
- RedSaturation: 0
- Saturation: 0
- SaturationAdjustmentAqua: 0
- SaturationAdjustmentBlue: 0
- SaturationAdjustmentGreen: 0
- SaturationAdjustmentMagenta: 0
- SaturationAdjustmentOrange: +9
- SaturationAdjustmentPurple: 0
- SaturationAdjustmentRed: 0
- SaturationAdjustmentYellow: +14
- ShadowTint: 0
- Shadows: 0
- SharpenDetail: 25
- SharpenEdgeMasking: 0
- SharpenRadius: +1.0
- Sharpness: 0
- SplitToningBalance: 0
- SplitToningHighlightHue: 0
- SplitToningHighlightSaturation: 0
- SplitToningShadowHue: 44
- SplitToningShadowSaturation: 10
- ToneCurve: 0, 0, 255, 255
- ToneCurveName: Linear
- Version: 6.6
- Vibrance: 0
- VignetteAmount: 0
- WhiteBalance: As Shot
- XMP-dc
- Description:
- Format: image/jpeg
- Rights: (C)ANDREY I.KHODAK
- XMP-xmp
- CreatorTool: Capture One 6 Windows
- Label: None
- ModifyDate: 2012:07:12 01:33:26+04:00
- Rating: 0
- XMP-xmpMM
- Просмотров: 452
- Рейтинг: голосов еще нет
- Отзывов: 0