- Раздел: Другое, разное
- Дата съёмки: 11.06.2012 18:14
- Дата загрузки фото: 16.07.2012 21:33
- Оригинальная фотография: 600 x 900 (367 Кб)
- Технические характеристики:
- Фотоаппарат: Canon EOS 5D Mark II
- Выдержка: 1/640
- Гиперфокальное расстояние: inf m
- Диафрагма: 2,0
- Светочувствительность: 200
- Фокусное расстояние: 135,0 mm (35 mm equivalent: 810,0 mm)
- Экспокоррекция: +2/3
- Полный EXIF
- Adobe
- ColorTransform: YCbCr
- Composite
- Aperture: 2,0
- CircleOfConfusion: 0,005 mm
- FOV: 2,0 deg
- FocalLength35efl: 135,0 mm (35 mm equivalent: 810,0 mm)
- HyperfocalDistance: inf m
- ScaleFactor35efl: 6,1
- ShutterSpeed: 1/640
- ExifIFD
- ApertureValue: 2,0
- ColorSpace: sRGB
- CreateDate: 2012:06:11 18:14:15
- CustomRendered: Normal
- DateTimeOriginal: 2012:06:11 18:14:15
- ExifImageHeight: 900
- ExifImageWidth: 600
- ExposureCompensation: +2/3
- ExposureMode: Auto
- ExposureProgram: Aperture-priority AE
- ExposureTime: 1/640
- FNumber: 2,0
- Flash: Off, Did not fire
- FocalLength: 135,0 mm
- ISO: 200
- LensInfo: 135mm f/?
- LensModel: EF135mm f/2L USM
- MaxApertureValue: 2,0
- MeteringMode: Multi-segment
- SceneCaptureType: Standard
- SerialNumber: 3331606960
- ShutterSpeedValue: 1/640
- WhiteBalance: Auto
- ICC-header
- ICC-meas
- ICC-view
- IFD0
- BitsPerSample: 8 8 8
- ImageHeight: 5616
- ImageWidth: 3744
- Make: Canon
- Model: Canon EOS 5D Mark II
- ModifyDate: 2012:07:16 20:22:01
- Orientation: Horizontal (normal)
- PhotometricInterpretation: RGB
- SamplesPerPixel: 3
- IFD1
- IPTC
- DateCreated: 2012:06:11
- System
- XMP-aux
- ApproximateFocusDistance: 16,5
- Firmware: 2.0.9
- FlashCompensation: 0
- ImageNumber: 0
- Lens: EF135mm f/2L USM
- LensID: 174
- XMP-crs
- AlreadyApplied: True
- AutoLateralCA: 0
- Blacks2012: +10
- BlueHue: -44
- BlueSaturation: +33
- Brightness: +50
- Clarity: 0
- Clarity2012: +3
- ColorNoiseReduction: 50
- ColorNoiseReductionDetail: 50
- Contrast: +25
- Contrast2012: +36
- ConvertToGrayscale: False
- Defringe: 0
- Exposure: 0.00
- Exposure2012: +0.53
- FillLight: 0
- GrainAmount: 0
- GreenHue: +46
- GreenSaturation: 0
- HasCrop: False
- HasSettings: True
- HighlightRecovery: 0
- Highlights2012: -9
- HueAdjustmentAqua: 0
- HueAdjustmentBlue: 0
- HueAdjustmentGreen: 0
- HueAdjustmentMagenta: 0
- HueAdjustmentOrange: 0
- HueAdjustmentPurple: 0
- HueAdjustmentRed: 0
- HueAdjustmentYellow: 0
- LensManualDistortionAmount: 0
- LensProfileChromaticAberrationScale: 100
- LensProfileDistortionScale: 100
- LensProfileEnable: 1
- LensProfileFilename: Canon EOS 5D Mark II (Canon EF 135mm f2L USM) - RAW.lcp
- LensProfileSetup: LensDefaults
- LensProfileVignettingScale: 100
- LuminanceAdjustmentAqua: 0
- LuminanceAdjustmentBlue: 0
- LuminanceAdjustmentGreen: 0
- LuminanceAdjustmentMagenta: 0
- LuminanceAdjustmentOrange: 0
- LuminanceAdjustmentPurple: 0
- LuminanceAdjustmentRed: 0
- LuminanceAdjustmentYellow: 0
- LuminanceSmoothing: 0
- ParametricDarks: +52
- ParametricHighlightSplit: 90
- ParametricHighlights: 0
- ParametricLights: 0
- ParametricMidtoneSplit: 59
- ParametricShadowSplit: 10
- ParametricShadows: 0
- PerspectiveHorizontal: 0
- PerspectiveRotate: 0.0
- PerspectiveScale: 100
- PerspectiveVertical: 0
- PostCropVignetteAmount: 0
- ProcessVersion: 6.7
- RedHue: +49
- RedSaturation: 0
- Saturation: -18
- SaturationAdjustmentAqua: -14
- SaturationAdjustmentBlue: -14
- SaturationAdjustmentGreen: -14
- SaturationAdjustmentMagenta: -14
- SaturationAdjustmentOrange: -12
- SaturationAdjustmentPurple: -14
- SaturationAdjustmentRed: -12
- SaturationAdjustmentYellow: -13
- ShadowTint: 0
- Shadows: 5
- Shadows2012: -51
- SharpenDetail: 25
- SharpenEdgeMasking: 0
- SharpenRadius: +1.1
- Sharpness: 73
- SplitToningBalance: +4
- SplitToningHighlightHue: 78
- SplitToningHighlightSaturation: 28
- SplitToningShadowHue: 236
- SplitToningShadowSaturation: 31
- Temperature: 15433
- Tint: -35
- ToneCurve: 0, 0, 255, 255
- ToneCurveBlue: 0, 0, 255, 255
- ToneCurveGreen: 0, 0, 255, 255
- ToneCurveName: Linear
- ToneCurveName2012: Custom
- ToneCurvePV2012: 0, 21, 90, 87, 255, 255
- ToneCurvePV2012Blue: 0, 0, 255, 255
- ToneCurvePV2012Green: 0, 0, 255, 255
- ToneCurvePV2012Red: 0, 0, 255, 255
- ToneCurveRed: 0, 0, 255, 255
- Version: 7.0
- Vibrance: -23
- VignetteAmount: 0
- WhiteBalance: Custom
- Whites2012: -9
- XMP-dc
- XMP-xmp
- ModifyDate: 2012:07:16 20:22:01+03:00
- XMP-xmpMM
- Просмотров: 122
- Рейтинг: голосов еще нет
- Отзывов: отключены