- Раздел: Активный отдых, туризм
- Дата съёмки: 02.07.2012 20:42
- Дата загрузки фото: 26.07.2012 18:35
- Оригинальная фотография: 4000 x 2248 (2,6 Мб)
- Технические характеристики:
- Фотоаппарат: Canon PowerShot SX220 HS
- Выдержка: 1/200
- Гиперфокальное расстояние: inf m
- Диафрагма: 5,0
- Светочувствительность: 100
- Фокусное расстояние: 22,0 mm (35 mm equivalent: 132,0 mm)
- Экспокоррекция: -2/3
- Полный EXIF
- Adobe
- ColorTransform: YCbCr
- Composite
- Aperture: 5,0
- CircleOfConfusion: 0,005 mm
- DOF: inf (0,00 m - inf)
- FOV: 15,0 deg
- FocalLength35efl: 22,0 mm (35 mm equivalent: 132,0 mm)
- HyperfocalDistance: inf m
- ScaleFactor35efl: 6,1
- ShutterSpeed: 1/200
- ExifIFD
- ApertureValue: 5,0
- CreateDate: 2012:07:02 20:42:15
- CustomRendered: Normal
- DateTimeOriginal: 2012:07:02 20:42:15
- DigitalZoomRatio: 1
- ExposureCompensation: -2/3
- ExposureMode: Manual
- ExposureTime: 1/200
- FNumber: 5,0
- Flash: Off, Did not fire
- FocalLength: 22,9 mm
- ISO: 100
- LensInfo: 5-70mm f/?
- LensModel: 5.0-70.0 mm
- MaxApertureValue: 5,0
- MeteringMode: Multi-segment
- SceneCaptureType: Standard
- SensingMethod: One-chip color area
- SensitivityType: Standard Output Sensitivity and Recommended Exposure Index
- ShutterSpeedValue: 1/200
- SubjectDistance: 7,05 m
- WhiteBalance: Auto
- ICC-header
- ICC-meas
- ICC-view
- IFD0
- Make: Canon
- Model: Canon PowerShot SX220 HS
- ModifyDate: 2012:06:02 18:01:14
- IFD1
- IPTC
- DateCreated: 2012:07:02
- System
- XMP-aux
- ApproximateFocusDistance: 7,05
- Firmware: 1.01
- FlashCompensation: 0
- Lens: 5.0-70.0 mm
- XMP-crs
- AlreadyApplied: True
- BlueHue: 0
- BlueSaturation: 0
- Brightness: 0
- CameraProfile: Embedded
- ChromaticAberrationB: 0
- ChromaticAberrationR: 0
- Clarity: 0
- ColorNoiseReduction: 0
- Contrast: 0
- ConvertToGrayscale: False
- Defringe: 0
- Exposure: 0.00
- FillLight: 0
- GrainAmount: 0
- GreenHue: 0
- GreenSaturation: 0
- HasCrop: False
- HasSettings: True
- HighlightRecovery: 0
- HueAdjustmentAqua: 0
- HueAdjustmentBlue: 0
- HueAdjustmentGreen: 0
- HueAdjustmentMagenta: 0
- HueAdjustmentOrange: 0
- HueAdjustmentPurple: 0
- HueAdjustmentRed: 0
- HueAdjustmentYellow: 0
- IncrementalTemperature: 0
- IncrementalTint: 0
- LensManualDistortionAmount: 0
- LensProfileEnable: 0
- LensProfileSetup: LensDefaults
- LuminanceAdjustmentAqua: 0
- LuminanceAdjustmentBlue: +81
- LuminanceAdjustmentGreen: +49
- LuminanceAdjustmentMagenta: 0
- LuminanceAdjustmentOrange: 0
- LuminanceAdjustmentPurple: 0
- LuminanceAdjustmentRed: 0
- LuminanceAdjustmentYellow: +92
- LuminanceNoiseReductionContrast: 0
- LuminanceNoiseReductionDetail: 50
- LuminanceSmoothing: 51
- ParametricDarks: 0
- ParametricHighlightSplit: 75
- ParametricHighlights: 0
- ParametricLights: 0
- ParametricMidtoneSplit: 50
- ParametricShadowSplit: 25
- ParametricShadows: 0
- PerspectiveHorizontal: 0
- PerspectiveRotate: 0.0
- PerspectiveScale: 100
- PerspectiveVertical: 0
- PostCropVignetteAmount: 0
- ProcessVersion: 5.7
- RedHue: 0
- RedSaturation: 0
- Saturation: 0
- SaturationAdjustmentAqua: 0
- SaturationAdjustmentBlue: +81
- SaturationAdjustmentGreen: +42
- SaturationAdjustmentMagenta: 0
- SaturationAdjustmentOrange: 0
- SaturationAdjustmentPurple: 0
- SaturationAdjustmentRed: 0
- SaturationAdjustmentYellow: +74
- ShadowTint: 0
- Shadows: 0
- SharpenDetail: 25
- SharpenEdgeMasking: 0
- SharpenRadius: +1.0
- Sharpness: 115
- SplitToningBalance: 0
- SplitToningHighlightHue: 0
- SplitToningHighlightSaturation: 0
- SplitToningShadowHue: 0
- SplitToningShadowSaturation: 0
- ToneCurve: 0, 0, 255, 255
- ToneCurveName: Linear
- Version: 6.6
- Vibrance: 0
- VignetteAmount: 0
- WhiteBalance: As Shot
- XMP-dc
- XMP-xmp
- ModifyDate: 2012:06:02 18:01:14+04:00
- XMP-xmpMM
- Просмотров: 296
- Рейтинг: голосов еще нет
- Отзывов: 0