- Раздел: Природа
- Дата съёмки: 07.07.2012 16:59
- Дата загрузки фото: 04.08.2012 00:38
- Оригинальная фотография: 2400 x 1600 (1,8 Мб)
- Технические характеристики:
- Фотоаппарат: Canon EOS 60D
- Выдержка: 1/4000
- Гиперфокальное расстояние: inf m
- Диафрагма: 4,0
- Светочувствительность: 100
- Фокусное расстояние: 70,0 mm (35 mm equivalent: 210,0 mm)
- Полный EXIF
- Adobe
- ColorTransform: YCbCr
- Composite
- Aperture: 4,0
- CircleOfConfusion: 0,009 mm
- FOV: 9,0 deg
- FocalLength35efl: 70,0 mm (35 mm equivalent: 210,0 mm)
- HyperfocalDistance: inf m
- ScaleFactor35efl: 3,4
- ShutterSpeed: 1/4000
- ExifIFD
- ApertureValue: 4,0
- ColorSpace: sRGB
- CreateDate: 2012:07:07 16:59:18
- CustomRendered: Normal
- DateTimeOriginal: 2012:07:07 16:59:18
- ExifImageHeight: 1600
- ExifImageWidth: 2400
- ExposureCompensation: 0
- ExposureMode: Auto
- ExposureProgram: Aperture-priority AE
- ExposureTime: 1/4000
- FNumber: 4,0
- Flash: Off, Did not fire
- FocalLength: 70,0 mm
- ISO: 100
- LensInfo: 70-200mm f/?
- LensModel: EF70-200mm f/4L IS USM
- LensSerialNumber: 00008422e9
- MaxApertureValue: 4,0
- MeteringMode: Multi-segment
- RecommendedExposureIndex: 100
- SceneCaptureType: Standard
- SensitivityType: Recommended Exposure Index
- SerialNumber: 0780425294
- ShutterSpeedValue: 1/4000
- WhiteBalance: Auto
- ICC-header
- ICC-meas
- ICC-view
- IFD0
- Artist: Aliko
- BitsPerSample: 8 8 8
- Copyright: Aliko
- ImageHeight: 1600
- ImageWidth: 2400
- Make: Canon
- Model: Canon EOS 60D
- ModifyDate: 2012:08:03 20:37:21
- Orientation: Horizontal (normal)
- PhotometricInterpretation: RGB
- SamplesPerPixel: 3
- IFD1
- IPTC
- By-line: Aliko
- CopyrightNotice: Aliko
- DateCreated: 2012:07:07
- System
- XMP-aux
- ApproximateFocusDistance: 4294967295
- Firmware: 1.1.1
- FlashCompensation: 0
- ImageNumber: 0
- Lens: EF70-200mm f/4L IS USM
- LensID: 242
- XMP-crs
- AlreadyApplied: True
- AutoLateralCA: 1
- Blacks2012: -8
- BlueHue: 0
- BlueSaturation: 0
- Clarity2012: +9
- ColorNoiseReduction: 25
- ColorNoiseReductionDetail: 50
- Contrast2012: +3
- ConvertToGrayscale: False
- CropAngle: 0.24857
- CropBottom: 1
- CropConstrainToWarp: 1
- CropLeft: 0.00467
- CropRight: 0.99533
- CropTop: 0
- DefringeGreenAmount: 0
- DefringeGreenHueHi: 60
- DefringeGreenHueLo: 40
- DefringePurpleAmount: 0
- DefringePurpleHueHi: 70
- DefringePurpleHueLo: 30
- Exposure2012: +0.25
- GrainAmount: 0
- GreenHue: 0
- GreenSaturation: 0
- HasCrop: True
- HasSettings: True
- Highlights2012: -70
- HueAdjustmentAqua: 0
- HueAdjustmentBlue: 0
- HueAdjustmentGreen: 0
- HueAdjustmentMagenta: 0
- HueAdjustmentOrange: 0
- HueAdjustmentPurple: 0
- HueAdjustmentRed: 0
- HueAdjustmentYellow: 0
- LensManualDistortionAmount: 0
- LensProfileChromaticAberrationScale: 100
- LensProfileDistortionScale: 100
- LensProfileEnable: 1
- LensProfileFilename: Canon EOS 5D Mark II (Canon EF 70-200mm f4L IS USM) - RAW.lcp
- LensProfileSetup: Custom
- LensProfileVignettingScale: 118
- LuminanceAdjustmentAqua: 0
- LuminanceAdjustmentBlue: 0
- LuminanceAdjustmentGreen: 0
- LuminanceAdjustmentMagenta: 0
- LuminanceAdjustmentOrange: 0
- LuminanceAdjustmentPurple: 0
- LuminanceAdjustmentRed: 0
- LuminanceAdjustmentYellow: 0
- LuminanceSmoothing: 0
- ParametricDarks: 0
- ParametricHighlightSplit: 75
- ParametricHighlights: 0
- ParametricLights: 0
- ParametricMidtoneSplit: 50
- ParametricShadowSplit: 25
- ParametricShadows: 0
- PerspectiveHorizontal: 0
- PerspectiveRotate: 0.0
- PerspectiveScale: 100
- PerspectiveVertical: 0
- PostCropVignetteAmount: 0
- ProcessVersion: 6.7
- RawFileName: IMG_3185.CR2
- RedHue: 0
- RedSaturation: 0
- Saturation: 0
- SaturationAdjustmentAqua: 0
- SaturationAdjustmentBlue: +47
- SaturationAdjustmentGreen: 0
- SaturationAdjustmentMagenta: 0
- SaturationAdjustmentOrange: 0
- SaturationAdjustmentPurple: 0
- SaturationAdjustmentRed: 0
- SaturationAdjustmentYellow: 0
- ShadowTint: 0
- Shadows2012: +30
- SharpenDetail: 25
- SharpenEdgeMasking: 0
- SharpenRadius: +1.0
- Sharpness: 25
- SplitToningBalance: 0
- SplitToningHighlightHue: 0
- SplitToningHighlightSaturation: 0
- SplitToningShadowHue: 0
- SplitToningShadowSaturation: 0
- Temperature: 5800
- Tint: +19
- ToneCurveName2012: Linear
- ToneCurvePV2012: 0, 0, 255, 255
- ToneCurvePV2012Blue: 0, 0, 255, 255
- ToneCurvePV2012Green: 0, 0, 255, 255
- ToneCurvePV2012Red: 0, 0, 255, 255
- Version: 7.1
- Vibrance: -3
- VignetteAmount: 0
- WhiteBalance: As Shot
- Whites2012: +36
- XMP-dc
- Creator: Aliko
- Format: image/jpeg
- Rights: Aliko
- XMP-xmp
- ModifyDate: 2012:08:03 20:37:21Z
- Rating: 0
- XMP-xmpMM