- Раздел: Другое, разное
- Дата съёмки: 02.08.2012 16:24
- Дата загрузки фото: 04.08.2012 05:46
- Оригинальная фотография: 3708 x 2482 (6,4 Мб)
- Технические характеристики:
- Фотоаппарат: Pentax K10D
- Выдержка: 1/2000
- Гиперфокальное расстояние: inf m
- Диафрагма: 2,8
- Светочувствительность: 100
- Фокусное расстояние: 23,0 mm (35 mm equivalent: 23,0 mm)
- Экспокоррекция: -1/2
- Полный EXIF
- Adobe
- ColorTransform: YCbCr
- Composite
- Aperture: 2,8
- CircleOfConfusion: 0,020 mm
- FOV: 76,0 deg
- FocalLength35efl: 23,0 mm (35 mm equivalent: 23,0 mm)
- HyperfocalDistance: inf m
- ScaleFactor35efl: 1,5
- ShutterSpeed: 1/2000
- ExifIFD
- ApertureValue: 2,8
- Contrast: Normal
- CreateDate: 2012:08:02 16:24:44
- CustomRendered: Normal
- DateTimeOriginal: 2012:08:02 16:24:44
- ExposureCompensation: -1/2
- ExposureMode: Manual
- ExposureProgram: Aperture-priority AE
- ExposureTime: 1/2000
- FNumber: 2,8
- Flash: Off, Did not fire
- FocalLength: 23,0 mm
- FocalLengthIn35mmFormat: 34 mm
- ISO: 100
- MeteringMode: Multi-segment
- Saturation: Normal
- SceneCaptureType: Standard
- SensingMethod: One-chip color area
- Sharpness: Normal
- ShutterSpeedValue: 1/2000
- SubjectDistanceRange: Distant
- WhiteBalance: Manual
- ICC-header
- ICC-meas
- ICC-view
- IFD0
- Make: PENTAX Corporation
- Model: PENTAX K10D
- ModifyDate: 2012:08:04 11:06:08
- IFD1
- IPTC
- DateCreated: 2012:08:02
- System
- XMP-aux
- XMP-crs
- AlreadyApplied: True
- BlueHue: 0
- BlueSaturation: 0
- Brightness: +50
- CameraProfile: ACR 4.4
- ChromaticAberrationB: 0
- ChromaticAberrationR: 0
- Clarity: 0
- ColorNoiseReduction: 25
- ColorNoiseReductionDetail: 50
- Contrast: +9
- ConvertToGrayscale: True
- CropAngle: 0.297934
- CropBottom: 1
- CropConstrainToWarp: 0
- CropHeight: 2482
- CropLeft: 0.042349
- CropRight: 0.996666
- CropTop: 0.034911
- CropUnit: pixels
- CropWidth: 3708
- Defringe: 0
- Exposure: +1.45
- FillLight: 20
- GrainAmount: 0
- GrayMixerAqua: -10
- GrayMixerBlue: +20
- GrayMixerGreen: -17
- GrayMixerMagenta: +32
- GrayMixerOrange: +12
- GrayMixerPurple: +25
- GrayMixerRed: +39
- GrayMixerYellow: -9
- GreenHue: 0
- GreenSaturation: 0
- HasCrop: True
- HasSettings: True
- HighlightRecovery: 0
- LensManualDistortionAmount: 0
- LensProfileChromaticAberrationScale: 100
- LensProfileDistortionScale: 100
- LensProfileEnable: 1
- LensProfileFilename: Canon (SIGMA 17-50mm F2.8 EX DC OS HSM) - RAW.lcp
- LensProfileSetup: Custom
- LensProfileVignettingScale: 100
- LuminanceSmoothing: 0
- ParametricDarks: -17
- ParametricHighlightSplit: 75
- ParametricHighlights: 0
- ParametricLights: +28
- ParametricMidtoneSplit: 50
- ParametricShadowSplit: 25
- ParametricShadows: 0
- PerspectiveHorizontal: 0
- PerspectiveRotate: 0.0
- PerspectiveScale: 100
- PerspectiveVertical: 0
- PostCropVignetteAmount: -35
- PostCropVignetteFeather: 50
- PostCropVignetteHighlightContrast: 0
- PostCropVignetteMidpoint: 50
- PostCropVignetteRoundness: 0
- PostCropVignetteStyle: 1
- ProcessVersion: 5.7
- RedHue: 0
- RedSaturation: 0
- ShadowTint: 0
- Shadows: 2
- SharpenDetail: 45
- SharpenEdgeMasking: 0
- SharpenRadius: +0.8
- Sharpness: 57
- SplitToningBalance: 0
- SplitToningHighlightHue: 51
- SplitToningHighlightSaturation: 22
- SplitToningShadowHue: 37
- SplitToningShadowSaturation: 32
- Temperature: 5550
- Tint: -4
- ToneCurve: 0, 0, 32, 22, 64, 56, 128, 128, 192, 196, 255, 255
- ToneCurveName: Medium Contrast
- Version: 6.4
- VignetteAmount: 0
- WhiteBalance: Custom
- XMP-xmp
- ModifyDate: 2012:08:04 11:06:08+10:00
- Rating: 4
- Просмотров: 230
- Рейтинг: голосов еще нет
- Отзывов: 0