Уважаемые друзья и участники проекта iXBT.photo! К сожалению, 1 марта 2026 года проект iXBT.photo прекратит свою работу и будет закрыт. Мы высоко ценим ваше участие и тот вклад, который вы внесли в развитие нашего сообщества. Пожалуйста, не забудьте сохранить ваши фотографии до этой даты.
С уважением, команда iXBT.com
| CRW_2825.jpg |
CRW_2825.jpg
- Раздел: Другое, разное
- Дата съёмки: 04.08.2012 18:08
- Дата загрузки фото: 14.08.2012 17:46
- Оригинальная фотография: 3073 x 2305 (6,0 Мб)
- Технические характеристики:
- Фотоаппарат: Canon PowerShot SX220 HS
- Выдержка: 1/350
- Гиперфокальное расстояние: inf m
- Диафрагма: 5,0
- Светочувствительность: 100
- Фокусное расстояние: 26,0 mm (35 mm equivalent: 130,0 mm)
- Экспокоррекция: -2/3
- Полный EXIF
- Adobe
- ColorTransform: YCbCr
- Composite
- Aperture: 5,0
- CircleOfConfusion: 0,005 mm
- FOV: 15,0 deg
- FocalLength35efl: 26,0 mm (35 mm equivalent: 130,0 mm)
- HyperfocalDistance: inf m
- ScaleFactor35efl: 5,7
- ShutterSpeed: 1/350
- ExifIFD
- ApertureValue: 5,0
- ColorSpace: sRGB
- DateTimeOriginal: 2012:08:04 18:08:06
- ExifImageHeight: 2305
- ExifImageWidth: 3073
- ExposureCompensation: -2/3
- ExposureProgram: Shutter speed priority AE
- ExposureTime: 1/350
- FNumber: 5,0
- Flash: Off, Did not fire
- FocalLength: 26,7 mm
- FocalLengthIn35mmFormat: 149 mm
- ISO: 100
- LensInfo: 5-70mm f/3.1-5.9
- LensModel: 5.0-70.0 mm f/3.1-5.9
- MaxApertureValue: 5,1
- MeteringMode: Multi-segment
- ShutterSpeedValue: 1/350
- ICC-header
- ICC-meas
- ICC-view
- IFD0
- Make: Canon
- Model: Canon PowerShot SX220 HS
- ModifyDate: 2012:08:09 17:46:19
- Orientation: Horizontal (normal)
- IFD1
- IPTC
- DateCreated: 2012:08:04
- System
- XMP-aux
- Lens: 5.0-70.0 mm f/3.1-5.9
- XMP-crs
- AlreadyApplied: True
- AutoLateralCA: 0
- Blacks2012: -4
- BlueHue: 0
- BlueSaturation: 0
- Brightness: +39
- CameraProfile: Embedded
- Clarity: +38
- Clarity2012: +19
- ColorNoiseReduction: 39
- ColorNoiseReductionDetail: 50
- Contrast: +25
- Contrast2012: 0
- ConvertToGrayscale: False
- Defringe: 0
- Exposure: +0.85
- Exposure2012: +1.73
- FillLight: 47
- GrainAmount: 0
- GreenHue: 0
- GreenSaturation: 0
- HasCrop: False
- HasSettings: True
- HighlightRecovery: 46
- Highlights2012: -25
- HueAdjustmentAqua: 0
- HueAdjustmentBlue: -5
- HueAdjustmentGreen: 0
- HueAdjustmentMagenta: 0
- HueAdjustmentOrange: 0
- HueAdjustmentPurple: 0
- HueAdjustmentRed: 0
- HueAdjustmentYellow: 0
- LensManualDistortionAmount: 0
- LensProfileChromaticAberrationScale: 100
- LensProfileDistortionScale: 100
- LensProfileEnable: 1
- LensProfileFilename: LensPrifleSX220.lcp
- LensProfileName: Canon PowerShot SX220 HS
- LensProfileSetup: Custom
- LensProfileVignettingScale: 100
- LuminanceAdjustmentAqua: 0
- LuminanceAdjustmentBlue: -1
- LuminanceAdjustmentGreen: -8
- LuminanceAdjustmentMagenta: 0
- LuminanceAdjustmentOrange: 0
- LuminanceAdjustmentPurple: 0
- LuminanceAdjustmentRed: 0
- LuminanceAdjustmentYellow: -1
- LuminanceNoiseReductionContrast: 33
- LuminanceNoiseReductionDetail: 50
- LuminanceSmoothing: 41
- ParametricDarks: -6
- ParametricHighlightSplit: 75
- ParametricHighlights: +5
- ParametricLights: +5
- ParametricMidtoneSplit: 50
- ParametricShadowSplit: 25
- ParametricShadows: -4
- PerspectiveHorizontal: 0
- PerspectiveRotate: 0.0
- PerspectiveScale: 100
- PerspectiveVertical: 0
- PostCropVignetteAmount: 0
- ProcessVersion: 5.7
- RawFileName: CRW_2825.DNG
- RedHue: 0
- RedSaturation: 0
- Saturation: 0
- SaturationAdjustmentAqua: 0
- SaturationAdjustmentBlue: 0
- SaturationAdjustmentGreen: +1
- SaturationAdjustmentMagenta: 0
- SaturationAdjustmentOrange: 0
- SaturationAdjustmentPurple: -3
- SaturationAdjustmentRed: 0
- SaturationAdjustmentYellow: -4
- ShadowTint: 0
- Shadows: 22
- Shadows2012: +25
- SharpenDetail: 1
- SharpenEdgeMasking: 90
- SharpenRadius: +2.6
- Sharpness: 116
- SplitToningBalance: 0
- SplitToningHighlightHue: 0
- SplitToningHighlightSaturation: 0
- SplitToningShadowHue: 0
- SplitToningShadowSaturation: 0
- Temperature: 7850
- Tint: 0
- ToneCurve: 0, 0, 32, 22, 64, 56, 128, 128, 192, 196, 255, 255
- ToneCurveBlue: 0, 0, 255, 255
- ToneCurveGreen: 0, 0, 255, 255
- ToneCurveName: Medium Contrast
- ToneCurveName2012: Linear
- ToneCurvePV2012: 0, 0, 255, 255
- ToneCurvePV2012Blue: 0, 0, 255, 255
- ToneCurvePV2012Green: 0, 0, 255, 255
- ToneCurvePV2012Red: 0, 0, 255, 255
- ToneCurveRed: 0, 0, 255, 255
- Version: 6.7
- Vibrance: +23
- VignetteAmount: 0
- WhiteBalance: Custom
- Whites2012: -26
- XMP-dc
- XMP-xmp
- CreateDate: 2012:08:04 18:08:06
- CreatorTool: CHDK ver. 1.0.0-1846
- ModifyDate: 2012:08:09 17:46:19+04:00
- Rating: 0
- XMP-xmpMM
- Просмотров: 369
- Рейтинг: голосов еще нет
- Отзывов: 0
Получить код для блога
| Вставка фотографии в текущем разрешении |
Вставка миниатюры |
HTML (для вставки в блог):
BBCode (для вставки в форум):
Ссылка на фото:
Ссылка на миниатюру:
- Послать ссылку другу
| Комментарии к фотографии |