- Раздел: Другое, разное
- Дата съёмки: 10.08.2012 19:10
- Дата загрузки фото: 14.08.2012 22:58
- Оригинальная фотография: 1920 x 1440 (1,2 Мб)
- Технические характеристики:
- Фотоаппарат: Pentax 645D
- Выдержка: 1/500
- Гиперфокальное расстояние: inf m
- Диафрагма: 4,0
- Светочувствительность: 200
- Фокусное расстояние: 45,0 mm
- Полный EXIF
- Adobe
- ColorTransform: YCbCr
- Composite
- Aperture: 4,0
- CircleOfConfusion: 0,039 mm
- FocalLength35efl: 45,0 mm
- HyperfocalDistance: inf m
- ScaleFactor35efl: 0,8
- ShutterSpeed: 1/500
- ExifIFD
- ApertureValue: 4,0
- ColorSpace: sRGB
- Contrast: Normal
- CreateDate: 2012:08:10 19:10:15
- CustomRendered: Normal
- DateTimeOriginal: 2012:08:10 19:10:15
- ExifImageHeight: 1440
- ExifImageWidth: 1920
- ExposureCompensation: 0
- ExposureMode: Auto
- ExposureProgram: Aperture-priority AE
- ExposureTime: 1/500
- FNumber: 4,0
- Flash: Off, Did not fire
- FocalLength: 45,0 mm
- FocalLengthIn35mmFormat: 35 mm
- ISO: 200
- LensInfo: 45mm f/2.8
- LensModel: smc PENTAX-FA645 45mm F2.8
- MeteringMode: Multi-segment
- Saturation: Normal
- SceneCaptureType: Standard
- SensingMethod: One-chip color area
- Sharpness: Normal
- ShutterSpeedValue: 1/500
- SubjectDistanceRange: Distant
- WhiteBalance: Auto
- ICC-header
- ICC-meas
- ICC-view
- IFD0
- Artist: Dmitry Borodin
- Copyright: (c) managger
- Make: PENTAX
- Model: PENTAX 645D
- ModifyDate: 2012:08:14 00:50:59
- Orientation: Horizontal (normal)
- IFD1
- IPTC
- By-line: Dmitry Borodin
- CopyrightNotice: (c) managger
- DateCreated: 2012:08:10
- System
- XMP-aux
- ApproximateFocusDistance: 4
- Lens: smc PENTAX-FA645 45mm F2.8
- LensID: 11 2
- XMP-crs
- AlreadyApplied: True
- AutoLateralCA: 1
- Blacks2012: +25
- BlueHue: 0
- BlueSaturation: 0
- Brightness: +45
- Clarity: 0
- Clarity2012: 0
- ColorNoiseReduction: 0
- Contrast: +30
- Contrast2012: +7
- ConvertToGrayscale: False
- Defringe: 0
- Exposure: 0.00
- Exposure2012: +0.45
- FillLight: 45
- GrainAmount: 0
- GreenHue: 0
- GreenSaturation: 0
- HasCrop: False
- HasSettings: True
- HighlightRecovery: 0
- Highlights2012: -15
- HueAdjustmentAqua: 0
- HueAdjustmentBlue: 0
- HueAdjustmentGreen: 0
- HueAdjustmentMagenta: 0
- HueAdjustmentOrange: 0
- HueAdjustmentPurple: 0
- HueAdjustmentRed: 0
- HueAdjustmentYellow: 0
- LensManualDistortionAmount: 0
- LensProfileChromaticAberrationScale: 100
- LensProfileDistortionScale: 100
- LensProfileEnable: 1
- LensProfileFilename: PENTAX (smc PENTAX-FA645 45mmF2.8) - RAW.lcp
- LensProfileSetup: Auto
- LensProfileVignettingScale: 100
- LuminanceAdjustmentAqua: 0
- LuminanceAdjustmentBlue: 0
- LuminanceAdjustmentGreen: 0
- LuminanceAdjustmentMagenta: 0
- LuminanceAdjustmentOrange: 0
- LuminanceAdjustmentPurple: 0
- LuminanceAdjustmentRed: 0
- LuminanceAdjustmentYellow: 0
- LuminanceSmoothing: 0
- ParametricDarks: 0
- ParametricHighlightSplit: 75
- ParametricHighlights: 0
- ParametricLights: 0
- ParametricMidtoneSplit: 50
- ParametricShadowSplit: 25
- ParametricShadows: 0
- PerspectiveHorizontal: 0
- PerspectiveRotate: 0.0
- PerspectiveScale: 100
- PerspectiveVertical: 0
- PostCropVignetteAmount: 0
- ProcessVersion: 5.7
- RawFileName: 645D2666.DNG
- RedHue: 0
- RedSaturation: 0
- Saturation: +15
- SaturationAdjustmentAqua: 0
- SaturationAdjustmentBlue: 0
- SaturationAdjustmentGreen: 0
- SaturationAdjustmentMagenta: 0
- SaturationAdjustmentOrange: 0
- SaturationAdjustmentPurple: 0
- SaturationAdjustmentRed: 0
- SaturationAdjustmentYellow: 0
- ShadowTint: 0
- Shadows: 0
- Shadows2012: +15
- SharpenDetail: 0
- SharpenEdgeMasking: 0
- SharpenRadius: +0.5
- Sharpness: 0
- SplitToningBalance: 0
- SplitToningHighlightHue: 0
- SplitToningHighlightSaturation: 0
- SplitToningShadowHue: 0
- SplitToningShadowSaturation: 0
- Temperature: 4950
- Tint: +19
- ToneCurve: 0, 0, 32, 22, 64, 56, 128, 128, 192, 196, 255, 255
- ToneCurveBlue: 0, 0, 255, 255
- ToneCurveGreen: 0, 0, 255, 255
- ToneCurveName: Medium Contrast
- ToneCurveName2012: Linear
- ToneCurvePV2012: 0, 0, 255, 255
- ToneCurvePV2012Blue: 0, 0, 255, 255
- ToneCurvePV2012Green: 0, 0, 255, 255
- ToneCurvePV2012Red: 0, 0, 255, 255
- ToneCurveRed: 0, 0, 255, 255
- Version: 6.7
- Vibrance: 0
- VignetteAmount: 0
- WhiteBalance: As Shot
- Whites2012: -15
- XMP-dc
- Creator: Dmitry Borodin
- Format: image/jpeg
- Rights: (c) managger
- XMP-xmp
- CreatorTool: 645D Ver 1.13
- ModifyDate: 2012:08:14 00:50:59+04:00
- Rating: 0
- XMP-xmpMM
- Просмотров: 198
- Рейтинг: голосов еще нет
- Отзывов: отключены