- Раздел: Другое, разное
- Дата съёмки: 16.08.2012 19:22
- Дата загрузки фото: 17.08.2012 18:06
- Оригинальная фотография: 598 x 900 (362 Кб)
- Технические характеристики:
- Фотоаппарат: Pentax K-7
- Выдержка: 1/800
- Светочувствительность: 100
- Фокусное расстояние: 50,0 mm (35 mm equivalent: 50,0 mm)
- Экспокоррекция: -0,3
- Полный EXIF
- Adobe
- ColorTransform: YCbCr
- Composite
- CircleOfConfusion: 0,020 mm
- FOV: 39,0 deg
- FocalLength35efl: 50,0 mm (35 mm equivalent: 50,0 mm)
- ScaleFactor35efl: 1,5
- ShutterSpeed: 1/800
- ExifIFD
- CFAPattern: [Blue,Green][Green,Red]
- ColorSpace: Uncalibrated
- Contrast: Normal
- CreateDate: 2012:08:16 19:22:09
- CustomRendered: Normal
- DateTimeOriginal: 2012:08:16 19:22:09
- ExifImageHeight: 900
- ExifImageWidth: 598
- ExposureCompensation: -0,3
- ExposureMode: Manual
- ExposureProgram: Aperture-priority AE
- ExposureTime: 1/800
- Flash: Off, Did not fire
- FocalLength: 50,0 mm
- FocalLengthIn35mmFormat: 75 mm
- ISO: 100
- MeteringMode: Center-weighted average
- Saturation: Normal
- SceneCaptureType: Standard
- SensingMethod: One-chip color area
- Sharpness: Soft
- ShutterSpeedValue: 1/800
- SubjectDistanceRange: Unknown
- WhiteBalance: Auto
- ICC-header
- IFD0
- Artist: PADLOV_SABAKA
- Copyright: PADLOV
- Make: PENTAX
- Model: PENTAX K-7
- ModifyDate: 2012:08:17 09:34:50
- Orientation: Horizontal (normal)
- IFD1
- IPTC
- By-line: PADLOV_SABAKA
- CopyrightNotice: PADLOV
- DateCreated: 2012:08:16
- System
- XMP-aux
- XMP-crs
- AlreadyApplied: True
- BlueHue: 0
- BlueSaturation: 0
- Brightness: +18
- ChromaticAberrationB: 0
- ChromaticAberrationR: 0
- Clarity: -7
- ColorNoiseReduction: 25
- ColorNoiseReductionDetail: 50
- Contrast: +48
- ConvertToGrayscale: False
- Defringe: 0
- Exposure: +2.10
- FillLight: 0
- GrainAmount: 0
- GreenHue: 0
- GreenSaturation: 0
- HasCrop: False
- HasSettings: True
- HighlightRecovery: 0
- HueAdjustmentAqua: 0
- HueAdjustmentBlue: 0
- HueAdjustmentGreen: 0
- HueAdjustmentMagenta: 0
- HueAdjustmentOrange: 0
- HueAdjustmentPurple: 0
- HueAdjustmentRed: 0
- HueAdjustmentYellow: 0
- LuminanceAdjustmentAqua: 0
- LuminanceAdjustmentBlue: 0
- LuminanceAdjustmentGreen: 0
- LuminanceAdjustmentMagenta: 0
- LuminanceAdjustmentOrange: 0
- LuminanceAdjustmentPurple: 0
- LuminanceAdjustmentRed: 0
- LuminanceAdjustmentYellow: 0
- LuminanceSmoothing: 0
- ParametricDarks: +25
- ParametricHighlightSplit: 75
- ParametricHighlights: -25
- ParametricLights: +13
- ParametricMidtoneSplit: 50
- ParametricShadowSplit: 25
- ParametricShadows: -43
- PostCropVignetteAmount: 0
- ProcessVersion: 5.7
- RawFileName: _P_K9341.PEF
- RedHue: 0
- RedSaturation: 0
- Saturation: 0
- SaturationAdjustmentAqua: 0
- SaturationAdjustmentBlue: 0
- SaturationAdjustmentGreen: 0
- SaturationAdjustmentMagenta: 0
- SaturationAdjustmentOrange: 0
- SaturationAdjustmentPurple: 0
- SaturationAdjustmentRed: 0
- SaturationAdjustmentYellow: 0
- ShadowTint: 0
- Shadows: 3
- SharpenDetail: 25
- SharpenEdgeMasking: 0
- SharpenRadius: +1.0
- Sharpness: 79
- SplitToningBalance: 0
- SplitToningHighlightHue: 0
- SplitToningHighlightSaturation: 0
- SplitToningShadowHue: 0
- SplitToningShadowSaturation: 0
- Temperature: 4750
- Tint: +26
- ToneCurve: 0, 0, 32, 22, 64, 56, 128, 128, 192, 196, 255, 255
- ToneCurveName: Medium Contrast
- Version: 6.0
- Vibrance: 0
- VignetteAmount: 0
- WhiteBalance: As Shot
- XMP-dc
- Creator: PADLOV_SABAKA
- Format: image/jpeg
- Rights: PADLOV
- XMP-xmp
- CreateDate: 2012:08:16 19:22:09+04:00
- CreatorTool: K-7 Ver 1.11
- ModifyDate: 2012:08:17 09:34:50+04:00
- Rating: 0
- XMP-xmpMM
- Просмотров: 245
- Рейтинг: голосов еще нет
- Отзывов: 0