- Раздел: Пейзаж
- Дата съёмки: 23.08.2012 18:08
- Дата загрузки фото: 23.08.2012 21:32
- Оригинальная фотография: 4320 x 3240 (8,0 Мб)
- Технические характеристики:
- Фотоаппарат: Canon PowerShot A2200
- Выдержка: 1/150
- Гиперфокальное расстояние: inf m
- Диафрагма: 3,3
- Светочувствительность: 80
- Фокусное расстояние: 7,0 mm (35 mm equivalent: 35,0 mm)
- Экспокоррекция: -2/3
- Полный EXIF
- Adobe
- ColorTransform: YCbCr
- Composite
- Aperture: 3,3
- CircleOfConfusion: 0,005 mm
- FOV: 54,0 deg
- FocalLength35efl: 7,0 mm (35 mm equivalent: 35,0 mm)
- HyperfocalDistance: inf m
- ScaleFactor35efl: 5,9
- ShutterSpeed: 1/150
- ExifIFD
- ApertureValue: 3,3
- ColorSpace: sRGB
- DateTimeOriginal: 2012:08:23 18:08:32
- ExifImageHeight: 3240
- ExifImageWidth: 4320
- ExposureCompensation: -2/3
- ExposureProgram: Program AE
- ExposureTime: 1/150
- FNumber: 3,3
- Flash: Off, Did not fire
- FocalLength: 7,4 mm
- FocalLengthIn35mmFormat: 41 mm
- ISO: 80
- MaxApertureValue: 3,4
- MeteringMode: Multi-segment
- ShutterSpeedValue: 1/150
- ICC-header
- ICC-meas
- ICC-view
- IFD0
- Make: Canon
- Model: Canon PowerShot A2200
- ModifyDate: 2012:08:23 21:28:46
- Orientation: Horizontal (normal)
- IFD1
- IPTC
- DateCreated: 2012:08:23
- System
- XMP-aux
- Lens: 5.0-20.0 mm f/2.7-5.6
- LensInfo: 5-20mm f/2.7-5.6
- XMP-crs
- AlreadyApplied: True
- BlueHue: 0
- BlueSaturation: 0
- Brightness: +45
- CameraProfile: Embedded
- ChromaticAberrationB: 0
- ChromaticAberrationR: 0
- Clarity: +25
- ColorNoiseReduction: 25
- ColorNoiseReductionDetail: 50
- Contrast: +25
- ConvertToGrayscale: False
- Defringe: 0
- Exposure: 0.00
- FillLight: 0
- GrainAmount: 0
- GreenHue: 0
- GreenSaturation: 0
- HasCrop: False
- HasSettings: True
- HighlightRecovery: 0
- HueAdjustmentAqua: 0
- HueAdjustmentBlue: 0
- HueAdjustmentGreen: 0
- HueAdjustmentMagenta: 0
- HueAdjustmentOrange: 0
- HueAdjustmentPurple: 0
- HueAdjustmentRed: 0
- HueAdjustmentYellow: 0
- LuminanceAdjustmentAqua: 0
- LuminanceAdjustmentBlue: 0
- LuminanceAdjustmentGreen: 0
- LuminanceAdjustmentMagenta: 0
- LuminanceAdjustmentOrange: 0
- LuminanceAdjustmentPurple: 0
- LuminanceAdjustmentRed: 0
- LuminanceAdjustmentYellow: 0
- LuminanceSmoothing: 0
- ParametricDarks: 0
- ParametricHighlightSplit: 75
- ParametricHighlights: 0
- ParametricLights: -15
- ParametricMidtoneSplit: 50
- ParametricShadowSplit: 25
- ParametricShadows: 0
- PostCropVignetteAmount: 0
- ProcessVersion: 5.7
- RawFileName: CRW_0099.DNG
- RedHue: 0
- RedSaturation: 0
- Saturation: 0
- SaturationAdjustmentAqua: 0
- SaturationAdjustmentBlue: 0
- SaturationAdjustmentGreen: 0
- SaturationAdjustmentMagenta: 0
- SaturationAdjustmentOrange: 0
- SaturationAdjustmentPurple: 0
- SaturationAdjustmentRed: 0
- SaturationAdjustmentYellow: 0
- ShadowTint: 0
- Shadows: 5
- SharpenDetail: 25
- SharpenEdgeMasking: 7
- SharpenRadius: +1.0
- Sharpness: 41
- SplitToningBalance: 0
- SplitToningHighlightHue: 0
- SplitToningHighlightSaturation: 0
- SplitToningShadowHue: 0
- SplitToningShadowSaturation: 0
- Temperature: 5500
- Tint: +10
- ToneCurve: 0, 0, 32, 22, 64, 56, 128, 128, 192, 196, 255, 255
- ToneCurveName: Medium Contrast
- Version: 6.0
- Vibrance: 0
- VignetteAmount: 0
- WhiteBalance: Daylight
- XMP-dc
- XMP-xmp
- CreateDate: 2012:08:23 18:08:32+04:00
- CreatorTool: CHDK ver. 1.0.0
- ModifyDate: 2012:08:23 21:28:46+04:00
- Rating: 0
- XMP-xmpMM
- Просмотров: 1588
- Рейтинг: голосов еще нет
- Отзывов: 0