- Раздел: Путешествия
- Дата съёмки: 23.06.2012 13:08
- Дата загрузки фото: 02.09.2012 00:47
- Оригинальная фотография: 1200 x 795 (261 Кб)
- Технические характеристики:
- Фотоаппарат: Nikon D5100
- Выдержка: 1/1000
- Гиперфокальное расстояние: inf m
- Диафрагма: 9,0
- Светочувствительность: 400
- Фокусное расстояние: 68,0 mm (35 mm equivalent: 68,0 mm)
- Полный EXIF
- Adobe
- ColorTransform: YCbCr
- Composite
- Aperture: 9,0
- CircleOfConfusion: 0,020 mm
- FOV: 29,0 deg
- FocalLength35efl: 68,0 mm (35 mm equivalent: 68,0 mm)
- GPSAltitude: 1 m Above Sea Level
- GPSDateTime: 2012:06:23 17:03:48Z
- GPSLatitude: 61 deg 6' 27,00" N
- GPSLongitude: 20 deg 8' 7,00" E
- GPSPosition: 61 deg 6' 27,00" N, 20 deg 8' 7,00" E
- HyperfocalDistance: inf m
- ScaleFactor35efl: 1,5
- ShutterSpeed: 1/1000
- ExifIFD
- ApertureValue: 9,0
- CFAPattern: [Red,Green][Green,Blue]
- Contrast: Normal
- CreateDate: 2012:06:23 13:08:24
- CustomRendered: Normal
- DateTimeOriginal: 2012:06:23 13:08:24
- DigitalZoomRatio: 1
- ExposureCompensation: 0
- ExposureMode: Auto
- ExposureProgram: Aperture-priority AE
- ExposureTime: 1/1000
- FNumber: 9,0
- Flash: No Flash
- FocalLength: 68,0 mm
- FocalLengthIn35mmFormat: 102 mm
- GainControl: Low gain up
- ISO: 400
- LensInfo: 18-200mm f/3.5-6.3
- LensModel: 18.0-200.0 mm f/3.5-6.3
- LightSource: Unknown
- MaxApertureValue: 5,3
- MeteringMode: Multi-segment
- Saturation: Normal
- SceneCaptureType: Standard
- SceneType: Directly photographed
- SensingMethod: One-chip color area
- SensitivityType: Recommended Exposure Index
- SerialNumber: 3042358
- Sharpness: Normal
- ShutterSpeedValue: 1/1000
- SubjectDistanceRange: Unknown
- WhiteBalance: Auto
- GPS
- GPSAltitude: 1 m
- GPSAltitudeRef: Above Sea Level
- GPSDateStamp: 2012:06:23
- GPSLatitude: 61 deg 6' 27,00"
- GPSLatitudeRef: North
- GPSLongitude: 20 deg 8' 7,00"
- GPSLongitudeRef: East
- GPSSatellites: 12
- GPSTimeStamp: 17:03:48
- GPSVersionID: 2.3.0.0
- ICC-header
- ICC-meas
- ICC-view
- IFD0
- ImageDescription: I was very surprised to find a green glass on this lamp. I couldn't find any explanation, neither I noticed any other colored lamps.
- Make: NIKON CORPORATION
- Model: NIKON D5100
- ModifyDate: 2012:09:01 16:42:20
- IFD1
- IPTC
- Caption-Abstract: I was very surprised to find a green glass on this lamp. I couldn't find any explanation, neither I noticed any other colored lamps.
- City: Stockholm
- Country-PrimaryLocationName: Sweden
- DateCreated: 2012:06:23
- ObjectName: I was very surprised to find a green glass on this lamp. I cou
- Province-State: Stockholm County
- Sub-location: Norrmalm
- System
- XMP-aux
- ApproximateFocusDistance: 11,2
- ImageNumber: 3579
- Lens: 18.0-200.0 mm f/3.5-6.3
- LensID: 252
- XMP-crs
- AlreadyApplied: True
- AutoLateralCA: 0
- Blacks2012: 0
- BlueHue: 0
- BlueSaturation: 0
- Clarity2012: +48
- ColorNoiseReduction: 25
- ColorNoiseReductionDetail: 50
- Contrast2012: 0
- ConvertToGrayscale: False
- DefringeGreenAmount: 0
- DefringeGreenHueHi: 60
- DefringeGreenHueLo: 40
- DefringePurpleAmount: 0
- DefringePurpleHueHi: 70
- DefringePurpleHueLo: 30
- Exposure2012: +0.83
- GrainAmount: 0
- GreenHue: 0
- GreenSaturation: 0
- HasCrop: False
- HasSettings: True
- Highlights2012: 0
- HueAdjustmentAqua: 0
- HueAdjustmentBlue: 0
- HueAdjustmentGreen: 0
- HueAdjustmentMagenta: 0
- HueAdjustmentOrange: 0
- HueAdjustmentPurple: 0
- HueAdjustmentRed: 0
- HueAdjustmentYellow: 0
- LensManualDistortionAmount: 0
- LensProfileEnable: 0
- LensProfileSetup: LensDefaults
- LuminanceAdjustmentAqua: 0
- LuminanceAdjustmentBlue: 0
- LuminanceAdjustmentGreen: 0
- LuminanceAdjustmentMagenta: 0
- LuminanceAdjustmentOrange: 0
- LuminanceAdjustmentPurple: 0
- LuminanceAdjustmentRed: 0
- LuminanceAdjustmentYellow: 0
- LuminanceSmoothing: 0
- ParametricDarks: 0
- ParametricHighlightSplit: 75
- ParametricHighlights: 0
- ParametricLights: 0
- ParametricMidtoneSplit: 50
- ParametricShadowSplit: 25
- ParametricShadows: 0
- PerspectiveHorizontal: 0
- PerspectiveRotate: 0.0
- PerspectiveScale: 100
- PerspectiveVertical: 0
- PostCropVignetteAmount: 0
- ProcessVersion: 6.7
- RedHue: 0
- RedSaturation: 0
- Saturation: +21
- SaturationAdjustmentAqua: 0
- SaturationAdjustmentBlue: 0
- SaturationAdjustmentGreen: 0
- SaturationAdjustmentMagenta: 0
- SaturationAdjustmentOrange: 0
- SaturationAdjustmentPurple: 0
- SaturationAdjustmentRed: 0
- SaturationAdjustmentYellow: 0
- ShadowTint: 0
- Shadows2012: 0
- SharpenDetail: 25
- SharpenEdgeMasking: 0
- SharpenRadius: +1.0
- Sharpness: 25
- SplitToningBalance: 0
- SplitToningHighlightHue: 0
- SplitToningHighlightSaturation: 0
- SplitToningShadowHue: 0
- SplitToningShadowSaturation: 0
- Temperature: 5250
- Tint: +12
- ToneCurveName2012: Linear
- ToneCurvePV2012: 0, 0, 255, 255
- ToneCurvePV2012Blue: 0, 0, 255, 255
- ToneCurvePV2012Green: 0, 0, 255, 255
- ToneCurvePV2012Red: 0, 0, 255, 255
- Version: 7.1
- Vibrance: +31
- VignetteAmount: 0
- WhiteBalance: As Shot
- Whites2012: 0
- XMP-dc
- Description: I was very surprised to find a green glass on this lamp. I couldn't find any explanation, neither I noticed any other colored lamps.
- Format: image/jpeg
- Title: I was very surprised to find a green glass on this lamp. I couldn't find any explanation, neither I noticed any other colored lamps.
- XMP-iptcCore
- XMP-xmp
- CreateDate: 2012:06:23 13:08:24.60
- ModifyDate: 2012:09:01 16:42:20-04:00
- Rating: 2
- XMP-xmpMM
- Просмотров: 306
- Рейтинг: голосов еще нет
- Отзывов: 0