Уважаемые друзья и участники проекта iXBT.photo! К сожалению, 1 марта 2026 года проект iXBT.photo прекратит свою работу и будет закрыт. Мы высоко ценим ваше участие и тот вклад, который вы внесли в развитие нашего сообщества. Пожалуйста, не забудьте сохранить ваши фотографии до этой даты.
С уважением, команда iXBT.com
| f6-7 |
f6-7
Не помню точно f, перепроверять лень. Где-то так.
- Раздел: Тесты фототехники
- Дата съёмки: 07.09.2012 12:23
- Дата загрузки фото: 12.09.2012 14:07
- Оригинальная фотография: 3072 x 2048 (2,6 Мб)
- Технические характеристики:
- Фотоаппарат: Canon EOS 10D
- Выдержка: 1/500
- Диафрагма: 4,0
- Светочувствительность: 100
- Фокусное расстояние: 50,0 mm
- Экспокоррекция: -2/3
- Полный EXIF
- Adobe
- ColorTransform: YCbCr
- Composite
- Aperture: 4,0
- FocalLength35efl: 50,0 mm
- ShutterSpeed: 1/500
- ExifIFD
- ApertureValue: 4,0
- CreateDate: 2012:09:07 12:23:54
- DateTimeOriginal: 2012:09:07 12:23:54
- ExposureCompensation: -2/3
- ExposureProgram: Aperture-priority AE
- ExposureTime: 1/500
- FNumber: 4,0
- Flash: No Flash
- FocalLength: 50,0 mm
- ISO: 100
- MaxApertureValue: 4,0
- MeteringMode: Center-weighted average
- ShutterSpeedValue: 1/500
- ICC-header
- ICC-meas
- ICC-view
- IFD0
- Make: Canon
- Model: Canon EOS 10D
- ModifyDate: 2012:09:12 15:48:51
- System
- XMP-aux
- Firmware: 2.0.1
- Lens: 50.0 mm
- LensInfo: 50mm f/?
- SerialNumber: 0420200956
- XMP-crs
- AlreadyApplied: True
- BlueHue: 0
- BlueSaturation: 0
- Brightness: 0
- CameraProfile: ACR 4.4
- ChromaticAberrationB: 0
- ChromaticAberrationR: 0
- Clarity: 0
- ColorNoiseReduction: 25
- Contrast: 0
- ConvertToGrayscale: False
- Defringe: 0
- Exposure: +0.55
- FillLight: 0
- GreenHue: 0
- GreenSaturation: 0
- HasCrop: False
- HasSettings: True
- HighlightRecovery: 35
- HueAdjustmentAqua: 0
- HueAdjustmentBlue: 0
- HueAdjustmentGreen: 0
- HueAdjustmentMagenta: 0
- HueAdjustmentOrange: 0
- HueAdjustmentPurple: 0
- HueAdjustmentRed: 0
- HueAdjustmentYellow: 0
- LuminanceAdjustmentAqua: 0
- LuminanceAdjustmentBlue: 0
- LuminanceAdjustmentGreen: 0
- LuminanceAdjustmentMagenta: 0
- LuminanceAdjustmentOrange: 0
- LuminanceAdjustmentPurple: 0
- LuminanceAdjustmentRed: 0
- LuminanceAdjustmentYellow: 0
- LuminanceSmoothing: 0
- ParametricDarks: 0
- ParametricHighlightSplit: 75
- ParametricHighlights: 0
- ParametricLights: 0
- ParametricMidtoneSplit: 50
- ParametricShadowSplit: 25
- ParametricShadows: 0
- PostCropVignetteAmount: 0
- RawFileName: CRW_3785.CRW
- RedHue: 0
- RedSaturation: 0
- Saturation: 0
- SaturationAdjustmentAqua: 0
- SaturationAdjustmentBlue: 0
- SaturationAdjustmentGreen: 0
- SaturationAdjustmentMagenta: 0
- SaturationAdjustmentOrange: 0
- SaturationAdjustmentPurple: 0
- SaturationAdjustmentRed: 0
- SaturationAdjustmentYellow: 0
- ShadowTint: 0
- Shadows: 6
- SharpenDetail: 25
- SharpenEdgeMasking: 0
- SharpenRadius: +1.0
- Sharpness: 0
- SplitToningBalance: 0
- SplitToningHighlightHue: 0
- SplitToningHighlightSaturation: 0
- SplitToningShadowHue: 0
- SplitToningShadowSaturation: 0
- Temperature: 5450
- Tint: +19
- ToneCurve: 0, 0, 27, 15, 174, 191, 202, 228, 255, 255
- ToneCurveName: Custom
- Version: 4.6
- Vibrance: 0
- VignetteAmount: 0
- WhiteBalance: Custom
- XMP-exif
- DateTimeDigitized: 2012:09:07 12:23:54+05:00
- DateTimeOriginal: 2012:09:07 12:23:54+05:00
- ExifImageHeight: 2048
- ExifImageWidth: 3072
- FlashFired: False
- XMP-tiff
- ImageHeight: 2048
- ImageWidth: 3072
- XMP-xmp
- CreateDate: 2012:09:07 12:23:54+05:00
- ModifyDate: 2012:09:12 15:48:51+05:00
- Просмотров: 314
- Рейтинг: голосов еще нет
- Отзывов: 0
Получить код для блога
| Вставка фотографии в текущем разрешении |
Вставка миниатюры |
HTML (для вставки в блог):
BBCode (для вставки в форум):
Ссылка на фото:
Ссылка на миниатюру:
- Послать ссылку другу
| Комментарии к фотографии |