Про рыбку. |
Про рыбку.
- Раздел: Портрет
- Дата съёмки: 01.06.2008 18:42
- Дата загрузки фото: 16.09.2012 10:13
- Оригинальная фотография: 2236 x 2048 (1,4 Мб)
- Технические характеристики:
- Фотоаппарат: Canon EOS 10D
- Выдержка: 1/180
- Диафрагма: 2,5
- Светочувствительность: 100
- Фокусное расстояние: 85,0 mm
- Полный EXIF
- Adobe
- ColorTransform: YCbCr
- Composite
- Aperture: 2,5
- FocalLength35efl: 85,0 mm
- ShutterSpeed: 1/180
- ExifIFD
- ApertureValue: 2,5
- CreateDate: 2008:06:01 18:42:46
- DateTimeOriginal: 2008:06:01 18:42:46
- ExposureCompensation: 0
- ExposureProgram: Program AE
- ExposureTime: 1/180
- FNumber: 2,5
- Flash: No Flash
- FocalLength: 85,0 mm
- ISO: 100
- MaxApertureValue: 1,8
- MeteringMode: Multi-segment
- ShutterSpeedValue: 1/180
- ICC-header
- ICC-meas
- ICC-view
- IFD0
- Make: Canon
- Model: Canon EOS 10D
- ModifyDate: 2012:09:16 00:56:04
- IFD1
- System
- XMP-aux
- Firmware: 2.0.1
- Lens: 85.0 mm
- LensInfo: 85mm f/?
- SerialNumber: 1720511286
- XMP-crs
- AlreadyApplied: True
- BlueHue: 0
- BlueSaturation: 0
- Brightness: +50
- CameraProfile: Camera Neutral
- ChromaticAberrationB: 0
- ChromaticAberrationR: 0
- Clarity: +22
- ColorNoiseReduction: 25
- ColorNoiseReductionDetail: 50
- Contrast: +100
- ConvertToGrayscale: True
- CropAngle: 0
- CropBottom: 1
- CropConstrainToWarp: 0
- CropHeight: 2048
- CropLeft: 0
- CropRight: 0.727772
- CropTop: 0
- CropUnit: pixels
- CropWidth: 2236
- Defringe: 0
- Exposure: +0.44
- FillLight: 0
- GrainAmount: 0
- GrayMixerAqua: -19
- GrayMixerBlue: +27
- GrayMixerGreen: -26
- GrayMixerMagenta: +5
- GrayMixerOrange: -18
- GrayMixerPurple: +16
- GrayMixerRed: -8
- GrayMixerYellow: -22
- GreenHue: 0
- GreenSaturation: 0
- HasCrop: True
- HasSettings: True
- HighlightRecovery: 60
- LensManualDistortionAmount: 0
- LensProfileEnable: 0
- LensProfileSetup: LensDefaults
- LuminanceSmoothing: 0
- ParametricDarks: +26
- ParametricHighlightSplit: 75
- ParametricHighlights: 0
- ParametricLights: +25
- ParametricMidtoneSplit: 50
- ParametricShadowSplit: 25
- ParametricShadows: +73
- PerspectiveHorizontal: 0
- PerspectiveRotate: 0.0
- PerspectiveScale: 100
- PerspectiveVertical: 0
- PostCropVignetteAmount: -45
- PostCropVignetteFeather: 80
- PostCropVignetteHighlightContrast: 0
- PostCropVignetteMidpoint: 28
- PostCropVignetteRoundness: +72
- PostCropVignetteStyle: 1
- ProcessVersion: 5.7
- RedHue: 0
- RedSaturation: 0
- ShadowTint: 0
- Shadows: 47
- SharpenDetail: 25
- SharpenEdgeMasking: 0
- SharpenRadius: +1.0
- Sharpness: 25
- SplitToningBalance: 0
- SplitToningHighlightHue: 0
- SplitToningHighlightSaturation: 0
- SplitToningShadowHue: 0
- SplitToningShadowSaturation: 0
- Temperature: 11457
- Tint: +7
- ToneCurve: 0, 0, 255, 255
- ToneCurveName: Linear
- Version: 6.1
- VignetteAmount: 0
- WhiteBalance: Custom
- XMP-exif
- DateTimeDigitized: 2008:06:01 18:42:46+04:00
- DateTimeOriginal: 2008:06:01 18:42:46+04:00
- ExifImageHeight: 2048
- ExifImageWidth: 2236
- FlashFired: False
- XMP-tiff
- ImageHeight: 2048
- ImageWidth: 2236
- XMP-xmp
- CreateDate: 2008:06:01 18:42:46+04:00
- ModifyDate: 2012:09:16 00:56:04+04:00
- Просмотров: 949
- Рейтинг: голосов еще нет
- Отзывов: 0
Получить код для блога
Вставка фотографии в текущем разрешении |
Вставка миниатюры |
HTML (для вставки в блог):
BBCode (для вставки в форум):
Ссылка на фото:
Ссылка на миниатюру:
- Послать ссылку другу
Комментарии к фотографии |