- Раздел: Другое, разное
- Дата съёмки: 26.09.2012 12:56
- Дата загрузки фото: 26.09.2012 13:17
- Оригинальная фотография: 2008 x 1528 (427 Кб)
- Технические характеристики:
- Фотоаппарат: FujiFilm FinePix JZ500
- Выдержка: 1/40
- Гиперфокальное расстояние: inf m
- Диафрагма: 3,3
- Светочувствительность: 200
- Фокусное расстояние: 5,0 mm (35 mm equivalent: 55,0 mm)
- Экспокоррекция: +1
- Полный EXIF
- Adobe
- ColorTransform: YCbCr
- Composite
- Aperture: 3,3
- CircleOfConfusion: 0,003 mm
- FOV: 36,0 deg
- FocalLength35efl: 5,0 mm (35 mm equivalent: 55,0 mm)
- HyperfocalDistance: inf m
- ScaleFactor35efl: 11,1
- ShutterSpeed: 1/40
- ExifIFD
- ApertureValue: 3,3
- BrightnessValue: 3,56
- ColorSpace: sRGB
- CreateDate: 2012:09:26 12:56:30
- CustomRendered: Normal
- DateTimeOriginal: 2012:09:26 12:56:30
- ExifImageHeight: 1528
- ExifImageWidth: 2008
- ExposureCompensation: +1
- ExposureMode: Auto
- ExposureProgram: Program AE
- ExposureTime: 1/40
- FNumber: 3,3
- Flash: Off, Did not fire
- FocalLength: 5,0 mm
- ISO: 200
- LightSource: Unknown
- MaxApertureValue: 3,2
- MeteringMode: Multi-segment
- SceneCaptureType: Standard
- SceneType: Directly photographed
- SensingMethod: One-chip color area
- Sharpness: Normal
- ShutterSpeedValue: 1/40
- SubjectDistanceRange: Unknown
- WhiteBalance: Auto
- ICC-header
- ICC-meas
- ICC-view
- IFD0
- Make: FUJIFILM
- Model: FinePix JZ500
- ModifyDate: 2012:09:26 13:07:05
- Orientation: Horizontal (normal)
- IFD1
- IPTC
- DateCreated: 2012:09:26
- System
- XMP-crs
- AlreadyApplied: True
- BlueHue: 0
- BlueSaturation: 0
- Brightness: 0
- CameraProfile: Embedded
- ChromaticAberrationB: 0
- ChromaticAberrationR: 0
- Clarity: +27
- ColorNoiseReduction: 0
- Contrast: 0
- ConvertToGrayscale: False
- Defringe: 0
- Exposure: -0.15
- FillLight: 0
- GrainAmount: 0
- GreenHue: 0
- GreenSaturation: 0
- HasCrop: False
- HasSettings: True
- HighlightRecovery: 0
- HueAdjustmentAqua: 0
- HueAdjustmentBlue: 0
- HueAdjustmentGreen: 0
- HueAdjustmentMagenta: 0
- HueAdjustmentOrange: 0
- HueAdjustmentPurple: 0
- HueAdjustmentRed: 0
- HueAdjustmentYellow: 0
- IncrementalTemperature: 0
- IncrementalTint: 0
- LuminanceAdjustmentAqua: 0
- LuminanceAdjustmentBlue: 0
- LuminanceAdjustmentGreen: 0
- LuminanceAdjustmentMagenta: 0
- LuminanceAdjustmentOrange: 0
- LuminanceAdjustmentPurple: 0
- LuminanceAdjustmentRed: 0
- LuminanceAdjustmentYellow: 0
- LuminanceSmoothing: 0
- ParametricDarks: 0
- ParametricHighlightSplit: 75
- ParametricHighlights: 0
- ParametricLights: 0
- ParametricMidtoneSplit: 50
- ParametricShadowSplit: 25
- ParametricShadows: 0
- PostCropVignetteAmount: 0
- ProcessVersion: 5.7
- RawFileName: DSCF4702.JPG
- RedHue: 0
- RedSaturation: 0
- Saturation: 0
- SaturationAdjustmentAqua: 0
- SaturationAdjustmentBlue: 0
- SaturationAdjustmentGreen: 0
- SaturationAdjustmentMagenta: 0
- SaturationAdjustmentOrange: 0
- SaturationAdjustmentPurple: 0
- SaturationAdjustmentRed: 0
- SaturationAdjustmentYellow: 0
- ShadowTint: 0
- Shadows: 0
- SharpenDetail: 25
- SharpenEdgeMasking: 0
- SharpenRadius: +1.0
- Sharpness: 0
- SplitToningBalance: 0
- SplitToningHighlightHue: 0
- SplitToningHighlightSaturation: 0
- SplitToningShadowHue: 0
- SplitToningShadowSaturation: 0
- ToneCurve: 0, 0, 255, 255
- ToneCurveName: Linear
- Version: 6.0
- Vibrance: +30
- VignetteAmount: 0
- WhiteBalance: As Shot
- XMP-dc
- XMP-xmp
- CreateDate: 2012:09:26 12:56:30+04:00
- ModifyDate: 2012:09:26 13:07:05+04:00
- Rating: 0
- XMP-xmpMM
- Просмотров: 713
- Рейтинг: голосов еще нет
- Отзывов: 0