» Участники » deskv » Валерика » LeraOsen-1.jpg |
LeraOsen-1.jpg |
LeraOsen-1.jpg
- Раздел: Семья, личное
- Дата съёмки: 27.09.2012 11:15
- Дата загрузки фото: 29.09.2012 20:34
- Оригинальная фотография: 3072 x 2048 (2,1 Мб)
- Технические характеристики:
- Фотоаппарат: Canon EOS 10D
- Выдержка: 1/500
- Диафрагма: 2,0
- Светочувствительность: 100
- Фокусное расстояние: 50,0 mm
- Полный EXIF
- Adobe
- ColorTransform: YCbCr
- Composite
- Aperture: 2,0
- FocalLength35efl: 50,0 mm
- ShutterSpeed: 1/500
- ExifIFD
- ApertureValue: 2,0
- ColorSpace: Uncalibrated
- CreateDate: 2012:09:27 11:15:14
- DateTimeOriginal: 2012:09:27 11:15:14
- ExifImageHeight: 2048
- ExifImageWidth: 3072
- ExposureCompensation: 0
- ExposureProgram: Aperture-priority AE
- ExposureTime: 1/500
- FNumber: 2,0
- Flash: No Flash
- FocalLength: 50,0 mm
- ISO: 100
- MaxApertureValue: 2,0
- MeteringMode: Center-weighted average
- ShutterSpeedValue: 1/500
- IFD0
- Make: Canon
- Model: Canon EOS 10D
- ModifyDate: 2012:09:29 19:23:35
- Orientation: Horizontal (normal)
- IFD1
- IPTC
- DateCreated: 2012:09:27
- System
- XMP-aux
- Firmware: 1.0.0
- Lens: 50.0 mm
- LensInfo: 50mm f/?
- SerialNumber: 0320202606
- XMP-crs
- AlreadyApplied: True
- BlueHue: 0
- BlueSaturation: 0
- Brightness: +59
- ChromaticAberrationB: 0
- ChromaticAberrationR: 0
- Clarity: +1
- ColorNoiseReduction: 25
- ColorNoiseReductionDetail: 50
- Contrast: +84
- ConvertToGrayscale: False
- Defringe: 0
- Exposure: +0.45
- FillLight: 11
- GrainAmount: 0
- GreenHue: 0
- GreenSaturation: 0
- HasCrop: False
- HasSettings: True
- HighlightRecovery: 0
- HueAdjustmentAqua: 0
- HueAdjustmentBlue: 0
- HueAdjustmentGreen: 0
- HueAdjustmentMagenta: 0
- HueAdjustmentOrange: 0
- HueAdjustmentPurple: 0
- HueAdjustmentRed: 0
- HueAdjustmentYellow: 0
- LuminanceAdjustmentAqua: 0
- LuminanceAdjustmentBlue: 0
- LuminanceAdjustmentGreen: 0
- LuminanceAdjustmentMagenta: 0
- LuminanceAdjustmentOrange: 0
- LuminanceAdjustmentPurple: 0
- LuminanceAdjustmentRed: 0
- LuminanceAdjustmentYellow: 0
- LuminanceSmoothing: 0
- ParametricDarks: 0
- ParametricHighlightSplit: 75
- ParametricHighlights: 0
- ParametricLights: 0
- ParametricMidtoneSplit: 50
- ParametricShadowSplit: 25
- ParametricShadows: 0
- PostCropVignetteAmount: 0
- ProcessVersion: 5.7
- RawFileName: CRW_0159.CRW
- RedHue: 0
- RedSaturation: 0
- Saturation: 0
- SaturationAdjustmentAqua: 0
- SaturationAdjustmentBlue: 0
- SaturationAdjustmentGreen: 0
- SaturationAdjustmentMagenta: 0
- SaturationAdjustmentOrange: 0
- SaturationAdjustmentPurple: 0
- SaturationAdjustmentRed: 0
- SaturationAdjustmentYellow: 0
- ShadowTint: 0
- Shadows: 5
- SharpenDetail: 25
- SharpenEdgeMasking: 0
- SharpenRadius: +1.0
- Sharpness: 25
- SplitToningBalance: 0
- SplitToningHighlightHue: 0
- SplitToningHighlightSaturation: 0
- SplitToningShadowHue: 0
- SplitToningShadowSaturation: 0
- Temperature: 4750
- Tint: +17
- ToneCurve: 6, 1, 155, 163, 209, 219, 239, 255
- ToneCurveName: Custom
- Version: 6.0
- Vibrance: +44
- VignetteAmount: 0
- WhiteBalance: As Shot
- XMP-dc
- XMP-xmp
- CreateDate: 2012:09:27 11:15:14+03:00
- ModifyDate: 2012:09:29 19:23:35+03:00
- Rating: 0
- XMP-xmpMM
- Просмотров: 402
- Рейтинг: голосов еще нет
- Отзывов: 0
Получить код для блога
Вставка фотографии в текущем разрешении |
Вставка миниатюры |
HTML (для вставки в блог):
BBCode (для вставки в форум):
Ссылка на фото:
Ссылка на миниатюру:
- Послать ссылку другу
Комментарии к фотографии |