Уважаемые друзья и участники проекта iXBT.photo! К сожалению, 1 марта 2026 года проект iXBT.photo прекратит свою работу и будет закрыт. Мы высоко ценим ваше участие и тот вклад, который вы внесли в развитие нашего сообщества. Пожалуйста, не забудьте сохранить ваши фотографии до этой даты.
С уважением, команда iXBT.com
| Цветок 3 |
Цветок 3
- Раздел: Макро
- Дата съёмки: 16.09.2012 11:40
- Дата загрузки фото: 03.10.2012 17:30
- Оригинальная фотография: 2110 x 2813 (1,7 Мб)
- Технические характеристики:
- Фотоаппарат: Canon PowerShot SX230 HS
- Выдержка: 1/60
- Гиперфокальное расстояние: inf m
- Диафрагма: 3,1
- Светочувствительность: 100
- Фокусное расстояние: 5,0 mm (35 mm equivalent: 25,0 mm)
- Полный EXIF
- Adobe
- ColorTransform: YCbCr
- Composite
- Aperture: 3,1
- CircleOfConfusion: 0,005 mm
- FOV: 71,0 deg
- FocalLength35efl: 5,0 mm (35 mm equivalent: 25,0 mm)
- GPSAltitude: 0 m Above Sea Level
- HyperfocalDistance: inf m
- ScaleFactor35efl: 5,6
- ShutterSpeed: 1/60
- ExifIFD
- ApertureValue: 3,1
- DateTimeOriginal: 2012:09:16 11:40:47
- ExposureCompensation: 0
- ExposureProgram: Manual
- ExposureTime: 1/60
- FNumber: 3,1
- Flash: Off, Did not fire
- FocalLength: 5,0 mm
- FocalLengthIn35mmFormat: 28 mm
- ISO: 100
- LensInfo: 5-70mm f/3.1-5.9
- LensModel: 5.0-70.0 mm f/3.1-5.9
- MaxApertureValue: 3,2
- MeteringMode: Multi-segment
- ShutterSpeedValue: 1/60
- GPS
- GPSAltitude: 0 m
- GPSAltitudeRef: Above Sea Level
- GPSMapDatum: S-84
- GPSStatus: Measurement Void
- GPSTimeStamp: 00:00:00
- GPSVersionID: 2.3.0.0
- ICC-header
- IFD0
- Make: Canon
- Model: Canon PowerShot SX230 HS
- ModifyDate: 2012:10:03 16:29:02
- IFD1
- IPTC
- DateCreated: 2012:09:16
- System
- XMP-aux
- Lens: 5.0-70.0 mm f/3.1-5.9
- XMP-crs
- AlreadyApplied: True
- BlueHue: 0
- BlueSaturation: 0
- Brightness: +49
- CameraProfile: Embedded
- ChromaticAberrationB: 0
- ChromaticAberrationR: 0
- Clarity: +15
- ColorNoiseReduction: 25
- ColorNoiseReductionDetail: 50
- Contrast: +20
- ConvertToGrayscale: False
- CropAngle: 0
- CropBottom: 0.785082
- CropConstrainToWarp: 1
- CropHeight: 4
- CropLeft: 0.051267
- CropRight: 0.754607
- CropTop: 0.081742
- CropUnit: Unknown (3)
- CropWidth: 3
- Defringe: 0
- Exposure: -0.85
- FillLight: 0
- GrainAmount: 0
- GreenHue: 0
- GreenSaturation: 0
- HasCrop: True
- HasSettings: True
- HighlightRecovery: 0
- HueAdjustmentAqua: 0
- HueAdjustmentBlue: 0
- HueAdjustmentGreen: 0
- HueAdjustmentMagenta: 0
- HueAdjustmentOrange: 0
- HueAdjustmentPurple: 0
- HueAdjustmentRed: 0
- HueAdjustmentYellow: 0
- LensManualDistortionAmount: +52
- LensProfileEnable: 0
- LensProfileSetup: LensDefaults
- LuminanceAdjustmentAqua: 0
- LuminanceAdjustmentBlue: 0
- LuminanceAdjustmentGreen: 0
- LuminanceAdjustmentMagenta: 0
- LuminanceAdjustmentOrange: 0
- LuminanceAdjustmentPurple: 0
- LuminanceAdjustmentRed: 0
- LuminanceAdjustmentYellow: 0
- LuminanceSmoothing: 0
- ParametricDarks: -4
- ParametricHighlightSplit: 75
- ParametricHighlights: +33
- ParametricLights: +26
- ParametricMidtoneSplit: 50
- ParametricShadowSplit: 25
- ParametricShadows: -18
- PerspectiveHorizontal: 0
- PerspectiveRotate: +0.9
- PerspectiveScale: 100
- PerspectiveVertical: 0
- PostCropVignetteAmount: 0
- ProcessVersion: 5.7
- RawFileName: CRW_0320.DNG
- RedHue: 0
- RedSaturation: 0
- Saturation: +8
- SaturationAdjustmentAqua: 0
- SaturationAdjustmentBlue: 0
- SaturationAdjustmentGreen: 0
- SaturationAdjustmentMagenta: 0
- SaturationAdjustmentOrange: 0
- SaturationAdjustmentPurple: 0
- SaturationAdjustmentRed: 0
- SaturationAdjustmentYellow: 0
- ShadowTint: 0
- Shadows: 7
- SharpenDetail: 30
- SharpenEdgeMasking: 0
- SharpenRadius: +0.7
- Sharpness: 49
- SplitToningBalance: 0
- SplitToningHighlightHue: 0
- SplitToningHighlightSaturation: 0
- SplitToningShadowHue: 0
- SplitToningShadowSaturation: 0
- Temperature: 5500
- Tint: +10
- ToneCurve: 0, 0, 32, 22, 64, 56, 128, 128, 192, 196, 255, 255
- ToneCurveName: Medium Contrast
- Version: 6.6
- Vibrance: -4
- VignetteAmount: +38
- VignetteMidpoint: 50
- WhiteBalance: Daylight
- XMP-dc
- XMP-xmp
- ModifyDate: 2012:10:03 16:29:02+03:00
- XMP-xmpMM
- Просмотров: 303
- Рейтинг: голосов еще нет
- Отзывов: 0
Получить код для блога
| Вставка фотографии в текущем разрешении |
Вставка миниатюры |
HTML (для вставки в блог):
BBCode (для вставки в форум):
Ссылка на фото:
Ссылка на миниатюру:
- Послать ссылку другу
| Комментарии к фотографии |