- Раздел: Путешествия
- Дата съёмки: 19.05.2007 20:30
- Дата загрузки фото: 23.05.2007 14:30
- Оригинальная фотография: 800 x 607 (152 Кб)
- Технические характеристики:
- Фотоаппарат: Nikon D80
- Выдержка: 1/30
- Гиперфокальное расстояние: 1,77 m
- Диафрагма: 8,0
- Светочувствительность: 100
- Фокусное расстояние: 17,0mm (35mm эквивалент: 25,0mm)
- Экспокоррекция: -1/3
- Полный EXIF
- Composite
- Aperture: 8,0
- CircleOfConfusion: 0,020 mm
- EV: 10,9
- FocalLength35efl: 17,0mm (35mm equivalent: 25,0mm)
- HyperfocalDistance: 1,77 m
- ScaleFactor35efl: 1,5
- ShutterSpeed: 1/30
- ExifIFD
- ApertureValue: 8,0
- CFAPattern: [Green,Blue][Red,Green]
- Contrast: Low
- CreateDate: 2007:05:19 20:30:30
- CustomRendered: Normal
- DateTimeOriginal: 2007:05:19 20:30:30
- ExifImageLength: 607
- ExifImageWidth: 800
- ExposureCompensation: -1/3
- ExposureMode: Auto
- ExposureProgram: Aperture-priority AE
- ExposureTime: 1/30
- FNumber: 8,0
- Flash: No Flash
- FocalLength: 17,0mm
- FocalLengthIn35mmFormat: 25
- GainControl: None
- ISO: 100
- LightSource: Unknown (0)
- MaxApertureValue: 2,8
- MeteringMode: Multi-segment
- Saturation: High
- SceneCaptureType: Standard
- SceneType: Directly photographed
- SensingMethod: One-chip color area
- Sharpness: Hard
- ShutterSpeedValue: 1/30
- UserComment: Alexander Avdeev
- WhiteBalance: Auto
- ICC-header
- ICC-meas
- ICC-view
- IFD0
- Make: NIKON CORPORATION
- Model: NIKON D80
- ModifyDate: 2007:05:23 12:34:37
- Orientation: Horizontal (normal)
- Software: ACD Systems Digital Imaging
- IPTC
- By-line: Alexander Avdeev
- XMP-aux
- ImageNumber: 1935
- Lens: 17.0-50.0 mm f/2.8
- LensInfo: 17
- XMP-crs
- AlreadyApplied: True
- BlueHue: 0
- BlueSaturation: 0
- Brightness: +50
- CameraProfile: ACR 3.6
- ChromaticAberrationB: 0
- ChromaticAberrationR: 0
- ColorNoiseReduction: 25
- Contrast: +25
- ConvertToGrayscale: False
- CropAngle: 0
- CropBottom: 1
- CropHeight: 2592
- CropLeft: 0.284483
- CropRight: 0.793103
- CropTop: 0
- CropUnit: 0
- CropWidth: 1969
- Exposure: 0.00
- FillLight: 15
- GreenHue: 0
- GreenSaturation: 0
- HasCrop: True
- HasSettings: True
- HighlightRecovery: 100
- HueAdjustmentAqua: 0
- HueAdjustmentBlue: 0
- HueAdjustmentGreen: 0
- HueAdjustmentMagenta: 0
- HueAdjustmentOrange: 0
- HueAdjustmentPurple: 0
- HueAdjustmentRed: 0
- HueAdjustmentYellow: 0
- LuminanceAdjustmentAqua: 0
- LuminanceAdjustmentBlue: 0
- LuminanceAdjustmentGreen: 0
- LuminanceAdjustmentMagenta: 0
- LuminanceAdjustmentOrange: 0
- LuminanceAdjustmentPurple: 0
- LuminanceAdjustmentRed: 0
- LuminanceAdjustmentYellow: 0
- LuminanceSmoothing: 0
- ParametricDarks: 0
- ParametricHighlightSplit: 75
- ParametricHighlights: 0
- ParametricLights: 0
- ParametricMidtoneSplit: 50
- ParametricShadowSplit: 25
- ParametricShadows: 0
- RedHue: 0
- RedSaturation: 0
- Saturation: +4
- SaturationAdjustmentAqua: 0
- SaturationAdjustmentBlue: 0
- SaturationAdjustmentGreen: 0
- SaturationAdjustmentMagenta: 0
- SaturationAdjustmentOrange: 0
- SaturationAdjustmentPurple: 0
- SaturationAdjustmentRed: 0
- SaturationAdjustmentYellow: 0
- ShadowTint: 0
- Shadows: 5
- Sharpness: 25
- SplitToningBalance: 0
- SplitToningHighlightHue: 0
- SplitToningHighlightSaturation: 0
- SplitToningShadowHue: 0
- SplitToningShadowSaturation: 0
- Temperature: 6200
- Tint: 0
- ToneCurve: 0, 0, 32, 22, 64, 56, 128, 128, 192, 196, 255, 255
- ToneCurveName: Medium Contrast
- Version: 1.0
- Vibrance: 0
- VignetteAmount: 0
- XMP-dc
- Creator: Alexander Avdeev
- XMP-exif
- DateTimeDigitized: 2007:05:19 20:30:30.30+04:00
- DateTimeOriginal: 2007:05:19 20:30:30.30+04:00
- DigitalZoomRatio: 1
- FlashFired: False
- FlashFunction: False
- FlashMode: Unknown
- FlashRedEyeMode: False
- FlashReturn: No return detection
- SubjectDistanceRange: Unknown
- XMP-tiff
- ImageHeight: 1969
- ImageWidth: 2592
- XMP-xmp
- ModifyDate: 2007:05:22 17:08:10+04:00
- Просмотров: 280
- Рейтинг: голосов еще нет
- Отзывов: 0