- Раздел: Другое, разное
- Дата съёмки: 06.12.2012 15:09
- Дата загрузки фото: 24.12.2012 14:53
- Оригинальная фотография: 5047 x 3365 (15,7 Мб)
- Технические характеристики:
- Фотоаппарат: Canon EOS 550D
- Выдержка: 1/800
- Гиперфокальное расстояние: inf m
- Диафрагма: 4,5
- Светочувствительность: 100
- Фокусное расстояние: 23,0 mm (35 mm equivalent: 23,0 mm)
- Полный EXIF
- Adobe
- ColorTransform: YCbCr
- Composite
- Aperture: 4,5
- CircleOfConfusion: 0,019 mm
- FOV: 76,0 deg
- FocalLength35efl: 23,0 mm (35 mm equivalent: 23,0 mm)
- HyperfocalDistance: inf m
- ScaleFactor35efl: 1,6
- ShutterSpeed: 1/800
- ExifIFD
- ApertureValue: 4,5
- CreateDate: 2012:12:06 15:09:05
- CustomRendered: Normal
- DateTimeOriginal: 2012:12:06 15:09:05
- ExposureCompensation: 0
- ExposureMode: Manual
- ExposureProgram: Manual
- ExposureTime: 1/800
- FNumber: 4,5
- Flash: Off, Did not fire
- FocalLength: 23,0 mm
- ISO: 100
- LensInfo: 17-50mm f/?
- LensModel: 17-50mm
- MaxApertureValue: 2,8
- MeteringMode: Multi-segment
- SceneCaptureType: Standard
- SerialNumber: 632203505
- ShutterSpeedValue: 1/800
- WhiteBalance: Auto
- ICC-header
- ICC-meas
- ICC-view
- IFD0
- Artist: Puchkov Andrey
- Copyright: Puchkov Andrey
- Make: Canon
- Model: Canon EOS 550D
- ModifyDate: 2012:12:23 23:34:19
- IFD1
- IPTC
- By-line: Puchkov Andrey
- CopyrightNotice: Puchkov Andrey
- DateCreated: 2012:12:06
- System
- XMP-aux
- Firmware: 1.0.9
- FlashCompensation: 0
- ImageNumber: 0
- Lens: 17-50mm
- LensID: 161
- XMP-crs
- AlreadyApplied: True
- BlueHue: 0
- BlueSaturation: 0
- Brightness: +50
- ChromaticAberrationB: 0
- ChromaticAberrationR: 0
- Clarity: +22
- ColorNoiseReduction: 25
- ColorNoiseReductionDetail: 50
- Contrast: +38
- ConvertToGrayscale: False
- CropAngle: 1.04748
- CropBottom: 1
- CropConstrainToWarp: 0
- CropHeight: 3365
- CropLeft: 0.019279
- CropRight: 0.980721
- CropTop: 0
- CropUnit: pixels
- CropWidth: 5047
- Defringe: 0
- Exposure: -0.14
- FillLight: 6
- GrainAmount: 0
- GreenHue: 0
- GreenSaturation: 0
- HasCrop: True
- HasSettings: True
- HighlightRecovery: 11
- HueAdjustmentAqua: -11
- HueAdjustmentBlue: -9
- HueAdjustmentGreen: -9
- HueAdjustmentMagenta: 0
- HueAdjustmentOrange: 0
- HueAdjustmentPurple: 0
- HueAdjustmentRed: 0
- HueAdjustmentYellow: 0
- LensManualDistortionAmount: 0
- LensProfileChromaticAberrationScale: 100
- LensProfileDistortionScale: 100
- LensProfileEnable: 1
- LensProfileFilename: Canon (SIGMA 17-50mm F2.8 EX DC OS HSM) - RAW.lcp
- LensProfileSetup: Custom
- LensProfileVignettingScale: 100
- LuminanceAdjustmentAqua: -20
- LuminanceAdjustmentBlue: -7
- LuminanceAdjustmentGreen: +27
- LuminanceAdjustmentMagenta: 0
- LuminanceAdjustmentOrange: 0
- LuminanceAdjustmentPurple: 0
- LuminanceAdjustmentRed: 0
- LuminanceAdjustmentYellow: 0
- LuminanceSmoothing: 0
- ParametricDarks: -5
- ParametricHighlightSplit: 75
- ParametricHighlights: +12
- ParametricLights: +16
- ParametricMidtoneSplit: 50
- ParametricShadowSplit: 25
- ParametricShadows: -3
- PerspectiveHorizontal: 0
- PerspectiveRotate: 0.0
- PerspectiveScale: 100
- PerspectiveVertical: 0
- PostCropVignetteAmount: 0
- ProcessVersion: 5.7
- RedHue: 0
- RedSaturation: 0
- Saturation: +13
- SaturationAdjustmentAqua: +57
- SaturationAdjustmentBlue: +30
- SaturationAdjustmentGreen: +32
- SaturationAdjustmentMagenta: 0
- SaturationAdjustmentOrange: 0
- SaturationAdjustmentPurple: 0
- SaturationAdjustmentRed: 0
- SaturationAdjustmentYellow: 0
- ShadowTint: 0
- Shadows: 7
- SharpenDetail: 45
- SharpenEdgeMasking: 0
- SharpenRadius: +1.3
- Sharpness: 62
- SplitToningBalance: 0
- SplitToningHighlightHue: 0
- SplitToningHighlightSaturation: 0
- SplitToningShadowHue: 0
- SplitToningShadowSaturation: 0
- Temperature: 5950
- Tint: +21
- ToneCurve: 0, 0, 32, 22, 64, 56, 128, 128, 192, 196, 255, 255
- ToneCurveName: Medium Contrast
- Version: 6.4
- Vibrance: +15
- VignetteAmount: 0
- WhiteBalance: As Shot
- XMP-dc
- Creator: Puchkov Andrey
- Rights: Puchkov Andrey
- XMP-xmp
- CreateDate: 2012:12:06 15:09:05.28
- ModifyDate: 2012:12:23 23:34:19+04:00
- Просмотров: 252
- Рейтинг: голосов еще нет
- Отзывов: 0