- Раздел: Город
- Дата съёмки: 12.01.2013 13:42
- Дата загрузки фото: 14.01.2013 23:30
- Оригинальная фотография: 1200 x 1800 (1,8 Мб)
- Технические характеристики:
- Фотоаппарат: Canon EOS 7D
- Выдержка: 1/320
- Гиперфокальное расстояние: inf m
- Диафрагма: 7,1
- Светочувствительность: 3200
- Фокусное расстояние: 50,0 mm (35 mm equivalent: 200,0 mm)
- Полный EXIF
- Adobe
- ColorTransform: YCbCr
- Composite
- Aperture: 7,1
- CircleOfConfusion: 0,007 mm
- FOV: 10,0 deg
- FocalLength35efl: 50,0 mm (35 mm equivalent: 200,0 mm)
- HyperfocalDistance: inf m
- ScaleFactor35efl: 4,6
- ShutterSpeed: 1/320
- ExifIFD
- ApertureValue: 7,1
- ColorSpace: Uncalibrated
- CreateDate: 2013:01:12 13:42:40
- CustomRendered: Normal
- DateTimeOriginal: 2013:01:12 13:42:40
- ExifImageHeight: 1800
- ExifImageWidth: 1200
- ExposureCompensation: 0
- ExposureMode: Manual
- ExposureProgram: Manual
- ExposureTime: 1/320
- FNumber: 7,1
- Flash: Off, Did not fire
- FocalLength: 50,0 mm
- ISO: 3200
- LensInfo: 24-70mm f/?
- LensModel: EF24-70mm f/2.8L II USM
- MaxApertureValue: 2,8
- MeteringMode: Partial
- RecommendedExposureIndex: 3200
- SceneCaptureType: Standard
- SensitivityType: Recommended Exposure Index
- SerialNumber: 1580807926
- ShutterSpeedValue: 1/320
- WhiteBalance: Auto
- ICC-header
- IFD0
- Artist: Pavel "Myth" YB
- Make: Canon
- Model: Canon EOS 7D
- ModifyDate: 2013:01:12 19:44:24
- Orientation: Horizontal (normal)
- IFD1
- IPTC
- By-line: Pavel "Myth" YB
- DateCreated: 2013:01:12
- System
- XMP-aux
- ApproximateFocusDistance: 6,37
- Firmware: 2.0.3
- FlashCompensation: 0
- ImageNumber: 0
- Lens: EF24-70mm f/2.8L II USM
- LensID: 495
- XMP-crs
- AlreadyApplied: True
- AutoLateralCA: 0
- Blacks2012: 0
- BlueHue: 0
- BlueSaturation: 0
- Clarity2012: 0
- ColorNoiseReduction: 25
- ColorNoiseReductionDetail: 50
- Contrast2012: +9
- ConvertToGrayscale: False
- DefringeGreenAmount: 0
- DefringeGreenHueHi: 60
- DefringeGreenHueLo: 40
- DefringePurpleAmount: 0
- DefringePurpleHueHi: 70
- DefringePurpleHueLo: 30
- Exposure2012: -0.70
- GrainAmount: 0
- GreenHue: 0
- GreenSaturation: 0
- HasCrop: False
- HasSettings: True
- Highlights2012: -70
- HueAdjustmentAqua: 0
- HueAdjustmentBlue: 0
- HueAdjustmentGreen: 0
- HueAdjustmentMagenta: 0
- HueAdjustmentOrange: 0
- HueAdjustmentPurple: 0
- HueAdjustmentRed: 0
- HueAdjustmentYellow: 0
- LensManualDistortionAmount: 0
- LensProfileEnable: 0
- LensProfileSetup: LensDefaults
- LuminanceAdjustmentAqua: 0
- LuminanceAdjustmentBlue: 0
- LuminanceAdjustmentGreen: 0
- LuminanceAdjustmentMagenta: 0
- LuminanceAdjustmentOrange: 0
- LuminanceAdjustmentPurple: 0
- LuminanceAdjustmentRed: 0
- LuminanceAdjustmentYellow: 0
- LuminanceSmoothing: 0
- ParametricDarks: 0
- ParametricHighlightSplit: 75
- ParametricHighlights: 0
- ParametricLights: 0
- ParametricMidtoneSplit: 50
- ParametricShadowSplit: 25
- ParametricShadows: 0
- PerspectiveHorizontal: 0
- PerspectiveRotate: 0.0
- PerspectiveScale: 100
- PerspectiveVertical: 0
- PostCropVignetteAmount: 0
- ProcessVersion: 6.7
- RawFileName: IMG_6324.CR2
- RedHue: 0
- RedSaturation: 0
- Saturation: 0
- SaturationAdjustmentAqua: 0
- SaturationAdjustmentBlue: 0
- SaturationAdjustmentGreen: 0
- SaturationAdjustmentMagenta: 0
- SaturationAdjustmentOrange: 0
- SaturationAdjustmentPurple: 0
- SaturationAdjustmentRed: 0
- SaturationAdjustmentYellow: 0
- ShadowTint: 0
- Shadows2012: +45
- SharpenDetail: 25
- SharpenEdgeMasking: 0
- SharpenRadius: +1.0
- Sharpness: 25
- SplitToningBalance: 0
- SplitToningHighlightHue: 0
- SplitToningHighlightSaturation: 0
- SplitToningShadowHue: 0
- SplitToningShadowSaturation: 0
- Temperature: 5400
- Tint: 0
- ToneCurveName2012: Linear
- ToneCurvePV2012: 0, 0, 255, 255
- ToneCurvePV2012Blue: 0, 0, 255, 255
- ToneCurvePV2012Green: 0, 0, 255, 255
- ToneCurvePV2012Red: 0, 0, 255, 255
- Version: 7.2
- Vibrance: 0
- VignetteAmount: 0
- Whites2012: +30
- XMP-dc
- Creator: Pavel "Myth" YB
- Format: image/jpeg
- XMP-xmp
- ModifyDate: 2013:01:12 19:44:24+04:00
- Rating: 0
- XMP-xmpMM
- Просмотров: 541
- Рейтинг: голосов еще нет
- Отзывов: 0