Уважаемые друзья и участники проекта iXBT.photo! К сожалению, 1 марта 2026 года проект iXBT.photo прекратит свою работу и будет закрыт. Мы высоко ценим ваше участие и тот вклад, который вы внесли в развитие нашего сообщества. Пожалуйста, не забудьте сохранить ваши фотографии до этой даты.
С уважением, команда iXBT.com
| 7D2C3428.jpg |
7D2C3428.jpg
- Раздел: Тесты фототехники
- Дата съёмки: 09.11.2012 02:12
- Дата загрузки фото: 19.01.2013 12:52
- Оригинальная фотография: 4072 x 4072 (3,2 Мб)
- Технические характеристики:
- Фотоаппарат: Kodak ProBack645
- Выдержка: 1/160
- Диафрагма: 4,0
- Светочувствительность: 100
- Полный EXIF
- Adobe
- ColorTransform: YCbCr
- Composite
- Aperture: 4,0
- ShutterSpeed: 1/160
- ExifIFD
- ApertureValue: 4,0
- ColorSpace: sRGB
- DateTimeOriginal: 2012:11:09 02:12:22
- ExifImageHeight: 4072
- ExifImageWidth: 4072
- ExposureCompensation: 0
- ExposureIndex: 100
- ExposureProgram: Program AE
- ExposureTime: 1/160
- FNumber: 4,0
- ISO: 100
- LightSource: Unknown
- MeteringMode: Unknown
- SensingMethod: One-chip color area
- ShutterSpeedValue: 1/160
- ICC-header
- ICC-meas
- ICC-view
- IFD0
- Make: Kodak
- Model: ProBack645
- ModifyDate: 2013:01:19 12:45:43
- Orientation: Horizontal (normal)
- IFD1
- IPTC
- DateCreated: 2012:11:09
- System
- XMP-aux
- ImageNumber: 3428
- SerialNumber: PB645H-00218
- XMP-crs
- AlreadyApplied: True
- BlueHue: 0
- BlueSaturation: 0
- Brightness: +50
- CameraProfile: ACR 4.4
- ChromaticAberrationB: 0
- ChromaticAberrationR: 0
- Clarity: 0
- ColorNoiseReduction: 25
- ColorNoiseReductionDetail: 50
- Contrast: +25
- ConvertToGrayscale: False
- Defringe: 0
- Exposure: 0.00
- FillLight: 0
- GrainAmount: 0
- GreenHue: 0
- GreenSaturation: 0
- HasCrop: False
- HasSettings: True
- HighlightRecovery: 0
- HueAdjustmentAqua: 0
- HueAdjustmentBlue: 0
- HueAdjustmentGreen: 0
- HueAdjustmentMagenta: 0
- HueAdjustmentOrange: 0
- HueAdjustmentPurple: 0
- HueAdjustmentRed: 0
- HueAdjustmentYellow: 0
- LuminanceAdjustmentAqua: 0
- LuminanceAdjustmentBlue: 0
- LuminanceAdjustmentGreen: 0
- LuminanceAdjustmentMagenta: 0
- LuminanceAdjustmentOrange: 0
- LuminanceAdjustmentPurple: 0
- LuminanceAdjustmentRed: 0
- LuminanceAdjustmentYellow: 0
- LuminanceSmoothing: 0
- ParametricDarks: -44
- ParametricHighlightSplit: 75
- ParametricHighlights: 0
- ParametricLights: +14
- ParametricMidtoneSplit: 50
- ParametricShadowSplit: 25
- ParametricShadows: 0
- PostCropVignetteAmount: 0
- ProcessVersion: 5.7
- RawFileName: 7D2C3428.DCR
- RedHue: 0
- RedSaturation: 0
- Saturation: 0
- SaturationAdjustmentAqua: 0
- SaturationAdjustmentBlue: 0
- SaturationAdjustmentGreen: 0
- SaturationAdjustmentMagenta: 0
- SaturationAdjustmentOrange: 0
- SaturationAdjustmentPurple: 0
- SaturationAdjustmentRed: 0
- SaturationAdjustmentYellow: 0
- ShadowTint: 0
- Shadows: 0
- SharpenDetail: 25
- SharpenEdgeMasking: 0
- SharpenRadius: +1.0
- Sharpness: 25
- SplitToningBalance: 0
- SplitToningHighlightHue: 0
- SplitToningHighlightSaturation: 0
- SplitToningShadowHue: 0
- SplitToningShadowSaturation: 0
- Temperature: 5200
- Tint: -8
- ToneCurve: 0, 0, 32, 22, 64, 56, 128, 128, 192, 196, 255, 255
- ToneCurveName: Medium Contrast
- Version: 6.0
- Vibrance: 0
- VignetteAmount: 0
- WhiteBalance: As Shot
- XMP-dc
- XMP-xmp
- CreateDate: 2012:11:09 02:12:22+04:00
- CreatorTool: 3.3.7
- ModifyDate: 2013:01:19 12:45:43+04:00
- Rating: 0
- XMP-xmpMM
- Просмотров: 210
- Рейтинг: голосов еще нет
- Отзывов: 0
Получить код для блога
| Вставка фотографии в текущем разрешении |
Вставка миниатюры |
HTML (для вставки в блог):
BBCode (для вставки в форум):
Ссылка на фото:
Ссылка на миниатюру:
- Послать ссылку другу
| Комментарии к фотографии |