- Раздел: Другое, разное
- Дата съёмки: 18.01.2013 11:04
- Дата загрузки фото: 24.01.2013 21:49
- Оригинальная фотография: 2331 x 3263 (4,6 Мб)
- Технические характеристики:
- Фотоаппарат: Nikon 1 V1
- Выдержка: 1/125
- Гиперфокальное расстояние: inf m
- Диафрагма: 3,5
- Светочувствительность: 200
- Фокусное расстояние: 11,0 mm (35 mm equivalent: 22,0 mm)
- Экспокоррекция: -1/3
- Полный EXIF
- Adobe
- ColorTransform: YCbCr
- Composite
- Aperture: 3,5
- CircleOfConfusion: 0,011 mm
- DOF: inf (0,00 m - inf)
- FOV: 78,0 deg
- FocalLength35efl: 11,0 mm (35 mm equivalent: 22,0 mm)
- HyperfocalDistance: inf m
- ScaleFactor35efl: 2,6
- ShutterSpeed: 1/125
- ExifIFD
- ApertureValue: 3,5
- Contrast: Normal
- CreateDate: 2013:01:18 11:04:20
- CustomRendered: Normal
- DateTimeOriginal: 2013:01:18 11:04:20
- DigitalZoomRatio: 1
- ExposureCompensation: -1/3
- ExposureMode: Auto
- ExposureProgram: Program AE
- ExposureTime: 1/125
- FNumber: 3,5
- Flash: No Flash
- FocalLength: 11,0 mm
- FocalLengthIn35mmFormat: 29 mm
- GainControl: None
- ISO: 200
- LensInfo: 10-30mm f/3.5-5.6
- LensModel: 1 NIKKOR VR 10-30mm f/3.5-5.6
- LightSource: Unknown
- MaxApertureValue: 3,5
- MeteringMode: Multi-segment
- Saturation: Normal
- SceneCaptureType: Portrait
- SceneType: Directly photographed
- SensingMethod: One-chip color area
- SensitivityType: Recommended Exposure Index
- SerialNumber: 82021752
- Sharpness: Normal
- ShutterSpeedValue: 1/125
- SubjectDistance: 7,5 m
- SubjectDistanceRange: Unknown
- WhiteBalance: Auto
- ICC-header
- IFD0
- Make: NIKON CORPORATION
- Model: NIKON 1 V1
- ModifyDate: 2013:01:19 12:14:47
- IFD1
- IPTC
- DateCreated: 2013:01:18
- System
- XMP-aux
- ApproximateFocusDistance: 7,5
- ImageNumber: 3390
- Lens: 1 NIKKOR VR 10-30mm f/3.5-5.6
- XMP-crs
- AlreadyApplied: True
- AutoLateralCA: 1
- Blacks2012: 0
- BlueHue: 0
- BlueSaturation: 0
- Brightness: +50
- CameraProfile: Camera Portrait
- Clarity: 0
- Clarity2012: 0
- ColorNoiseReduction: 25
- ColorNoiseReductionDetail: 50
- Contrast: +34
- Contrast2012: 0
- ConvertToGrayscale: False
- CropAngle: 1.757964
- CropBottom: 0.96868
- CropConstrainToWarp: 0
- CropHeight: 7
- CropLeft: 0.032834
- CropRight: 0.856661
- CropTop: 0.03132
- CropUnit: Unknown (3)
- CropWidth: 5
- Defringe: 0
- Exposure: 0.00
- Exposure2012: 0.00
- FillLight: 13
- GrainAmount: 0
- GreenHue: 0
- GreenSaturation: 0
- HasCrop: True
- HasSettings: True
- HighlightRecovery: 9
- Highlights2012: 0
- HueAdjustmentAqua: 0
- HueAdjustmentBlue: 0
- HueAdjustmentGreen: 0
- HueAdjustmentMagenta: 0
- HueAdjustmentOrange: 0
- HueAdjustmentPurple: 0
- HueAdjustmentRed: 0
- HueAdjustmentYellow: 0
- LensManualDistortionAmount: 0
- LensProfileChromaticAberrationScale: 100
- LensProfileDistortionScale: 100
- LensProfileEnable: 1
- LensProfileFilename: NIKON 1 J1 (Nikon 1 NIKKOR VR 10-30mm f3.5-5.6) - RAW.lcp
- LensProfileSetup: LensDefaults
- LensProfileVignettingScale: 100
- LuminanceAdjustmentAqua: 0
- LuminanceAdjustmentBlue: 0
- LuminanceAdjustmentGreen: 0
- LuminanceAdjustmentMagenta: 0
- LuminanceAdjustmentOrange: 0
- LuminanceAdjustmentPurple: 0
- LuminanceAdjustmentRed: 0
- LuminanceAdjustmentYellow: 0
- LuminanceNoiseReductionContrast: 0
- LuminanceNoiseReductionDetail: 50
- LuminanceSmoothing: 11
- ParametricDarks: 0
- ParametricHighlightSplit: 75
- ParametricHighlights: 0
- ParametricLights: 0
- ParametricMidtoneSplit: 50
- ParametricShadowSplit: 25
- ParametricShadows: 0
- PerspectiveHorizontal: 0
- PerspectiveRotate: 0.0
- PerspectiveScale: 100
- PerspectiveVertical: 0
- PostCropVignetteAmount: 0
- ProcessVersion: 5.7
- RawFileName: DSC_3446.NEF
- RedHue: 0
- RedSaturation: 0
- Saturation: 0
- SaturationAdjustmentAqua: 0
- SaturationAdjustmentBlue: 0
- SaturationAdjustmentGreen: 0
- SaturationAdjustmentMagenta: 0
- SaturationAdjustmentOrange: 0
- SaturationAdjustmentPurple: 0
- SaturationAdjustmentRed: 0
- SaturationAdjustmentYellow: 0
- ShadowTint: 0
- Shadows: 5
- Shadows2012: 0
- SharpenDetail: 25
- SharpenEdgeMasking: 0
- SharpenRadius: +1.0
- Sharpness: 39
- SplitToningBalance: 0
- SplitToningHighlightHue: 0
- SplitToningHighlightSaturation: 0
- SplitToningShadowHue: 0
- SplitToningShadowSaturation: 0
- Temperature: 3550
- Tint: -3
- ToneCurve: 0, 0, 32, 22, 64, 56, 128, 128, 192, 196, 255, 255
- ToneCurveBlue: 0, 0, 255, 255
- ToneCurveGreen: 0, 0, 255, 255
- ToneCurveName: Medium Contrast
- ToneCurveName2012: Linear
- ToneCurvePV2012: 0, 0, 255, 255
- ToneCurvePV2012Blue: 0, 0, 255, 255
- ToneCurvePV2012Green: 0, 0, 255, 255
- ToneCurvePV2012Red: 0, 0, 255, 255
- ToneCurveRed: 0, 0, 255, 255
- Version: 6.7
- Vibrance: 0
- VignetteAmount: 0
- WhiteBalance: As Shot
- Whites2012: 0
- XMP-dc
- XMP-xmp
- CreateDate: 2013:01:18 11:04:20.00
- ModifyDate: 2013:01:19 12:14:47+02:00
- XMP-xmpMM
- Просмотров: 326
- Рейтинг: голосов еще нет
- Отзывов: отключены