- Раздел: Животные
- Дата съёмки: 05.02.2013 13:01
- Дата загрузки фото: 05.02.2013 20:50
- Оригинальная фотография: 1680 x 1200 (515 Кб)
- Технические характеристики:
- Фотоаппарат: Nikon D600
- Выдержка: 1/2000
- Гиперфокальное расстояние: inf m
- Диафрагма: 7,1
- Светочувствительность: 3200
- Фокусное расстояние: 300,0 mm (35 mm equivalent: 300,0 mm)
- Полный EXIF
- Adobe
- ColorTransform: YCbCr
- Composite
- Aperture: 7,1
- CircleOfConfusion: 0,030 mm
- FOV: 6,0 deg
- Flash: Off, Did not fire
- FocalLength35efl: 300,0 mm (35 mm equivalent: 300,0 mm)
- HyperfocalDistance: inf m
- LensID: AF-S VR Zoom-Nikkor 70-300mm f/4.5-5.6G IF-ED
- ScaleFactor35efl: 1,0
- ShutterSpeed: 1/2000
- ExifIFD
- ApertureValue: 7,1
- ColorSpace: sRGB
- Contrast: Normal
- CreateDate: 2013:02:05 13:01:44
- CustomRendered: Normal
- DateTimeOriginal: 2013:02:05 13:01:44
- DigitalZoomRatio: 1
- ExifImageHeight: 1200
- ExifImageWidth: 1680
- ExposureCompensation: 0
- ExposureMode: Manual
- ExposureProgram: Manual
- ExposureTime: 1/2000
- FNumber: 7,1
- FocalLength: 300,0 mm
- FocalLengthIn35mmFormat: 300 mm
- GainControl: High gain up
- ISO: 3200
- LensInfo: 70-300mm f/4.5-5.6
- LensModel: 70.0-300.0 mm f/4.5-5.6
- LightSource: Unknown
- MaxApertureValue: 5,7
- MeteringMode: Center-weighted average
- Saturation: Normal
- SceneCaptureType: Standard
- SceneType: Directly photographed
- SensingMethod: One-chip color area
- SensitivityType: Recommended Exposure Index
- SerialNumber: 6001529
- Sharpness: Normal
- ShutterSpeedValue: 1/2000
- SubjectDistanceRange: Unknown
- WhiteBalance: Auto
- ICC-header
- ICC-meas
- ICC-view
- IFD0
- BitsPerSample: 16 16 16
- ImageHeight: 1950
- ImageWidth: 2729
- Make: NIKON CORPORATION
- Model: NIKON D600
- ModifyDate: 2013:02:05 23:45:53
- Orientation: Horizontal (normal)
- PhotometricInterpretation: RGB
- PlanarConfiguration: Chunky
- SamplesPerPixel: 3
- IFD1
- IPTC
- DateCreated: 2013:02:05
- System
- XMP-aux
- ApproximateFocusDistance: 11,9
- ImageNumber: 1513
- Lens: 70.0-300.0 mm f/4.5-5.6
- LensID: 141
- XMP-crs
- AlreadyApplied: True
- AutoLateralCA: 0
- Blacks2012: -22
- BlueHue: 0
- BlueSaturation: 0
- Clarity2012: 0
- ColorNoiseReduction: 25
- ColorNoiseReductionDetail: 50
- ColorTemperature: 5000
- Contrast2012: 0
- ConvertToGrayscale: False
- CropAngle: 0
- CropBottom: 0.741458
- CropConstrainToWarp: 0
- CropHeight: 1950
- CropLeft: 0.349063
- CropRight: 0.802756
- CropTop: 0.256004
- CropUnit: pixels
- CropWidth: 2729
- DefringeGreenAmount: 0
- DefringeGreenHueHi: 60
- DefringeGreenHueLo: 40
- DefringePurpleAmount: 0
- DefringePurpleHueHi: 70
- DefringePurpleHueLo: 30
- Exposure2012: 0.00
- GrainAmount: 0
- GreenHue: 0
- GreenSaturation: 0
- HasCrop: True
- HasSettings: True
- Highlights2012: -14
- HueAdjustmentAqua: 0
- HueAdjustmentBlue: 0
- HueAdjustmentGreen: 0
- HueAdjustmentMagenta: 0
- HueAdjustmentOrange: 0
- HueAdjustmentPurple: 0
- HueAdjustmentRed: 0
- HueAdjustmentYellow: 0
- LensManualDistortionAmount: 0
- LensProfileEnable: 0
- LensProfileSetup: LensDefaults
- LuminanceAdjustmentAqua: 0
- LuminanceAdjustmentBlue: 0
- LuminanceAdjustmentGreen: 0
- LuminanceAdjustmentMagenta: 0
- LuminanceAdjustmentOrange: 0
- LuminanceAdjustmentPurple: 0
- LuminanceAdjustmentRed: 0
- LuminanceAdjustmentYellow: 0
- LuminanceNoiseReductionContrast: 0
- LuminanceNoiseReductionDetail: 50
- LuminanceSmoothing: 30
- ParametricDarks: 0
- ParametricHighlightSplit: 75
- ParametricHighlights: 0
- ParametricLights: 0
- ParametricMidtoneSplit: 50
- ParametricShadowSplit: 25
- ParametricShadows: 0
- PerspectiveHorizontal: 0
- PerspectiveRotate: 0.0
- PerspectiveScale: 100
- PerspectiveVertical: 0
- PostCropVignetteAmount: 0
- ProcessVersion: 6.7
- RedHue: 0
- RedSaturation: 0
- Saturation: 0
- SaturationAdjustmentAqua: 0
- SaturationAdjustmentBlue: 0
- SaturationAdjustmentGreen: 0
- SaturationAdjustmentMagenta: 0
- SaturationAdjustmentOrange: 0
- SaturationAdjustmentPurple: 0
- SaturationAdjustmentRed: 0
- SaturationAdjustmentYellow: 0
- ShadowTint: 0
- Shadows2012: +34
- SharpenDetail: 25
- SharpenEdgeMasking: 0
- SharpenRadius: +1.0
- Sharpness: 25
- SplitToningBalance: 0
- SplitToningHighlightHue: 0
- SplitToningHighlightSaturation: 0
- SplitToningShadowHue: 0
- SplitToningShadowSaturation: 0
- Tint: -5
- ToneCurveName2012: Linear
- ToneCurvePV2012: 0, 0, 255, 255
- ToneCurvePV2012Blue: 0, 0, 255, 255
- ToneCurvePV2012Green: 0, 0, 255, 255
- ToneCurvePV2012Red: 0, 0, 255, 255
- Version: 7.3
- Vibrance: 0
- VignetteAmount: 0
- WhiteBalance: As Shot
- Whites2012: 0
- XMP-dc
- XMP-exif
- DateTimeOriginal: 2013:02:05 13:01:44+07:00
- FlashFired: False
- FlashFunction: False
- FlashMode: Off
- FlashRedEyeMode: False
- FlashReturn: No return detection
- XMP-tiff
- BitsPerSample: 16, 16, 16
- XMP-xmp
- CreateDate: 2013:02:05 13:01:44.40
- ModifyDate: 2013:02:05 23:45:53+07:00
- XMP-xmpMM